From mboxrd@z Thu Jan  1 00:00:00 1970
Return-Path: <test-report-bounces@dpdk.org>
Received: from mails.dpdk.org (mails.dpdk.org [217.70.189.124])
	by inbox.dpdk.org (Postfix) with ESMTP id B61D642B48
	for <public@inbox.dpdk.org>; Fri, 19 May 2023 12:44:32 +0200 (CEST)
Received: from mails.dpdk.org (localhost [127.0.0.1])
	by mails.dpdk.org (Postfix) with ESMTP id 960B541148;
	Fri, 19 May 2023 12:44:32 +0200 (CEST)
Received: from mail-il1-f228.google.com (mail-il1-f228.google.com
 [209.85.166.228])
 by mails.dpdk.org (Postfix) with ESMTP id 5736C41148
 for <test-report@dpdk.org>; Fri, 19 May 2023 12:44:31 +0200 (CEST)
Received: by mail-il1-f228.google.com with SMTP id
 e9e14a558f8ab-335394455ecso23481515ab.1
 for <test-report@dpdk.org>; Fri, 19 May 2023 03:44:31 -0700 (PDT)
DKIM-Signature: v=1; a=rsa-sha256; c=relaxed/relaxed;
 d=iol.unh.edu; s=unh-iol; t=1684493070; x=1687085070;
 h=cc:to:from:subject:message-id:date:from:to:cc:subject:date
 :message-id:reply-to;
 bh=TAbJxsQ4u6tmVxWxJFWbh6lCVWtsKBxr3Cn0zaKSbGg=;
 b=KC5za/uShWhReezoKmEBan8cIBy08w2HmYtHBjoBaRsYrkKf1CNvISPyvDmv9L1swE
 eweih2PwzHBW+9dkEYZ0nUh/U9e79IQW3LuOCe0m/YY3ZAgr6w9JJ+fy47JXiwV5H4K3
 kJ+SSJF+0HCdNUEnGpyp8v5l2Swjzq2EL/QQA=
X-Google-DKIM-Signature: v=1; a=rsa-sha256; c=relaxed/relaxed;
 d=1e100.net; s=20221208; t=1684493070; x=1687085070;
 h=cc:to:from:subject:message-id:date:x-gm-message-state:from:to:cc
 :subject:date:message-id:reply-to;
 bh=TAbJxsQ4u6tmVxWxJFWbh6lCVWtsKBxr3Cn0zaKSbGg=;
 b=XEsY7SurNsg3R3j+T4ZHHoJU1NtHyeZ5J7NcKAzDvJt4fs/5YgIerSi0OgscdnTYex
 tfZcFw/erzumdmpxm7zxmFYYM8x6wCA4exAqhZl4wyJQhJlMSpj/1HHKKmydsWiPq67n
 49oPJZG4s02T6FbspQfMGOoIDL28r/P3eGZPLePK5kNyxXHoy15tTgXx38TSzQchnlSM
 cONltiOPDNqSbBeuxVewT8HNhX6zGmI7jEFTBc83Mr3FakZ9F/rdR+ByC5VKdSCGFAmQ
 71rBAm2SszOyIydIvj0GsqOZUAjAGLaJihWr4ueJ6mg2pKCfwzYJIr7TyUyMFZ2ZmE+S
 P18w==
X-Gm-Message-State: AC+VfDyxpnBrV1ku0LdYDmRROMySzGWe98NDKDVy3tDYtV1HyqWW11Ab
 mFqv0+7T0sjHSyeS+Ridga43LtoIUGMUA7Au7SoZaL2/VAv/UfMIEqo4/gSE+/cnDgdpaIc2+A=
 =
X-Google-Smtp-Source: ACHHUZ4TSiHDVVYIuUGGoja9g5jBD2a2mq6OfDY6XPQVI6SAgHry4cxXbcPV6dk4Do1Ao4CpeghRKTOvjoRK
X-Received: by 2002:a92:cc43:0:b0:32b:4d92:2b8 with SMTP id
 t3-20020a92cc43000000b0032b4d9202b8mr816960ilq.26.1684493070779; 
 Fri, 19 May 2023 03:44:30 -0700 (PDT)
Received: from postal.iol.unh.edu (postal.iol.unh.edu.
 [2606:4100:3880:1234::84]) by smtp-relay.gmail.com with ESMTPS id
 i23-20020a02b697000000b0041196e31065sm114659jam.74.2023.05.19.03.44.30
 (version=TLS1_2 cipher=ECDHE-ECDSA-AES128-GCM-SHA256 bits=128/128);
 Fri, 19 May 2023 03:44:30 -0700 (PDT)
X-Relaying-Domain: iol.unh.edu
Date: Fri, 19 May 2023 03:44:30 -0700 (PDT)
Message-ID: <6467530e.020a0220.5bfe0.68f3SMTPIN_ADDED_MISSING@mx.google.com>
Received: from [172.17.0.2] (unknown [172.18.0.34])
 by postal.iol.unh.edu (Postfix) with ESMTP id 4727E605246B;
 Fri, 19 May 2023 06:44:30 -0400 (EDT)
Subject: |SUCCESS| pw127046-127049 [PATCH] [v2,
 5/5] ethdev: add MPLS header modification support
From: dpdklab@iol.unh.edu
To: Test Report <test-report@dpdk.org>
Cc: dpdk-test-reports@iol.unh.edu
Content-Type: text/plain
X-BeenThere: test-report@dpdk.org
X-Mailman-Version: 2.1.29
Precedence: list
List-Id: automatic DPDK test reports <test-report.dpdk.org>
List-Unsubscribe: <https://mails.dpdk.org/options/test-report>,
 <mailto:test-report-request@dpdk.org?subject=unsubscribe>
List-Archive: <http://mails.dpdk.org/archives/test-report/>
List-Post: <mailto:test-report@dpdk.org>
List-Help: <mailto:test-report-request@dpdk.org?subject=help>
List-Subscribe: <https://mails.dpdk.org/listinfo/test-report>,
 <mailto:test-report-request@dpdk.org?subject=subscribe>
Errors-To: test-report-bounces@dpdk.org

Test-Label: iol-aarch64-compile-testing
Test-Status: SUCCESS
http://dpdk.org/patch/127049

_Testing PASS_

Submitter: Michael Baum <michaelba@nvidia.com>
Date: Thursday, May 18 2023 17:40:15 
DPDK git baseline: Repo:dpdk
  Branch: master
  CommitID:a399d7b5a994e335c446d4b15d7622d71dd8848c

127046-127049 --> testing pass

Test environment and result as below:

+----------------------------------------+--------------------+
|              Environment               | dpdk_meson_compile |
+========================================+====================+
| Ubuntu 20.04 ARM GCC Native            | PASS               |
+----------------------------------------+--------------------+
| Ubuntu 20.04 ARM Clang Native          | PASS               |
+----------------------------------------+--------------------+
| Ubuntu 20.04 aarch32 GCC Cross Compile | PASS               |
+----------------------------------------+--------------------+
| Ubuntu 20.04 ARM Clang Cross Compile   | PASS               |
+----------------------------------------+--------------------+
| Ubuntu 20.04 ARM GCC Cross Compile     | PASS               |
+----------------------------------------+--------------------+
| Ubuntu 20.04 ARM SVE                   | PASS               |
+----------------------------------------+--------------------+


Ubuntu 20.04 ARM GCC Native
	Kernel: 5.4.0-53-generic
	Compiler: gcc 9.3

Ubuntu 20.04 ARM Clang Native
	Kernel: 5.4.0-53-generic
	Compiler: clang 10.0.0-4ubuntu1

Ubuntu 20.04 aarch32 GCC Cross Compile
	Kernel: 5.4.0-72-generic
	Compiler: gcc 9.3.0

Ubuntu 20.04 ARM Clang Cross Compile
	Kernel: 5.4.0-72-generic
	Compiler: clang version 10.0.0-4ubuntu1

Ubuntu 20.04 ARM GCC Cross Compile
	Kernel: 5.4.0-72-generic
	Compiler: aarch64-linux-gnu-gcc (Ubuntu 9.3.0-17ubuntu1~20.04) 9.3.0

Ubuntu 20.04 ARM SVE
	Kernel: 5.4.0-80-generic
	Compiler: gcc 10.3.0 (Ubuntu 10.3.0-1ubuntu1~20.04)

To view detailed results, visit:
https://lab.dpdk.org/results/dashboard/patchsets/26291/

UNH-IOL DPDK Community Lab

To manage your email subscriptions, visit: 
https://lab.dpdk.org/results/dashboard/preferences/subscriptions/