From mboxrd@z Thu Jan  1 00:00:00 1970
Return-Path: <test-report-bounces@dpdk.org>
Received: from mails.dpdk.org (mails.dpdk.org [217.70.189.124])
	by inbox.dpdk.org (Postfix) with ESMTP id C351E42B48
	for <public@inbox.dpdk.org>; Fri, 19 May 2023 13:04:36 +0200 (CEST)
Received: from mails.dpdk.org (localhost [127.0.0.1])
	by mails.dpdk.org (Postfix) with ESMTP id A42E842BC9;
	Fri, 19 May 2023 13:04:36 +0200 (CEST)
Received: from mail-yw1-f225.google.com (mail-yw1-f225.google.com
 [209.85.128.225])
 by mails.dpdk.org (Postfix) with ESMTP id 9B91C42BC9
 for <test-report@dpdk.org>; Fri, 19 May 2023 13:04:35 +0200 (CEST)
Received: by mail-yw1-f225.google.com with SMTP id
 00721157ae682-561d611668eso39320067b3.0
 for <test-report@dpdk.org>; Fri, 19 May 2023 04:04:35 -0700 (PDT)
DKIM-Signature: v=1; a=rsa-sha256; c=relaxed/relaxed;
 d=iol.unh.edu; s=unh-iol; t=1684494275; x=1687086275;
 h=cc:to:from:subject:message-id:date:from:to:cc:subject:date
 :message-id:reply-to;
 bh=8I4XV0LHMn3BhX5imzVojpfzZsM1cgFJ/gbydT6Z3gM=;
 b=KA2ue9thruYAe6KdQ1ueu43mRmCNox5th5JdxNm7y54uyzg1F+Z/HPVui+u4FokAPZ
 aR2yLtMT2CpvDPpRBRFeOKCks3e1zuh6HEEKExyViGBUomSMV3WDsUrFI/gfbx3SMe3J
 /MJ9VltxldFAnD8FAuuelAo+s1ADDg/a/hVLA=
X-Google-DKIM-Signature: v=1; a=rsa-sha256; c=relaxed/relaxed;
 d=1e100.net; s=20221208; t=1684494275; x=1687086275;
 h=cc:to:from:subject:message-id:date:x-gm-message-state:from:to:cc
 :subject:date:message-id:reply-to;
 bh=8I4XV0LHMn3BhX5imzVojpfzZsM1cgFJ/gbydT6Z3gM=;
 b=Ii1i5QMHtTsYGXi/h/P5mHSLvnM+iFafuhOyajRH4D4GdDMRwe7tfdHWHui7ggHzuM
 38J3PNoEsmvGYcLftYAoJaozSaMwHWEfJ84tXQjTrkIcUN+kSmXp+qh4+WPW/wOMTFAa
 86XVbZGvDYFCm8B1cB+baj0NNWOtkCZOqi4RKeSWxlRIZ+JwC9idF+Yu742j1GytGqAL
 SUuOgkrirhYk1c48DFKshH4JCuebw/96fzqd291sgvtXlrRomU8nkABDrBdp6rHvNxUu
 QhuvCbiNEodJ+wAFal7TxAjQaBep9MQBDarlKNgkwZDclR76nx5W5NOsVrsHbYUvUMoI
 DStQ==
X-Gm-Message-State: AC+VfDy2cuGz29q5KPh1I8aTlDX/IrWvPYJb2U4xT8D+4YOHNP3r8aYB
 ZINvaqpK5vxfM1Ki/BOmP3Gx8/+HoBa0zN/gbJRhLxTxcEzErG1+jxiovg==
X-Google-Smtp-Source: ACHHUZ4By9sLGfAPc8NbI7eJVuKcDPMuz73X/AMcPgxzBKhL672sxvnEybnTL/X3Hac7Db/6JSSZRT5SeQGt
X-Received: by 2002:a81:61d7:0:b0:560:bb81:6e8 with SMTP id
 v206-20020a8161d7000000b00560bb8106e8mr1551786ywb.51.1684494275076; 
 Fri, 19 May 2023 04:04:35 -0700 (PDT)
Received: from postal.iol.unh.edu (postal.iol.unh.edu. [132.177.123.84])
 by smtp-relay.gmail.com with ESMTPS id
 z125-20020a0df083000000b00561beeedbf6sm171602ywe.23.2023.05.19.04.04.35
 (version=TLS1_2 cipher=ECDHE-ECDSA-AES128-GCM-SHA256 bits=128/128);
 Fri, 19 May 2023 04:04:35 -0700 (PDT)
X-Relaying-Domain: iol.unh.edu
Date: Fri, 19 May 2023 04:04:35 -0700 (PDT)
Message-ID: <646757c3.0d0a0220.e8d41.b272SMTPIN_ADDED_MISSING@mx.google.com>
Received: from [172.17.0.2] (unknown [172.18.0.34])
 by postal.iol.unh.edu (Postfix) with ESMTP id B1234605246B;
 Fri, 19 May 2023 07:04:34 -0400 (EDT)
Subject: |SUCCESS| pw127084 [PATCH] doc: announce inclusive naming function
 name changes
From: dpdklab@iol.unh.edu
To: Test Report <test-report@dpdk.org>
Cc: dpdk-test-reports@iol.unh.edu
Content-Type: text/plain
X-BeenThere: test-report@dpdk.org
X-Mailman-Version: 2.1.29
Precedence: list
List-Id: automatic DPDK test reports <test-report.dpdk.org>
List-Unsubscribe: <https://mails.dpdk.org/options/test-report>,
 <mailto:test-report-request@dpdk.org?subject=unsubscribe>
List-Archive: <http://mails.dpdk.org/archives/test-report/>
List-Post: <mailto:test-report@dpdk.org>
List-Help: <mailto:test-report-request@dpdk.org?subject=help>
List-Subscribe: <https://mails.dpdk.org/listinfo/test-report>,
 <mailto:test-report-request@dpdk.org?subject=subscribe>
Errors-To: test-report-bounces@dpdk.org

Test-Label: iol-abi-testing
Test-Status: SUCCESS
http://dpdk.org/patch/127084

_Testing PASS_

Submitter: Chaoyong He <chaoyong.he@corigine.com>
Date: Friday, May 19 2023 06:33:34 
DPDK git baseline: Repo:dpdk
  Branch: master
  CommitID:a399d7b5a994e335c446d4b15d7622d71dd8848c

127084 --> testing pass

Test environment and result as below:

+------------------+----------+
|   Environment    | abi_test |
+==================+==========+
| Ubuntu 22.04     | PASS     |
+------------------+----------+
| Debian Bullseye  | PASS     |
+------------------+----------+
| openSUSE Leap 15 | PASS     |
+------------------+----------+


Ubuntu 22.04
	Kernel: Container Host Kernel
	Compiler: gcc 11.3.1-2

Debian Bullseye
	Kernel: 5.4.0-122-generic
	Compiler: gcc 10.2.1-6

openSUSE Leap 15
	Kernel: 4.18.0-240.10.1.el8_3.x86_64
	Compiler: gcc 7.5.0

To view detailed results, visit:
https://lab.dpdk.org/results/dashboard/patchsets/26303/

UNH-IOL DPDK Community Lab

To manage your email subscriptions, visit: 
https://lab.dpdk.org/results/dashboard/preferences/subscriptions/