From mboxrd@z Thu Jan  1 00:00:00 1970
Return-Path: <test-report-bounces@dpdk.org>
Received: from mails.dpdk.org (mails.dpdk.org [217.70.189.124])
	by inbox.dpdk.org (Postfix) with ESMTP id 0A33F42B48
	for <public@inbox.dpdk.org>; Fri, 19 May 2023 13:12:25 +0200 (CEST)
Received: from mails.dpdk.org (localhost [127.0.0.1])
	by mails.dpdk.org (Postfix) with ESMTP id EAB104282D;
	Fri, 19 May 2023 13:12:24 +0200 (CEST)
Received: from mail-pf1-f225.google.com (mail-pf1-f225.google.com
 [209.85.210.225])
 by mails.dpdk.org (Postfix) with ESMTP id AEE074282D
 for <test-report@dpdk.org>; Fri, 19 May 2023 13:12:23 +0200 (CEST)
Received: by mail-pf1-f225.google.com with SMTP id
 d2e1a72fcca58-64d11974b45so1424126b3a.2
 for <test-report@dpdk.org>; Fri, 19 May 2023 04:12:23 -0700 (PDT)
DKIM-Signature: v=1; a=rsa-sha256; c=relaxed/relaxed;
 d=iol.unh.edu; s=unh-iol; t=1684494743; x=1687086743;
 h=cc:to:from:subject:message-id:date:from:to:cc:subject:date
 :message-id:reply-to;
 bh=k55jDmdn8cVECTDI7dOf893NEIcG+plGAxIJffY5QQA=;
 b=WRwAJXyZ78yHEHL8vzlMcLsA6V53WTfa/NI/OJSWXYYo/QoBsCMFWxcrvTVvbQbdAW
 kgKz9+7hgJ9Jrk3UXy7a8bSsKK3eQzYgBbaZxvrzLFkMm/HRZbNM2uranJ1R72ve7sB4
 spzDxvX8NB0Mv7psiTdZ7OfgpRBSaW2+q3hwo=
X-Google-DKIM-Signature: v=1; a=rsa-sha256; c=relaxed/relaxed;
 d=1e100.net; s=20221208; t=1684494743; x=1687086743;
 h=cc:to:from:subject:message-id:date:x-gm-message-state:from:to:cc
 :subject:date:message-id:reply-to;
 bh=k55jDmdn8cVECTDI7dOf893NEIcG+plGAxIJffY5QQA=;
 b=ltaqVKsDp7qFqZtNYhUvRpxeHLmooRcFdl5HC5/x29pqQqLrln0hUCWSrUg1+38Gi5
 0T1j7AwQ11ElFBjuaBtsnkbQNyZDjtABz7X6y/NJ0JCXqtr7eqydchh5lb5QMLKiEMg8
 ENX2mrGdrVDPoyJT3pDucqcSTDGq9xX+MLdeP1g0LoNtC/fdZbepowYwbl/aiZzzZlG6
 2GDxQlf58EdyliuZRXbeaHpUBQ5jH85l/uau1fJunt1hSHDXNkop5kx3EuQKxfIGMOsO
 dXDT8SFQutNsbgM6GVCJmdp3rn3g3RVAoQFAONAYr54guObMQsRMxOzwNoPAjYOA/tOS
 +zKQ==
X-Gm-Message-State: AC+VfDwmTvIJaPTLH2hhZ0Cc9BmRj55Hjo9aKs1HhJCPAogJDBmShZVo
 g9kdJb2Ql90n+KeShXINR4Ex8bRDe6J7P0Iy7m8zvQ3t1iEzMox/kne/LA==
X-Google-Smtp-Source: ACHHUZ7Gp97tBdbtv1y73hzGMcLPWBXbqkqZGcJ1Me16hyfiTcS79e1nPyJCfZS0KtQQLjUJ/V+wJHME6AB0
X-Received: by 2002:a05:6a21:3299:b0:101:4348:3e4e with SMTP id
 yt25-20020a056a21329900b0010143483e4emr1882211pzb.42.1684494742904; 
 Fri, 19 May 2023 04:12:22 -0700 (PDT)
Received: from postal.iol.unh.edu (postal.iol.unh.edu. [132.177.123.84])
 by smtp-relay.gmail.com with ESMTPS id
 8-20020a631948000000b0052cc2649f42sm134679pgz.1.2023.05.19.04.12.22
 (version=TLS1_2 cipher=ECDHE-ECDSA-AES128-GCM-SHA256 bits=128/128);
 Fri, 19 May 2023 04:12:22 -0700 (PDT)
X-Relaying-Domain: iol.unh.edu
Date: Fri, 19 May 2023 04:12:22 -0700 (PDT)
Message-ID: <64675996.630a0220.b8f27.856aSMTPIN_ADDED_MISSING@mx.google.com>
Received: from [172.17.0.2] (unknown [172.18.0.34])
 by postal.iol.unh.edu (Postfix) with ESMTP id A589B605246B;
 Fri, 19 May 2023 07:12:21 -0400 (EDT)
Subject: |SUCCESS| pw127024-127042 [PATCH] [v2,
 19/19] Remove use of term sanity check
From: dpdklab@iol.unh.edu
To: Test Report <test-report@dpdk.org>
Cc: dpdk-test-reports@iol.unh.edu
Content-Type: text/plain
X-BeenThere: test-report@dpdk.org
X-Mailman-Version: 2.1.29
Precedence: list
List-Id: automatic DPDK test reports <test-report.dpdk.org>
List-Unsubscribe: <https://mails.dpdk.org/options/test-report>,
 <mailto:test-report-request@dpdk.org?subject=unsubscribe>
List-Archive: <http://mails.dpdk.org/archives/test-report/>
List-Post: <mailto:test-report@dpdk.org>
List-Help: <mailto:test-report-request@dpdk.org?subject=help>
List-Subscribe: <https://mails.dpdk.org/listinfo/test-report>,
 <mailto:test-report-request@dpdk.org?subject=subscribe>
Errors-To: test-report-bounces@dpdk.org

Test-Label: iol-x86_64-compile-testing
Test-Status: SUCCESS
http://dpdk.org/patch/127042

_Testing PASS_

Submitter: Stephen Hemminger <stephen@networkplumber.org>
Date: Thursday, May 18 2023 16:45:46 
DPDK git baseline: Repo:dpdk
  Branch: master
  CommitID:a399d7b5a994e335c446d4b15d7622d71dd8848c

127024-127042 --> testing pass

Test environment and result as below:

+------------------+--------------------+
|   Environment    | dpdk_meson_compile |
+==================+====================+
| FreeBSD 13       | PASS               |
+------------------+--------------------+
| CentOS Stream 9  | PASS               |
+------------------+--------------------+
| CentOS Stream 8  | PASS               |
+------------------+--------------------+
| Debian Buster    | PASS               |
+------------------+--------------------+
| Ubuntu 22.04     | PASS               |
+------------------+--------------------+
| RHEL 7           | PASS               |
+------------------+--------------------+
| Debian Bullseye  | PASS               |
+------------------+--------------------+
| openSUSE Leap 15 | PASS               |
+------------------+--------------------+
| RHEL8            | PASS               |
+------------------+--------------------+
| Ubuntu 20.04     | PASS               |
+------------------+--------------------+
| Alpine           | PASS               |
+------------------+--------------------+


FreeBSD 13
	Kernel: 13.0
	Compiler: clang 11.0.1

CentOS Stream 9
	Kernel: 4.18.0-240.10.1.el8_3.x86_64
	Compiler: gcc 11.3.1 20220421

CentOS Stream 8
	Kernel: 4.18.0-240.10.1.el8_3.x86_64
	Compiler: gcc 8.4.1 20200928

Debian Buster
	Kernel: 5.4.0-122-generic
	Compiler: gcc 8.3.0-6

Ubuntu 22.04
	Kernel: Container Host Kernel
	Compiler: clang 14.0.5-1.fc36

RHEL 7
	Kernel: 4.18.0-240.10.1.el8_3.x86_64
	Compiler: gcc 4.8.5 20150623 (Red Hat 4.8.5-44)

Debian Bullseye
	Kernel: 5.4.0-122-generic
	Compiler: gcc 10.2.1-6

openSUSE Leap 15
	Kernel: 4.18.0-240.10.1.el8_3.x86_64
	Compiler: gcc 7.5.0

RHEL8
	Kernel: 4.18.0-240.10.1.el8_3.x86_64
	Compiler: gcc 8.3.1 20191121 (Red Hat 8.3.1-5)

Ubuntu 20.04
	Kernel: 4.18.0-240.10.1.el8_3.x86_64
	Compiler: gcc 9.3.0-17ubuntu1~20.04

Alpine
	Kernel: 5.4.0-73-generic
	Compiler: gcc (Alpine 10.3.1_git20210424) 10.3.1 20210424

To view detailed results, visit:
https://lab.dpdk.org/results/dashboard/patchsets/26289/

UNH-IOL DPDK Community Lab

To manage your email subscriptions, visit: 
https://lab.dpdk.org/results/dashboard/preferences/subscriptions/