From mboxrd@z Thu Jan  1 00:00:00 1970
Return-Path: <test-report-bounces@dpdk.org>
Received: from mails.dpdk.org (mails.dpdk.org [217.70.189.124])
	by inbox.dpdk.org (Postfix) with ESMTP id 666DF42B49
	for <public@inbox.dpdk.org>; Fri, 19 May 2023 15:28:26 +0200 (CEST)
Received: from mails.dpdk.org (localhost [127.0.0.1])
	by mails.dpdk.org (Postfix) with ESMTP id 4678540A82;
	Fri, 19 May 2023 15:28:26 +0200 (CEST)
Received: from mail-vs1-f100.google.com (mail-vs1-f100.google.com
 [209.85.217.100])
 by mails.dpdk.org (Postfix) with ESMTP id 4724940A82
 for <test-report@dpdk.org>; Fri, 19 May 2023 15:28:25 +0200 (CEST)
Received: by mail-vs1-f100.google.com with SMTP id
 ada2fe7eead31-43931d2b92eso14735137.2
 for <test-report@dpdk.org>; Fri, 19 May 2023 06:28:25 -0700 (PDT)
DKIM-Signature: v=1; a=rsa-sha256; c=relaxed/relaxed;
 d=iol.unh.edu; s=unh-iol; t=1684502904; x=1687094904;
 h=cc:to:from:subject:message-id:date:from:to:cc:subject:date
 :message-id:reply-to;
 bh=WaKeRO1Ep7PSr7R64Zs7u+VaMQRXz55yShz81Iuw0Ds=;
 b=eZOKHVdhNxF+6hhwwvquE8SRVkh9xCi81Urso6Xrk+S/nUPMR0jnHEAq5DmbnB00uG
 ErvLQl4MxYuRBpqxdpdC4LaSX6tL6EGzJFLve4zVC7sYH5O34tbRB/IZUEm8hoPZHuLM
 io9wyvUABB5uWKE5QZJy8c/MFVCdRf4Delk7o=
X-Google-DKIM-Signature: v=1; a=rsa-sha256; c=relaxed/relaxed;
 d=1e100.net; s=20221208; t=1684502904; x=1687094904;
 h=cc:to:from:subject:message-id:date:x-gm-message-state:from:to:cc
 :subject:date:message-id:reply-to;
 bh=WaKeRO1Ep7PSr7R64Zs7u+VaMQRXz55yShz81Iuw0Ds=;
 b=IkeTIzdnpRdMNYkwWTGbEbhZBpUtNPTWgX4ycHXL2hJusyLWh6puungrqRTjgNARQT
 EUzwgePSSKk83oLoZVBKY8+ILFXDXnnrkPWldRmAh/Jd9K/F0zlGEesmsMVTEyj3UTAN
 Jr1x58ey/gXoSKG/m9mI6s2SFK7N5SPYz/QT85kScnPlkDQEH9zaesmwtNII/ttgH6mi
 h4VdTeEjB0yGVnDW/7AXmYcZHl6TC7RvKRyD0tXw3DlWL5jotbH1FQQgRqRVl+yNuYJp
 u0YNLayLoiiyj1c3bjfaj2rvPQq3deA5BDp9ffp/DaScFUhoUP1uR/O+fFm7WnU9M9DB
 ti+w==
X-Gm-Message-State: AC+VfDxjJHduIq28q7mvCyIB4FycZ4zzyoDxVLNwHoNdHzBjViqSZfhx
 m3H2ji7pVlMqOpo2IRkZGVENdQGg2fXk9ZhIkxLp65FqriwCrO81/+GCxw==
X-Google-Smtp-Source: ACHHUZ4jlBAX9XfeSLUSZjMF2Z2mYWKI4Wi2d4qkMRymGebpZIlp5L2ZB0lkE7BEEKPKSZwvduKbqWK91QbU
X-Received: by 2002:a67:e94f:0:b0:436:fe8:6b0e with SMTP id
 p15-20020a67e94f000000b004360fe86b0emr807267vso.8.1684502904649; 
 Fri, 19 May 2023 06:28:24 -0700 (PDT)
Received: from postal.iol.unh.edu (postal.iol.unh.edu. [132.177.123.84])
 by smtp-relay.gmail.com with ESMTPS id
 w22-20020ab06516000000b00784152cc8bcsm163793uam.11.2023.05.19.06.28.24
 (version=TLS1_2 cipher=ECDHE-ECDSA-AES128-GCM-SHA256 bits=128/128);
 Fri, 19 May 2023 06:28:24 -0700 (PDT)
X-Relaying-Domain: iol.unh.edu
Date: Fri, 19 May 2023 06:28:24 -0700 (PDT)
Message-ID: <64677978.b00a0220.16b1b.9e07SMTPIN_ADDED_MISSING@mx.google.com>
Received: from [172.17.0.3] (unknown [172.18.0.34])
 by postal.iol.unh.edu (Postfix) with ESMTP id 4C2E0605246B;
 Fri, 19 May 2023 09:28:24 -0400 (EDT)
Subject: |SUCCESS| pw127111 [PATCH] [v2] crypto/qat: default to IPsec MB for
 pre and post computes
From: dpdklab@iol.unh.edu
To: Test Report <test-report@dpdk.org>
Cc: dpdk-test-reports@iol.unh.edu
Content-Type: text/plain
X-BeenThere: test-report@dpdk.org
X-Mailman-Version: 2.1.29
Precedence: list
List-Id: automatic DPDK test reports <test-report.dpdk.org>
List-Unsubscribe: <https://mails.dpdk.org/options/test-report>,
 <mailto:test-report-request@dpdk.org?subject=unsubscribe>
List-Archive: <http://mails.dpdk.org/archives/test-report/>
List-Post: <mailto:test-report@dpdk.org>
List-Help: <mailto:test-report-request@dpdk.org?subject=help>
List-Subscribe: <https://mails.dpdk.org/listinfo/test-report>,
 <mailto:test-report-request@dpdk.org?subject=subscribe>
Errors-To: test-report-bounces@dpdk.org

Test-Label: iol-abi-testing
Test-Status: SUCCESS
http://dpdk.org/patch/127111

_Testing PASS_

Submitter: Brian Dooley <brian.dooley@intel.com>
Date: Friday, May 19 2023 10:50:54 
DPDK git baseline: Repo:dpdk
  Branch: master
  CommitID:a399d7b5a994e335c446d4b15d7622d71dd8848c

127111 --> testing pass

Test environment and result as below:

+-----------------+----------+
|   Environment   | abi_test |
+=================+==========+
| CentOS Stream 8 | PASS     |
+-----------------+----------+
| Ubuntu 22.04    | PASS     |
+-----------------+----------+
| RHEL 7          | PASS     |
+-----------------+----------+


CentOS Stream 8
	Kernel: 4.18.0-240.10.1.el8_3.x86_64
	Compiler: gcc 8.4.1 20200928

Ubuntu 22.04
	Kernel: Container Host Kernel
	Compiler: gcc 12.2.1-2

RHEL 7
	Kernel: 4.18.0-240.10.1.el8_3.x86_64
	Compiler: gcc 4.8.5 20150623 (Red Hat 4.8.5-44)

To view detailed results, visit:
https://lab.dpdk.org/results/dashboard/patchsets/26313/

UNH-IOL DPDK Community Lab

To manage your email subscriptions, visit: 
https://lab.dpdk.org/results/dashboard/preferences/subscriptions/