From mboxrd@z Thu Jan  1 00:00:00 1970
Return-Path: <test-report-bounces@dpdk.org>
Received: from mails.dpdk.org (mails.dpdk.org [217.70.189.124])
	by inbox.dpdk.org (Postfix) with ESMTP id 717ED42B49
	for <public@inbox.dpdk.org>; Fri, 19 May 2023 15:29:44 +0200 (CEST)
Received: from mails.dpdk.org (localhost [127.0.0.1])
	by mails.dpdk.org (Postfix) with ESMTP id 6D59A40A82;
	Fri, 19 May 2023 15:29:44 +0200 (CEST)
Received: from mail-ot1-f97.google.com (mail-ot1-f97.google.com
 [209.85.210.97]) by mails.dpdk.org (Postfix) with ESMTP id CAFF340A82
 for <test-report@dpdk.org>; Fri, 19 May 2023 15:29:43 +0200 (CEST)
Received: by mail-ot1-f97.google.com with SMTP id
 46e09a7af769-6ab13810d34so2393556a34.0
 for <test-report@dpdk.org>; Fri, 19 May 2023 06:29:43 -0700 (PDT)
DKIM-Signature: v=1; a=rsa-sha256; c=relaxed/relaxed;
 d=iol.unh.edu; s=unh-iol; t=1684502983; x=1687094983;
 h=cc:to:from:subject:message-id:date:from:to:cc:subject:date
 :message-id:reply-to;
 bh=WaKeRO1Ep7PSr7R64Zs7u+VaMQRXz55yShz81Iuw0Ds=;
 b=Nn7RuiNYCvuc6OcfDsmGK2ggsYZaNtHQAxfrhaI/bVEcKW9Nb2yjXl8IorFIPxl5KP
 KHqcsmNzTPHSpnWGXyqqEhTYpd5RKbJ6OiND2PGRN0c7l/iLb4bxSljCkZQutl2Oinds
 QJjnncsk6fV/q0mNK3BoE+JyoyjKn6Wfu2rsc=
X-Google-DKIM-Signature: v=1; a=rsa-sha256; c=relaxed/relaxed;
 d=1e100.net; s=20221208; t=1684502983; x=1687094983;
 h=cc:to:from:subject:message-id:date:x-gm-message-state:from:to:cc
 :subject:date:message-id:reply-to;
 bh=WaKeRO1Ep7PSr7R64Zs7u+VaMQRXz55yShz81Iuw0Ds=;
 b=gWu47huPcpdChcEytfKiBNSiwYzXuSYfj64yPvCYsc95NiS8w9oIv9agXBqAfmijzT
 W42919++gl4JKVzOLQNfYtukLzIUtAJNNMk8fj5uKBF9diXW4gLU4J3cs1/lY7JkuGTf
 BAlcOVnkk/vgW4FD/VLoF7jzCJYC3JQ6pKT5qijDFQEhKW2Hxa84HWYZAiJKmlOZVZwK
 RsABPG4s743Fil9Rr2W8YnTinLuYU1AwINL4SRZCoPmGIuWNJZf3ZgxWBUBO29FAP2t+
 D0yKIi2ZFmDceFVctuMgrc8Ep4pGzyxc/JhLZUGjUAuPEbAUbcYjBU1EPFD0hPWLAcPw
 qiOg==
X-Gm-Message-State: AC+VfDyYlbtTDWJZ5ug/X2UOlwjUCkTYrxAC+MAlt6m8d4fVTyQxjAqd
 oOJX8CIjNGTq4K051hM/k1sIWH7r6fbVS+DrgLbuVOwcIICdi5s/rOsX/w==
X-Google-Smtp-Source: ACHHUZ7ioRxBQejd/PaZFMGuGEz7pmPDLybsUlFbqtNYBpjUtJGdyINCRhLgyNUXsZOxjTcauPFIRoxY2Rbh
X-Received: by 2002:a9d:6c4f:0:b0:6ab:209:8c1e with SMTP id
 g15-20020a9d6c4f000000b006ab02098c1emr921122otq.14.1684502983230; 
 Fri, 19 May 2023 06:29:43 -0700 (PDT)
Received: from postal.iol.unh.edu (postal.iol.unh.edu. [132.177.123.84])
 by smtp-relay.gmail.com with ESMTPS id
 l12-20020a0568302b0c00b006a603629e48sm222856otv.3.2023.05.19.06.29.43
 (version=TLS1_2 cipher=ECDHE-ECDSA-AES128-GCM-SHA256 bits=128/128);
 Fri, 19 May 2023 06:29:43 -0700 (PDT)
X-Relaying-Domain: iol.unh.edu
Date: Fri, 19 May 2023 06:29:43 -0700 (PDT)
Message-ID: <646779c7.050a0220.b5352.c94aSMTPIN_ADDED_MISSING@mx.google.com>
Received: from [172.17.0.3] (unknown [172.18.0.34])
 by postal.iol.unh.edu (Postfix) with ESMTP id B9530605246B;
 Fri, 19 May 2023 09:29:42 -0400 (EDT)
Subject: |SUCCESS| pw127111 [PATCH] [v2] crypto/qat: default to IPsec MB for
 pre and post computes
From: dpdklab@iol.unh.edu
To: Test Report <test-report@dpdk.org>
Cc: dpdk-test-reports@iol.unh.edu
Content-Type: text/plain
X-BeenThere: test-report@dpdk.org
X-Mailman-Version: 2.1.29
Precedence: list
List-Id: automatic DPDK test reports <test-report.dpdk.org>
List-Unsubscribe: <https://mails.dpdk.org/options/test-report>,
 <mailto:test-report-request@dpdk.org?subject=unsubscribe>
List-Archive: <http://mails.dpdk.org/archives/test-report/>
List-Post: <mailto:test-report@dpdk.org>
List-Help: <mailto:test-report-request@dpdk.org?subject=help>
List-Subscribe: <https://mails.dpdk.org/listinfo/test-report>,
 <mailto:test-report-request@dpdk.org?subject=subscribe>
Errors-To: test-report-bounces@dpdk.org

Test-Label: iol-abi-testing
Test-Status: SUCCESS
http://dpdk.org/patch/127111

_Testing PASS_

Submitter: Brian Dooley <brian.dooley@intel.com>
Date: Friday, May 19 2023 10:50:54 
DPDK git baseline: Repo:dpdk
  Branch: master
  CommitID:a399d7b5a994e335c446d4b15d7622d71dd8848c

127111 --> testing pass

Test environment and result as below:

+-----------------+----------+
|   Environment   | abi_test |
+=================+==========+
| CentOS Stream 8 | PASS     |
+-----------------+----------+
| Ubuntu 22.04    | PASS     |
+-----------------+----------+
| RHEL 7          | PASS     |
+-----------------+----------+


CentOS Stream 8
	Kernel: 4.18.0-240.10.1.el8_3.x86_64
	Compiler: gcc 8.4.1 20200928

Ubuntu 22.04
	Kernel: Container Host Kernel
	Compiler: gcc 12.2.1-2

RHEL 7
	Kernel: 4.18.0-240.10.1.el8_3.x86_64
	Compiler: gcc 4.8.5 20150623 (Red Hat 4.8.5-44)

To view detailed results, visit:
https://lab.dpdk.org/results/dashboard/patchsets/26313/

UNH-IOL DPDK Community Lab

To manage your email subscriptions, visit: 
https://lab.dpdk.org/results/dashboard/preferences/subscriptions/