From mboxrd@z Thu Jan  1 00:00:00 1970
Return-Path: <test-report-bounces@dpdk.org>
Received: from mails.dpdk.org (mails.dpdk.org [217.70.189.124])
	by inbox.dpdk.org (Postfix) with ESMTP id 2443F42B49
	for <public@inbox.dpdk.org>; Fri, 19 May 2023 15:42:31 +0200 (CEST)
Received: from mails.dpdk.org (localhost [127.0.0.1])
	by mails.dpdk.org (Postfix) with ESMTP id 1FF5A400EF;
	Fri, 19 May 2023 15:42:31 +0200 (CEST)
Received: from mail-io1-f97.google.com (mail-io1-f97.google.com
 [209.85.166.97]) by mails.dpdk.org (Postfix) with ESMTP id 84DDF400EF
 for <test-report@dpdk.org>; Fri, 19 May 2023 15:42:29 +0200 (CEST)
Received: by mail-io1-f97.google.com with SMTP id
 ca18e2360f4ac-76c69b01893so275051739f.0
 for <test-report@dpdk.org>; Fri, 19 May 2023 06:42:29 -0700 (PDT)
DKIM-Signature: v=1; a=rsa-sha256; c=relaxed/relaxed;
 d=iol.unh.edu; s=unh-iol; t=1684503749; x=1687095749;
 h=cc:to:from:subject:message-id:date:from:to:cc:subject:date
 :message-id:reply-to;
 bh=a1IR/TxFLT2cQcfh16bvIJrfa0DVwY0hRXMwI5qwpn4=;
 b=fB3sFxU2qW/ye/yGea083M5cvIIrGg0gDfwEaQR6U2HHJZfv0wY+n5XuHp+uIqrMos
 MTjNT98Gzc2s6bNXxeNyCHzDaiGkkiWfA09RddFY0PJpQhHCrTmQnKMzNyUcHgArfOw2
 c798pI0TDLJn6eD0JmvsZxS0sqk6z08WmQT4M=
X-Google-DKIM-Signature: v=1; a=rsa-sha256; c=relaxed/relaxed;
 d=1e100.net; s=20221208; t=1684503749; x=1687095749;
 h=cc:to:from:subject:message-id:date:x-gm-message-state:from:to:cc
 :subject:date:message-id:reply-to;
 bh=a1IR/TxFLT2cQcfh16bvIJrfa0DVwY0hRXMwI5qwpn4=;
 b=NbawiIDyZNeK3LYLSLQZW4py+yOohI3IOvImk2cbLferaxvPfnY9Nu18u+k1/lIJ/Y
 s0t+z/B7onxk2ZfF6mXHDAFQ8xx5f4kV/2rOrwKZlSmFSmx7Kr5MVTUwgd6r3FofWZ/C
 1Ey4t6eD6PMCppnbWS6hycj3g/1fQG6x5DW3T+fGDLLR3raKm78Iz0r+D3/a1tJUwcjK
 Xn/49PLeOFcT9QOYCj5i2Cc5meActoh+tbAwUraYJHudoRA8fVq6NLlsSEcsoK/rgbkA
 c5L6MOUIErAhFPFJ7MSeLhgcz5zQfDQe+OHXOIYVLhX/yPmsE9Xw8vFo+9ak/MQp/Jli
 D69A==
X-Gm-Message-State: AC+VfDxwRtdMVuys1V5IOTapYGFpE51Sf0ie80sf7N+g5gExZKqof3SF
 OO6/xGk6c0FlW9UNn8EjFqiBA/t4YlwE2jyBED2s8KSOpeel1RkxscUR8IAi2hYeNvyzylA50w=
 =
X-Google-Smtp-Source: ACHHUZ5Og7NM0LfaXPRs0y4wA7UuW4bZbM/9xbkz+vGENSAHEbU4mLIbHDVEzemsNwON0TALeFtqMAfcm/jo
X-Received: by 2002:a92:c891:0:b0:338:a244:6edd with SMTP id
 w17-20020a92c891000000b00338a2446eddmr1085873ilo.1.1684503748974; 
 Fri, 19 May 2023 06:42:28 -0700 (PDT)
Received: from postal.iol.unh.edu (postal.iol.unh.edu.
 [2606:4100:3880:1234::84]) by smtp-relay.gmail.com with ESMTPS id
 t14-20020a92dc0e000000b0032ed4125df1sm111241iln.18.2023.05.19.06.42.28
 (version=TLS1_2 cipher=ECDHE-ECDSA-AES128-GCM-SHA256 bits=128/128);
 Fri, 19 May 2023 06:42:28 -0700 (PDT)
X-Relaying-Domain: iol.unh.edu
Date: Fri, 19 May 2023 06:42:28 -0700 (PDT)
Message-ID: <64677cc4.920a0220.8230f.6aefSMTPIN_ADDED_MISSING@mx.google.com>
Received: from [172.17.0.2] (unknown [172.18.0.34])
 by postal.iol.unh.edu (Postfix) with ESMTP id 83DF0605246B;
 Fri, 19 May 2023 09:42:28 -0400 (EDT)
Subject: |SUCCESS| pw127111 [PATCH] [v2] crypto/qat: default to IPsec MB for
 pre and post computes
From: dpdklab@iol.unh.edu
To: Test Report <test-report@dpdk.org>
Cc: dpdk-test-reports@iol.unh.edu
Content-Type: text/plain
X-BeenThere: test-report@dpdk.org
X-Mailman-Version: 2.1.29
Precedence: list
List-Id: automatic DPDK test reports <test-report.dpdk.org>
List-Unsubscribe: <https://mails.dpdk.org/options/test-report>,
 <mailto:test-report-request@dpdk.org?subject=unsubscribe>
List-Archive: <http://mails.dpdk.org/archives/test-report/>
List-Post: <mailto:test-report@dpdk.org>
List-Help: <mailto:test-report-request@dpdk.org?subject=help>
List-Subscribe: <https://mails.dpdk.org/listinfo/test-report>,
 <mailto:test-report-request@dpdk.org?subject=subscribe>
Errors-To: test-report-bounces@dpdk.org

Test-Label: iol-abi-testing
Test-Status: SUCCESS
http://dpdk.org/patch/127111

_Testing PASS_

Submitter: Brian Dooley <brian.dooley@intel.com>
Date: Friday, May 19 2023 10:50:54 
DPDK git baseline: Repo:dpdk
  Branch: master
  CommitID:a399d7b5a994e335c446d4b15d7622d71dd8848c

127111 --> testing pass

Test environment and result as below:

+------------------+----------+
|   Environment    | abi_test |
+==================+==========+
| CentOS Stream 8  | PASS     |
+------------------+----------+
| Ubuntu 22.04     | PASS     |
+------------------+----------+
| RHEL 7           | PASS     |
+------------------+----------+
| openSUSE Leap 15 | PASS     |
+------------------+----------+
| Debian Buster    | PASS     |
+------------------+----------+


CentOS Stream 8
	Kernel: 4.18.0-240.10.1.el8_3.x86_64
	Compiler: gcc 8.4.1 20200928

Ubuntu 22.04
	Kernel: Container Host Kernel
	Compiler: gcc 12.2.1-2

RHEL 7
	Kernel: 4.18.0-240.10.1.el8_3.x86_64
	Compiler: gcc 4.8.5 20150623 (Red Hat 4.8.5-44)

openSUSE Leap 15
	Kernel: 4.18.0-240.10.1.el8_3.x86_64
	Compiler: gcc 7.5.0

Debian Buster
	Kernel: 5.4.0-122-generic
	Compiler: gcc 8.3.0-6

To view detailed results, visit:
https://lab.dpdk.org/results/dashboard/patchsets/26313/

UNH-IOL DPDK Community Lab

To manage your email subscriptions, visit: 
https://lab.dpdk.org/results/dashboard/preferences/subscriptions/