From mboxrd@z Thu Jan  1 00:00:00 1970
Return-Path: <test-report-bounces@dpdk.org>
Received: from mails.dpdk.org (mails.dpdk.org [217.70.189.124])
	by inbox.dpdk.org (Postfix) with ESMTP id 15AD842B4B
	for <public@inbox.dpdk.org>; Fri, 19 May 2023 19:37:57 +0200 (CEST)
Received: from mails.dpdk.org (localhost [127.0.0.1])
	by mails.dpdk.org (Postfix) with ESMTP id E190940E09;
	Fri, 19 May 2023 19:37:56 +0200 (CEST)
Received: from mail-qv1-f100.google.com (mail-qv1-f100.google.com
 [209.85.219.100])
 by mails.dpdk.org (Postfix) with ESMTP id 3558E40E09
 for <test-report@dpdk.org>; Fri, 19 May 2023 19:37:56 +0200 (CEST)
Received: by mail-qv1-f100.google.com with SMTP id
 6a1803df08f44-6238daae378so10828986d6.1
 for <test-report@dpdk.org>; Fri, 19 May 2023 10:37:56 -0700 (PDT)
DKIM-Signature: v=1; a=rsa-sha256; c=relaxed/relaxed;
 d=iol.unh.edu; s=unh-iol; t=1684517875; x=1687109875;
 h=cc:to:from:subject:message-id:date:from:to:cc:subject:date
 :message-id:reply-to;
 bh=iQFjkLnraz5t9tO/gTgF7G5m0+Soo442trTny048phY=;
 b=Pv9xpJ9mVIvPC4fv8rhWOaMCkZ02ZC29wu/u1LPIgyQc4iYd4tmpteyWEtvlcurBWs
 GU8boXAk7xaNuKJ3Pj9sEpYAB50iQzYWcLwzYOgPV91EWfpDmXauYapoVJOShiIUFZxt
 e00HP91zaOvjC1hekKktRXVD0WsH7atnXm0OU=
X-Google-DKIM-Signature: v=1; a=rsa-sha256; c=relaxed/relaxed;
 d=1e100.net; s=20221208; t=1684517875; x=1687109875;
 h=cc:to:from:subject:message-id:date:x-gm-message-state:from:to:cc
 :subject:date:message-id:reply-to;
 bh=iQFjkLnraz5t9tO/gTgF7G5m0+Soo442trTny048phY=;
 b=DkSYlk33xjmngdmQhK7Gg+vcgjfxr2Wh8v8be+u0f1hMWFZrt0ZVu6aZW/N8oDEnxg
 68O7wDyP0UpjCLuV1f9+0k7hWnxJHC8mCW3yUF49yPRILyLU+J/hncXGqnaVwFEuErcf
 EzN9NAA6X2lfvXWmRRoBXW/YXrIiemkb+HtnPrDMFZxStpmHHKEpSWlECb0jAb7p4vth
 q0s58YJRx4Wixt6WgoVVNhatOVps6L/Ck+wJeeyT+f5XLWBx/RvvXPuAF2mRtWt434NE
 z0XybpwmQXu7vKkZDMeqGSAQFREHJ9NoifWXvrbQzJ7TF5RwraeCmbzOE1NnoJ5Uw1MU
 PiYQ==
X-Gm-Message-State: AC+VfDyk6K1s5UkYbwCP53KN10ZBve0ZmdWvHD2qTIlOTwqNmJqhe0cX
 Iv+/gn0JsqY3X2fkT2hMxQ4LeXAg5CYCUG3GhMyKsmDEKI9C8hdnF4CCRlredsWBxbKkM8G9uQ=
 =
X-Google-Smtp-Source: ACHHUZ6luwjT7PA2nn6+OrS/Rpi3NEL7QGe6Cwy8aY8jSkNKB1p+Z6e/mTEg8z6p+P2mcg3exW4fPnO5tFQg
X-Received: by 2002:a05:6214:d4b:b0:5ef:5456:783c with SMTP id
 11-20020a0562140d4b00b005ef5456783cmr6182507qvr.40.1684517875587; 
 Fri, 19 May 2023 10:37:55 -0700 (PDT)
Received: from postal.iol.unh.edu (postal.iol.unh.edu.
 [2606:4100:3880:1234::84]) by smtp-relay.gmail.com with ESMTPS id
 b20-20020a0cc994000000b00623957e8b8asm112402qvk.33.2023.05.19.10.37.55
 (version=TLS1_2 cipher=ECDHE-ECDSA-AES128-GCM-SHA256 bits=128/128);
 Fri, 19 May 2023 10:37:55 -0700 (PDT)
X-Relaying-Domain: iol.unh.edu
Date: Fri, 19 May 2023 10:37:55 -0700 (PDT)
Message-ID: <6467b3f3.0c0a0220.f43c2.6ca7SMTPIN_ADDED_MISSING@mx.google.com>
Received: from [172.17.0.2] (unknown [172.18.0.34])
 by postal.iol.unh.edu (Postfix) with ESMTP id 489C2605246B;
 Fri, 19 May 2023 13:37:55 -0400 (EDT)
Subject: |SUCCESS| pw127068-127071 [PATCH] [4/4] test/malloc: fix case
 expectation
From: dpdklab@iol.unh.edu
To: Test Report <test-report@dpdk.org>
Cc: dpdk-test-reports@iol.unh.edu
Content-Type: text/plain
X-BeenThere: test-report@dpdk.org
X-Mailman-Version: 2.1.29
Precedence: list
List-Id: automatic DPDK test reports <test-report.dpdk.org>
List-Unsubscribe: <https://mails.dpdk.org/options/test-report>,
 <mailto:test-report-request@dpdk.org?subject=unsubscribe>
List-Archive: <http://mails.dpdk.org/archives/test-report/>
List-Post: <mailto:test-report@dpdk.org>
List-Help: <mailto:test-report-request@dpdk.org?subject=help>
List-Subscribe: <https://mails.dpdk.org/listinfo/test-report>,
 <mailto:test-report-request@dpdk.org?subject=subscribe>
Errors-To: test-report-bounces@dpdk.org

Test-Label: iol-aarch64-compile-testing
Test-Status: SUCCESS
http://dpdk.org/patch/127071

_Testing PASS_

Submitter: Ruifeng Wang <ruifeng.wang@arm.com>
Date: Friday, May 19 2023 04:29:23 
DPDK git baseline: Repo:dpdk
  Branch: master
  CommitID:a399d7b5a994e335c446d4b15d7622d71dd8848c

127068-127071 --> testing pass

Test environment and result as below:

+----------------------------------------+--------------------+
|              Environment               | dpdk_meson_compile |
+========================================+====================+
| Ubuntu 20.04 ARM GCC Native            | PASS               |
+----------------------------------------+--------------------+
| Ubuntu 20.04 ARM Clang Native          | PASS               |
+----------------------------------------+--------------------+
| Ubuntu 20.04 ARM GCC Cross Compile     | PASS               |
+----------------------------------------+--------------------+
| Ubuntu 20.04 aarch32 GCC Cross Compile | PASS               |
+----------------------------------------+--------------------+
| Ubuntu 20.04 ARM SVE                   | PASS               |
+----------------------------------------+--------------------+
| Ubuntu 20.04 ARM Clang Cross Compile   | PASS               |
+----------------------------------------+--------------------+


Ubuntu 20.04 ARM GCC Native
	Kernel: 5.4.0-53-generic
	Compiler: gcc 9.3

Ubuntu 20.04 ARM Clang Native
	Kernel: 5.4.0-53-generic
	Compiler: clang 10.0.0-4ubuntu1

Ubuntu 20.04 ARM GCC Cross Compile
	Kernel: 5.4.0-72-generic
	Compiler: aarch64-linux-gnu-gcc (Ubuntu 9.3.0-17ubuntu1~20.04) 9.3.0

Ubuntu 20.04 aarch32 GCC Cross Compile
	Kernel: 5.4.0-72-generic
	Compiler: gcc 9.3.0

Ubuntu 20.04 ARM SVE
	Kernel: 5.4.0-80-generic
	Compiler: gcc 10.3.0 (Ubuntu 10.3.0-1ubuntu1~20.04)

Ubuntu 20.04 ARM Clang Cross Compile
	Kernel: 5.4.0-72-generic
	Compiler: clang version 10.0.0-4ubuntu1

To view detailed results, visit:
https://lab.dpdk.org/results/dashboard/patchsets/26300/

UNH-IOL DPDK Community Lab

To manage your email subscriptions, visit: 
https://lab.dpdk.org/results/dashboard/preferences/subscriptions/