From mboxrd@z Thu Jan  1 00:00:00 1970
Return-Path: <test-report-bounces@dpdk.org>
Received: from mails.dpdk.org (mails.dpdk.org [217.70.189.124])
	by inbox.dpdk.org (Postfix) with ESMTP id 552C742B4C
	for <public@inbox.dpdk.org>; Fri, 19 May 2023 21:04:50 +0200 (CEST)
Received: from mails.dpdk.org (localhost [127.0.0.1])
	by mails.dpdk.org (Postfix) with ESMTP id 3282C40E25;
	Fri, 19 May 2023 21:04:50 +0200 (CEST)
Received: from mail-yb1-f226.google.com (mail-yb1-f226.google.com
 [209.85.219.226])
 by mails.dpdk.org (Postfix) with ESMTP id ADCA240E25
 for <test-report@dpdk.org>; Fri, 19 May 2023 21:04:48 +0200 (CEST)
Received: by mail-yb1-f226.google.com with SMTP id
 3f1490d57ef6-ba865ac594bso4811443276.0
 for <test-report@dpdk.org>; Fri, 19 May 2023 12:04:48 -0700 (PDT)
DKIM-Signature: v=1; a=rsa-sha256; c=relaxed/relaxed;
 d=iol.unh.edu; s=unh-iol; t=1684523088; x=1687115088;
 h=cc:to:from:subject:message-id:date:from:to:cc:subject:date
 :message-id:reply-to;
 bh=WcwEPfxOSUzzj5Em6JpAhvakskrkea8Kb7bz5NEaVLg=;
 b=U2IlJhQvmLJHY8yV53iRXt8cLpDmbQjpNwRgh+3ULzNXnsaJdRQkHu6ZciRdURhLkV
 Y+VENEF4MRwUo4nKdACgBGca/TR57NUBVlMV4r2jIlRVz3YrAcNsbcyEDvrdkVs0DbHT
 CORqx2P7nM6iE1LM+zjgbLfvAeZ1mlttxU5Sk=
X-Google-DKIM-Signature: v=1; a=rsa-sha256; c=relaxed/relaxed;
 d=1e100.net; s=20221208; t=1684523088; x=1687115088;
 h=cc:to:from:subject:message-id:date:x-gm-message-state:from:to:cc
 :subject:date:message-id:reply-to;
 bh=WcwEPfxOSUzzj5Em6JpAhvakskrkea8Kb7bz5NEaVLg=;
 b=EGpyp8gsgXw7Lb2LpxeKwHTDDMziBSCW0m6FFkARSBmmpoOn/z3OBjuc9xxjVvXQtI
 oDVyfq2K4ZJWw0qof84mXOfKctxySZuopnUS0o6NLfeukK9ZTIKxRmCrJWSD5vtYnBHu
 gx/RP/y4KsNF87lerHc9GTDFJ2OcBms5OEtbwAj/zJNG5oQc3G9GsMled2MVQm7nFTZQ
 MvikbLlBV8wK9p7ita5nHIxcs9BRp3z9VMTzYWNyejbAQGrZcT8h18u83MwD4Gfrgw+6
 NE+E9iCRDAUtdS1z9jzKExea6TgwK+p4SanQHs33r4y5D3m54KdJyoXzhDCLAfkhLOtL
 zMEQ==
X-Gm-Message-State: AC+VfDwLIXSgIOzb+Ml+0HCOC7J1EUH1F3XWfbZJXtbdckmIbbSJW4b5
 VDvUJU8NRdt8yow/xKf4nYk3ppgiu5wXl3FS+XTKc9CEk0HZOBSRj8PQOVFrJlp6v/Q9fPWhCw=
 =
X-Google-Smtp-Source: ACHHUZ5fDne6KDLr9iWygdDkydDjEQMdGR7ft1BLKFY5eSPHkeDf8pik4hKPwznPgiD+DYpJ/gVmuT2MzUCn
X-Received: by 2002:a25:558b:0:b0:b9d:d304:bf2d with SMTP id
 j133-20020a25558b000000b00b9dd304bf2dmr2637933ybb.52.1684523088079; 
 Fri, 19 May 2023 12:04:48 -0700 (PDT)
Received: from postal.iol.unh.edu (postal.iol.unh.edu.
 [2606:4100:3880:1234::84]) by smtp-relay.gmail.com with ESMTPS id
 w125-20020a25df83000000b00b9dcdd85f74sm266211ybg.22.2023.05.19.12.04.48
 (version=TLS1_2 cipher=ECDHE-ECDSA-AES128-GCM-SHA256 bits=128/128);
 Fri, 19 May 2023 12:04:48 -0700 (PDT)
X-Relaying-Domain: iol.unh.edu
Date: Fri, 19 May 2023 12:04:48 -0700 (PDT)
Message-ID: <6467c850.250a0220.3c02c.034bSMTPIN_ADDED_MISSING@mx.google.com>
Received: from [172.17.0.2] (unknown [172.18.0.34])
 by postal.iol.unh.edu (Postfix) with ESMTP id A59B4605246B;
 Fri, 19 May 2023 15:04:47 -0400 (EDT)
Subject: |SUCCESS| pw127114-127132 [PATCH] [v3,
 19/19] Remove use of term sanity check
From: dpdklab@iol.unh.edu
To: Test Report <test-report@dpdk.org>
Cc: dpdk-test-reports@iol.unh.edu
Content-Type: text/plain
X-BeenThere: test-report@dpdk.org
X-Mailman-Version: 2.1.29
Precedence: list
List-Id: automatic DPDK test reports <test-report.dpdk.org>
List-Unsubscribe: <https://mails.dpdk.org/options/test-report>,
 <mailto:test-report-request@dpdk.org?subject=unsubscribe>
List-Archive: <http://mails.dpdk.org/archives/test-report/>
List-Post: <mailto:test-report@dpdk.org>
List-Help: <mailto:test-report-request@dpdk.org?subject=help>
List-Subscribe: <https://mails.dpdk.org/listinfo/test-report>,
 <mailto:test-report-request@dpdk.org?subject=subscribe>
Errors-To: test-report-bounces@dpdk.org

Test-Label: iol-abi-testing
Test-Status: SUCCESS
http://dpdk.org/patch/127132

_Testing PASS_

Submitter: Stephen Hemminger <stephen@networkplumber.org>
Date: Friday, May 19 2023 17:46:11 
DPDK git baseline: Repo:dpdk
  Branch: master
  CommitID:a399d7b5a994e335c446d4b15d7622d71dd8848c

127114-127132 --> testing pass

Test environment and result as below:

+------------------+----------+
|   Environment    | abi_test |
+==================+==========+
| RHEL 7           | PASS     |
+------------------+----------+
| openSUSE Leap 15 | PASS     |
+------------------+----------+
| Ubuntu 22.04     | PASS     |
+------------------+----------+
| CentOS Stream 9  | PASS     |
+------------------+----------+


RHEL 7
	Kernel: 4.18.0-240.10.1.el8_3.x86_64
	Compiler: gcc 4.8.5 20150623 (Red Hat 4.8.5-44)

openSUSE Leap 15
	Kernel: 4.18.0-240.10.1.el8_3.x86_64
	Compiler: gcc 7.5.0

Ubuntu 22.04
	Kernel: Container Host Kernel
	Compiler: clang 14.0.5-1.fc36

CentOS Stream 9
	Kernel: 4.18.0-240.10.1.el8_3.x86_64
	Compiler: gcc 11.3.1 20220421

To view detailed results, visit:
https://lab.dpdk.org/results/dashboard/patchsets/26315/

UNH-IOL DPDK Community Lab

To manage your email subscriptions, visit: 
https://lab.dpdk.org/results/dashboard/preferences/subscriptions/