From mboxrd@z Thu Jan  1 00:00:00 1970
Return-Path: <test-report-bounces@dpdk.org>
Received: from mails.dpdk.org (mails.dpdk.org [217.70.189.124])
	by inbox.dpdk.org (Postfix) with ESMTP id 90AA342B3E
	for <public@inbox.dpdk.org>; Fri, 19 May 2023 22:55:55 +0200 (CEST)
Received: from mails.dpdk.org (localhost [127.0.0.1])
	by mails.dpdk.org (Postfix) with ESMTP id 8CD9F40E25;
	Fri, 19 May 2023 22:55:55 +0200 (CEST)
Received: from mail-il1-f228.google.com (mail-il1-f228.google.com
 [209.85.166.228])
 by mails.dpdk.org (Postfix) with ESMTP id 43F7440E25
 for <test-report@dpdk.org>; Fri, 19 May 2023 22:55:54 +0200 (CEST)
Received: by mail-il1-f228.google.com with SMTP id
 e9e14a558f8ab-334d7bb7155so9964355ab.0
 for <test-report@dpdk.org>; Fri, 19 May 2023 13:55:54 -0700 (PDT)
DKIM-Signature: v=1; a=rsa-sha256; c=relaxed/relaxed;
 d=iol.unh.edu; s=unh-iol; t=1684529753; x=1687121753;
 h=cc:to:from:subject:message-id:date:from:to:cc:subject:date
 :message-id:reply-to;
 bh=e5wqz2ZCsWFqtDr0/cbQKgN2ttwYidnRjRI+a0BnNNI=;
 b=XMhBRgFgorrxedcfnnJ19UhSKJQAIvLqqnrNC/BVlA6OSoebQ3w116FGsfrOc9ep3e
 uUavngoHpcmaCjfQS6085JXffhivEI8awOxbWgUhWR2XWs6gmOYWgSZrC7chN5KXIn5k
 rTsVheuFn+dTdiyCid3PsB6JKOLjiaVDirDkw=
X-Google-DKIM-Signature: v=1; a=rsa-sha256; c=relaxed/relaxed;
 d=1e100.net; s=20221208; t=1684529753; x=1687121753;
 h=cc:to:from:subject:message-id:date:x-gm-message-state:from:to:cc
 :subject:date:message-id:reply-to;
 bh=e5wqz2ZCsWFqtDr0/cbQKgN2ttwYidnRjRI+a0BnNNI=;
 b=GdK2DZZeEtkcF59pKk8OtDnkTTPwpugatpF/D++S4qUvJrm0xgy6vHGCKV9cxUu4B9
 fPqH6BfvAfE2g6hO2o8ouInuRCcD1W/Fn/kQ/17nD4OHViFbBgfwK9eQLhZE3lufyYLg
 wvR8R1r6rs20aVkmwTfoR4gvMruUqXtPHd1N8wLq+DiQBGYRBTvFqHN/qjkufuXhsAG/
 P/9QYaIw9ocvxin+IRmvdbDg/3NpseLsF2degz6R283pe9XgbSAZPaxn1KuYvJQPFCA6
 vIveAcYDeMZ9DsBPjBVSIhwWZZvZ31Y4LcJc7OiNDw2QvgZ1+P74LxKM2MLEfZc3eMgz
 Niyw==
X-Gm-Message-State: AC+VfDxoRiPXWtk4vzKBYn8Wz8bbmajpbmRlEecJWlT6w61xKFRnbFE1
 9c+fcukuk+aex4otp/rUrRWnKjD1S2CgGMOVG4QabHAPBbC8yJ5W2bPI2Q==
X-Google-Smtp-Source: ACHHUZ6jm95gfe5fJoRGfuPqWhlxLGA4M17+nMxpkh4jzgZ9kIG0yvQ5IvEi2r5m5rWjVc+UKYUK0UJbYded
X-Received: by 2002:a92:ce8a:0:b0:326:68bc:b423 with SMTP id
 r10-20020a92ce8a000000b0032668bcb423mr1803694ilo.20.1684529753677; 
 Fri, 19 May 2023 13:55:53 -0700 (PDT)
Received: from postal.iol.unh.edu (postal.iol.unh.edu. [132.177.123.84])
 by smtp-relay.gmail.com with ESMTPS id
 m11-20020a924a0b000000b003273c2eecc8sm9206ilf.17.2023.05.19.13.55.53
 (version=TLS1_2 cipher=ECDHE-ECDSA-AES128-GCM-SHA256 bits=128/128);
 Fri, 19 May 2023 13:55:53 -0700 (PDT)
X-Relaying-Domain: iol.unh.edu
Date: Fri, 19 May 2023 13:55:53 -0700 (PDT)
Message-ID: <6467e259.920a0220.35aeb.05d4SMTPIN_ADDED_MISSING@mx.google.com>
Received: from [172.17.0.2] (unknown [172.18.0.34])
 by postal.iol.unh.edu (Postfix) with ESMTP id F05F5605246B;
 Fri, 19 May 2023 16:55:52 -0400 (EDT)
Subject: |SUCCESS| pw127112 [PATCH] [v4] ethdev: add indirect list flow action
From: dpdklab@iol.unh.edu
To: Test Report <test-report@dpdk.org>
Cc: dpdk-test-reports@iol.unh.edu
Content-Type: text/plain
X-BeenThere: test-report@dpdk.org
X-Mailman-Version: 2.1.29
Precedence: list
List-Id: automatic DPDK test reports <test-report.dpdk.org>
List-Unsubscribe: <https://mails.dpdk.org/options/test-report>,
 <mailto:test-report-request@dpdk.org?subject=unsubscribe>
List-Archive: <http://mails.dpdk.org/archives/test-report/>
List-Post: <mailto:test-report@dpdk.org>
List-Help: <mailto:test-report-request@dpdk.org?subject=help>
List-Subscribe: <https://mails.dpdk.org/listinfo/test-report>,
 <mailto:test-report-request@dpdk.org?subject=subscribe>
Errors-To: test-report-bounces@dpdk.org

Test-Label: iol-aarch64-compile-testing
Test-Status: SUCCESS
http://dpdk.org/patch/127112

_Testing PASS_

Submitter: Gregory Etelson <getelson@nvidia.com>
Date: Friday, May 19 2023 11:59:47 
DPDK git baseline: Repo:dpdk
  Branch: master
  CommitID:a399d7b5a994e335c446d4b15d7622d71dd8848c

127112 --> testing pass

Test environment and result as below:

+----------------------------------------+--------------------+
|              Environment               | dpdk_meson_compile |
+========================================+====================+
| Ubuntu 20.04 ARM GCC Native            | PASS               |
+----------------------------------------+--------------------+
| Ubuntu 20.04 ARM Clang Native          | PASS               |
+----------------------------------------+--------------------+
| Ubuntu 20.04 aarch32 GCC Cross Compile | PASS               |
+----------------------------------------+--------------------+
| Ubuntu 20.04 ARM GCC Cross Compile     | PASS               |
+----------------------------------------+--------------------+
| Ubuntu 20.04 ARM Clang Cross Compile   | PASS               |
+----------------------------------------+--------------------+
| Ubuntu 20.04 ARM SVE                   | PASS               |
+----------------------------------------+--------------------+


Ubuntu 20.04 ARM GCC Native
	Kernel: 5.4.0-53-generic
	Compiler: gcc 9.3

Ubuntu 20.04 ARM Clang Native
	Kernel: 5.4.0-53-generic
	Compiler: clang 10.0.0-4ubuntu1

Ubuntu 20.04 aarch32 GCC Cross Compile
	Kernel: 5.4.0-72-generic
	Compiler: gcc 9.3.0

Ubuntu 20.04 ARM GCC Cross Compile
	Kernel: 5.4.0-72-generic
	Compiler: aarch64-linux-gnu-gcc (Ubuntu 9.3.0-17ubuntu1~20.04) 9.3.0

Ubuntu 20.04 ARM Clang Cross Compile
	Kernel: 5.4.0-72-generic
	Compiler: clang version 10.0.0-4ubuntu1

Ubuntu 20.04 ARM SVE
	Kernel: 5.4.0-80-generic
	Compiler: gcc 10.3.0 (Ubuntu 10.3.0-1ubuntu1~20.04)

To view detailed results, visit:
https://lab.dpdk.org/results/dashboard/patchsets/26314/

UNH-IOL DPDK Community Lab

To manage your email subscriptions, visit: 
https://lab.dpdk.org/results/dashboard/preferences/subscriptions/