From mboxrd@z Thu Jan  1 00:00:00 1970
Return-Path: <test-report-bounces@dpdk.org>
Received: from mails.dpdk.org (mails.dpdk.org [217.70.189.124])
	by inbox.dpdk.org (Postfix) with ESMTP id B3F5842B3E
	for <public@inbox.dpdk.org>; Fri, 19 May 2023 23:40:44 +0200 (CEST)
Received: from mails.dpdk.org (localhost [127.0.0.1])
	by mails.dpdk.org (Postfix) with ESMTP id 9137540E25;
	Fri, 19 May 2023 23:40:44 +0200 (CEST)
Received: from mail-qv1-f100.google.com (mail-qv1-f100.google.com
 [209.85.219.100])
 by mails.dpdk.org (Postfix) with ESMTP id 754A540E25
 for <test-report@dpdk.org>; Fri, 19 May 2023 23:40:43 +0200 (CEST)
Received: by mail-qv1-f100.google.com with SMTP id
 6a1803df08f44-6239b45765eso14368636d6.2
 for <test-report@dpdk.org>; Fri, 19 May 2023 14:40:43 -0700 (PDT)
DKIM-Signature: v=1; a=rsa-sha256; c=relaxed/relaxed;
 d=iol.unh.edu; s=unh-iol; t=1684532443; x=1687124443;
 h=cc:to:from:subject:message-id:date:from:to:cc:subject:date
 :message-id:reply-to;
 bh=6vCGictNrLFSbbfUki4FSCYFANW2QenHnNZPssEWaUY=;
 b=bAC5GRSU6eMR2tQqTM3AoPzi19DsGw7Narcgofa8QEJES5/YyHir73C/BDbnO82X5t
 NveNTIecj2831SWNRdIt3TxjYgHUSpjOl4fckUcDTAwoIF70M3bt+gNFJTCqOoW9s4LB
 hf8zu6qvTHywTxP/kAT7JbGA9pEtN/nYL723U=
X-Google-DKIM-Signature: v=1; a=rsa-sha256; c=relaxed/relaxed;
 d=1e100.net; s=20221208; t=1684532443; x=1687124443;
 h=cc:to:from:subject:message-id:date:x-gm-message-state:from:to:cc
 :subject:date:message-id:reply-to;
 bh=6vCGictNrLFSbbfUki4FSCYFANW2QenHnNZPssEWaUY=;
 b=gEIWSi6ald9IvYIwTkczV/3KT9/BtDXSlg2elKrGT1pTPMBUeWZjbT4LRkjhgVTvR8
 IInN/VqxLg+KRt/xzDVfPqJ9zNLFh0Vo5JncClBpUj21MD1xpr/A2iqRdjatOKWrxPD6
 A65a5ndJQhAaYsEGEHQVrF23RsyaJfNGA8tROBS0PORDyJnAiZVT+u6macWGOG2nNENS
 dWXb787fmPF5GwZvYXAjtcpZpoobSid8gfhZlEnKstETc0Xl7+aBJbeXCJ/oG0MDte76
 Df/Lbfd8+bS8zxHPTYdA9tfelXR0294sZcfwYisfDbJl2iVyWrlQVEqmTWrpLMHq37k1
 drbA==
X-Gm-Message-State: AC+VfDzq0jjz7gQmkzGHScWHfUCDyDQMbT61Om1uKFOWkbl9YhWQscs4
 YfNJ7rCljTRpy9p6CN8gmwctTtBnHY8aARazSnwcmo1z8+EfC9gd4FhQWSEy99hIxpC7Qln5qA=
 =
X-Google-Smtp-Source: ACHHUZ6xNVhVbQerTS4x1m/dFTleugm4Ws/HbOxtTO3YWq0C0rAYLC5kG+qXb3G3jcBlRKycQa+xrtIPSoRu
X-Received: by 2002:ad4:576d:0:b0:5ef:8b9c:aa86 with SMTP id
 r13-20020ad4576d000000b005ef8b9caa86mr6997570qvx.44.1684532442913; 
 Fri, 19 May 2023 14:40:42 -0700 (PDT)
Received: from postal.iol.unh.edu (postal.iol.unh.edu.
 [2606:4100:3880:1234::84]) by smtp-relay.gmail.com with ESMTPS id
 k4-20020a0cf584000000b0061b6fd48358sm17237qvm.25.2023.05.19.14.40.42
 (version=TLS1_2 cipher=ECDHE-ECDSA-AES128-GCM-SHA256 bits=128/128);
 Fri, 19 May 2023 14:40:42 -0700 (PDT)
X-Relaying-Domain: iol.unh.edu
Date: Fri, 19 May 2023 14:40:42 -0700 (PDT)
Message-ID: <6467ecda.0c0a0220.3b97e.0d6dSMTPIN_ADDED_MISSING@mx.google.com>
Received: from [172.17.0.2] (unknown [172.18.0.34])
 by postal.iol.unh.edu (Postfix) with ESMTP id 98BF6605246B;
 Fri, 19 May 2023 17:40:42 -0400 (EDT)
Subject: |SUCCESS| pw127133 [PATCH] ptp: replace terms master/slave
From: dpdklab@iol.unh.edu
To: Test Report <test-report@dpdk.org>
Cc: dpdk-test-reports@iol.unh.edu
Content-Type: text/plain
X-BeenThere: test-report@dpdk.org
X-Mailman-Version: 2.1.29
Precedence: list
List-Id: automatic DPDK test reports <test-report.dpdk.org>
List-Unsubscribe: <https://mails.dpdk.org/options/test-report>,
 <mailto:test-report-request@dpdk.org?subject=unsubscribe>
List-Archive: <http://mails.dpdk.org/archives/test-report/>
List-Post: <mailto:test-report@dpdk.org>
List-Help: <mailto:test-report-request@dpdk.org?subject=help>
List-Subscribe: <https://mails.dpdk.org/listinfo/test-report>,
 <mailto:test-report-request@dpdk.org?subject=subscribe>
Errors-To: test-report-bounces@dpdk.org

Test-Label: iol-aarch64-compile-testing
Test-Status: SUCCESS
http://dpdk.org/patch/127133

_Testing PASS_

Submitter: Stephen Hemminger <stephen@networkplumber.org>
Date: Friday, May 19 2023 18:15:49 
DPDK git baseline: Repo:dpdk
  Branch: master
  CommitID:a399d7b5a994e335c446d4b15d7622d71dd8848c

127133 --> testing pass

Test environment and result as below:

+----------------------------------------+--------------------+
|              Environment               | dpdk_meson_compile |
+========================================+====================+
| Ubuntu 20.04 ARM GCC Native            | PASS               |
+----------------------------------------+--------------------+
| Ubuntu 20.04 ARM Clang Native          | PASS               |
+----------------------------------------+--------------------+
| Ubuntu 20.04 ARM GCC Cross Compile     | PASS               |
+----------------------------------------+--------------------+
| Ubuntu 20.04 ARM Clang Cross Compile   | PASS               |
+----------------------------------------+--------------------+
| Ubuntu 20.04 aarch32 GCC Cross Compile | PASS               |
+----------------------------------------+--------------------+
| Ubuntu 20.04 ARM SVE                   | PASS               |
+----------------------------------------+--------------------+


Ubuntu 20.04 ARM GCC Native
	Kernel: 5.4.0-53-generic
	Compiler: gcc 9.3

Ubuntu 20.04 ARM Clang Native
	Kernel: 5.4.0-53-generic
	Compiler: clang 10.0.0-4ubuntu1

Ubuntu 20.04 ARM GCC Cross Compile
	Kernel: 5.4.0-72-generic
	Compiler: aarch64-linux-gnu-gcc (Ubuntu 9.3.0-17ubuntu1~20.04) 9.3.0

Ubuntu 20.04 ARM Clang Cross Compile
	Kernel: 5.4.0-72-generic
	Compiler: clang version 10.0.0-4ubuntu1

Ubuntu 20.04 aarch32 GCC Cross Compile
	Kernel: 5.4.0-72-generic
	Compiler: gcc 9.3.0

Ubuntu 20.04 ARM SVE
	Kernel: 5.4.0-80-generic
	Compiler: gcc 10.3.0 (Ubuntu 10.3.0-1ubuntu1~20.04)

To view detailed results, visit:
https://lab.dpdk.org/results/dashboard/patchsets/26316/

UNH-IOL DPDK Community Lab

To manage your email subscriptions, visit: 
https://lab.dpdk.org/results/dashboard/preferences/subscriptions/