From mboxrd@z Thu Jan  1 00:00:00 1970
Return-Path: <test-report-bounces@dpdk.org>
Received: from mails.dpdk.org (mails.dpdk.org [217.70.189.124])
	by inbox.dpdk.org (Postfix) with ESMTP id 875DB42B95
	for <public@inbox.dpdk.org>; Thu, 25 May 2023 06:11:18 +0200 (CEST)
Received: from mails.dpdk.org (localhost [127.0.0.1])
	by mails.dpdk.org (Postfix) with ESMTP id 6546040A82;
	Thu, 25 May 2023 06:11:18 +0200 (CEST)
Received: from mail-yb1-f227.google.com (mail-yb1-f227.google.com
 [209.85.219.227])
 by mails.dpdk.org (Postfix) with ESMTP id 5C0C940A82
 for <test-report@dpdk.org>; Thu, 25 May 2023 06:11:17 +0200 (CEST)
Received: by mail-yb1-f227.google.com with SMTP id
 3f1490d57ef6-bab8f66d3a2so142920276.3
 for <test-report@dpdk.org>; Wed, 24 May 2023 21:11:17 -0700 (PDT)
DKIM-Signature: v=1; a=rsa-sha256; c=relaxed/relaxed;
 d=iol.unh.edu; s=unh-iol; t=1684987876; x=1687579876;
 h=cc:to:from:subject:message-id:date:from:to:cc:subject:date
 :message-id:reply-to;
 bh=snuBCiHEkzNay1hSZX9tCPluqcegTfq/552fCrtce7k=;
 b=OHMPwgx4zUCpK0GDN2tEWW4Vyih+f56L7maXkhOs7/UTiAeTKVzj8Lj+2oZR8O1/D3
 a6ishcFTn+edL8Yj7dH0YkDlPpkBjw+hQ4sE09EIPla6Z2MgTs+zNC8tw5PZB4ZW1skF
 4Pubwuf+t1f+mVSxcclkQJ7Lh+DpE30P1nJog=
X-Google-DKIM-Signature: v=1; a=rsa-sha256; c=relaxed/relaxed;
 d=1e100.net; s=20221208; t=1684987876; x=1687579876;
 h=cc:to:from:subject:message-id:date:x-gm-message-state:from:to:cc
 :subject:date:message-id:reply-to;
 bh=snuBCiHEkzNay1hSZX9tCPluqcegTfq/552fCrtce7k=;
 b=JR9IoS1vHFF2mVXah/YdVYr9joY6sxywfrRfBjbiYbINJGPPpWWmuuFklG5ur9/XH/
 kcsJGJ69vSN6ryV8eMI/tWg66ezN75f0hBfeRJ027MIRS35AqagMMK/UvYlv0vJiAHiP
 vhnJLmzgoBsKQ8+wDNdHWo4nmRWEBEKzZ12bjNL5HEoKuHvM8ql/9JGsim4MQjuKKQLN
 +U1zrUdjuMOEwXnPQ9pEZykrt8g8HIBuVGqVQbLjpDknFpmhfzVBesPqlvdr/XKQiS/J
 CE/KT3qsw5rhkPCEYiz+O9MmkKk0Iiz+kRYESwPhyKJN9QCqr/+fhG9ffAFw4bQ+QVqy
 4tAw==
X-Gm-Message-State: AC+VfDyF7mAhrgQDEU/3sbq/lnCs82cXXxNpHAVBX4uin+TClxck9BeA
 YmqdB9JMAlpOeg+VQ21FBvTaPO9XxvowwDj5oTYby0JXQmCzE4/rGK7Iqm4Vm5TA8w0HfwD4Kg=
 =
X-Google-Smtp-Source: ACHHUZ5//8rerb8zTCLChULdI1Edgn9OYgGATQw59rhJaMPbWRRmt9piORo5s0KNR8MaJHror7xk22ZBuxBp
X-Received: by 2002:a0d:ddc6:0:b0:55a:5021:5de7 with SMTP id
 g189-20020a0dddc6000000b0055a50215de7mr20243741ywe.1.1684987876501; 
 Wed, 24 May 2023 21:11:16 -0700 (PDT)
Received: from postal.iol.unh.edu (postal.iol.unh.edu.
 [2606:4100:3880:1234::84]) by smtp-relay.gmail.com with ESMTPS id
 m186-20020a0dfcc3000000b0055de0329ea1sm28686ywf.57.2023.05.24.21.11.16
 (version=TLS1_2 cipher=ECDHE-ECDSA-AES128-GCM-SHA256 bits=128/128);
 Wed, 24 May 2023 21:11:16 -0700 (PDT)
X-Relaying-Domain: iol.unh.edu
Date: Wed, 24 May 2023 21:11:16 -0700 (PDT)
Message-ID: <646edfe4.0d0a0220.cfc86.0b57SMTPIN_ADDED_MISSING@mx.google.com>
Received: from [172.17.0.2] (unknown [172.18.0.34])
 by postal.iol.unh.edu (Postfix) with ESMTP id 1CAC7605246B;
 Thu, 25 May 2023 00:11:16 -0400 (EDT)
Subject: |SUCCESS| pw127357 [PATCH] pci: add O_CLOEXEC when open uio device
From: dpdklab@iol.unh.edu
To: Test Report <test-report@dpdk.org>
Cc: dpdk-test-reports@iol.unh.edu
Content-Type: text/plain
X-BeenThere: test-report@dpdk.org
X-Mailman-Version: 2.1.29
Precedence: list
List-Id: automatic DPDK test reports <test-report.dpdk.org>
List-Unsubscribe: <https://mails.dpdk.org/options/test-report>,
 <mailto:test-report-request@dpdk.org?subject=unsubscribe>
List-Archive: <http://mails.dpdk.org/archives/test-report/>
List-Post: <mailto:test-report@dpdk.org>
List-Help: <mailto:test-report-request@dpdk.org?subject=help>
List-Subscribe: <https://mails.dpdk.org/listinfo/test-report>,
 <mailto:test-report-request@dpdk.org?subject=subscribe>
Errors-To: test-report-bounces@dpdk.org

Test-Label: iol-aarch64-unit-testing
Test-Status: SUCCESS
http://dpdk.org/patch/127357

_Testing PASS_

Submitter: Weifeng Su <suweifeng1@huawei.com>
Date: Thursday, May 25 2023 03:00:35 
DPDK git baseline: Repo:dpdk
  Branch: master
  CommitID:2d9e10932d535ea553081b489a25f6fce7ec7996

127357 --> testing pass

Test environment and result as below:

+-----------------------------------+------------------------------+----------------+---------------------------+--------------+
|            Environment            | cryptodev_sw_snow3g_autotest | dpdk_unit_test | cryptodev_sw_zuc_autotest | lpm_autotest |
+===================================+==============================+================+===========================+==============+
| Debian 11                         | PASS                         | SKIPPED        | PASS                      | SKIPPED      |
+-----------------------------------+------------------------------+----------------+---------------------------+--------------+
| Arm Ampere Altra - Ubuntu 20.04.4 | SKIPPED                      | PASS           | SKIPPED                   | SKIPPED      |
+-----------------------------------+------------------------------+----------------+---------------------------+--------------+
| Ubuntu 20.04 ARM SVE              | SKIPPED                      | SKIPPED        | SKIPPED                   | PASS         |
+-----------------------------------+------------------------------+----------------+---------------------------+--------------+


Debian 11
	Kernel: Container Host Kernel
	Compiler: gcc 10.2.1

Arm Ampere Altra - Ubuntu 20.04.4
	Kernel: 5.4.0-148-generic aarch64
	Compiler: gcc 9.4

Ubuntu 20.04 ARM SVE
	Kernel: 5.4.0-80-generic
	Compiler: gcc 10.3.0 (Ubuntu 10.3.0-1ubuntu1~20.04)

To view detailed results, visit:
https://lab.dpdk.org/results/dashboard/patchsets/26374/

UNH-IOL DPDK Community Lab

To manage your email subscriptions, visit: 
https://lab.dpdk.org/results/dashboard/preferences/subscriptions/