From mboxrd@z Thu Jan  1 00:00:00 1970
Return-Path: <test-report-bounces@dpdk.org>
Received: from mails.dpdk.org (mails.dpdk.org [217.70.189.124])
	by inbox.dpdk.org (Postfix) with ESMTP id CEF8842B95
	for <public@inbox.dpdk.org>; Thu, 25 May 2023 06:27:11 +0200 (CEST)
Received: from mails.dpdk.org (localhost [127.0.0.1])
	by mails.dpdk.org (Postfix) with ESMTP id CA27C40A82;
	Thu, 25 May 2023 06:27:11 +0200 (CEST)
Received: from mail-oa1-f98.google.com (mail-oa1-f98.google.com
 [209.85.160.98]) by mails.dpdk.org (Postfix) with ESMTP id 4AAA940A82
 for <test-report@dpdk.org>; Thu, 25 May 2023 06:27:10 +0200 (CEST)
Received: by mail-oa1-f98.google.com with SMTP id
 586e51a60fabf-19e8a61fdbaso448752fac.0
 for <test-report@dpdk.org>; Wed, 24 May 2023 21:27:10 -0700 (PDT)
DKIM-Signature: v=1; a=rsa-sha256; c=relaxed/relaxed;
 d=iol.unh.edu; s=unh-iol; t=1684988829; x=1687580829;
 h=cc:to:from:subject:message-id:date:from:to:cc:subject:date
 :message-id:reply-to;
 bh=fAdm9TiSnhG85S2FvCI3xL2xA5GLsbpqQRhssRNbudM=;
 b=AYRk4k/K3jwVwOkORJwZuUTtBWeyaiH6ggfxkerf2tSmnupM8YckIC0MNnw7Ydeu5t
 feu2wqT782d9XHjuQ7iX+r2dD1NM0HHsLq7aVys/CI8SmXJvj5L1npmEwIR8s7DoqzDs
 d5Y+urnELuuihAQgkPZ4pBklr8o2Jlwkvmrfg=
X-Google-DKIM-Signature: v=1; a=rsa-sha256; c=relaxed/relaxed;
 d=1e100.net; s=20221208; t=1684988829; x=1687580829;
 h=cc:to:from:subject:message-id:date:x-gm-message-state:from:to:cc
 :subject:date:message-id:reply-to;
 bh=fAdm9TiSnhG85S2FvCI3xL2xA5GLsbpqQRhssRNbudM=;
 b=C40giSbvDSzss+FYNvWmQNne2Ty3NrkhbhjTGBT18V3wxiVhTPdHGQpNKuTBbZzH/6
 47bhie/zzvcdmGSWmD5jwLN0Zi+4Rpm/EC+WcXaegjcIulttpLNFalSUm+TWP9N3pDxZ
 zQcj/xQRMsWcrt+Y8GQOEHISqU/hO0jVcRqP/fitrof9++DslIyAz2uZewLTk0akCDut
 2QogE+vfmDClASpCGht9fyG2ak0VTHtdypW+NZ6Mnx8WUNfhUtCHQuGPE5VkUKuMxKsQ
 PqpSptOL04gVUXuos9Gp/+50DalmJb7K0nXEagx/13HOqd5lU+Mi8QKoBwSS0icSXYU0
 IFGA==
X-Gm-Message-State: AC+VfDwL0Yue617ZPWAM0Ffd5jV9bBk3do4kM8OXLQ8KG6cW/OtEb0qd
 QIF04AFSfUSfeB+UasuPI9q8KyY+F0JIsOypvHK+9UD+QYVeapj7vxN4xvtbaoeJhFXJRSdD+w=
 =
X-Google-Smtp-Source: ACHHUZ5748NckGAD/M644KETwreAgfdp9HSJBDY/GRpqIqUBI0wf6CZrPCopDFaLtSginqQvfClmvhlFdb+5
X-Received: by 2002:a05:6870:2207:b0:18b:1ce6:bbb8 with SMTP id
 i7-20020a056870220700b0018b1ce6bbb8mr724282oaf.22.1684988829597; 
 Wed, 24 May 2023 21:27:09 -0700 (PDT)
Received: from postal.iol.unh.edu (postal.iol.unh.edu.
 [2606:4100:3880:1234::84]) by smtp-relay.gmail.com with ESMTPS id
 j20-20020a056870d45400b00196225afa8fsm73624oag.9.2023.05.24.21.27.09
 (version=TLS1_2 cipher=ECDHE-ECDSA-AES128-GCM-SHA256 bits=128/128);
 Wed, 24 May 2023 21:27:09 -0700 (PDT)
X-Relaying-Domain: iol.unh.edu
Date: Wed, 24 May 2023 21:27:09 -0700 (PDT)
Message-ID: <646ee39d.050a0220.e632e.1cd1SMTPIN_ADDED_MISSING@mx.google.com>
Received: from [172.17.0.2] (unknown [172.18.0.34])
 by postal.iol.unh.edu (Postfix) with ESMTP id 36FF8605246B;
 Thu, 25 May 2023 00:27:09 -0400 (EDT)
Subject: |SUCCESS| pw127357 [PATCH] pci: add O_CLOEXEC when open uio device
From: dpdklab@iol.unh.edu
To: Test Report <test-report@dpdk.org>
Cc: dpdk-test-reports@iol.unh.edu
Content-Type: text/plain
X-BeenThere: test-report@dpdk.org
X-Mailman-Version: 2.1.29
Precedence: list
List-Id: automatic DPDK test reports <test-report.dpdk.org>
List-Unsubscribe: <https://mails.dpdk.org/options/test-report>,
 <mailto:test-report-request@dpdk.org?subject=unsubscribe>
List-Archive: <http://mails.dpdk.org/archives/test-report/>
List-Post: <mailto:test-report@dpdk.org>
List-Help: <mailto:test-report-request@dpdk.org?subject=help>
List-Subscribe: <https://mails.dpdk.org/listinfo/test-report>,
 <mailto:test-report-request@dpdk.org?subject=subscribe>
Errors-To: test-report-bounces@dpdk.org

Test-Label: iol-x86_64-compile-testing
Test-Status: SUCCESS
http://dpdk.org/patch/127357

_Testing PASS_

Submitter: Weifeng Su <suweifeng1@huawei.com>
Date: Thursday, May 25 2023 03:00:35 
DPDK git baseline: Repo:dpdk
  Branch: master
  CommitID:2d9e10932d535ea553081b489a25f6fce7ec7996

127357 --> testing pass

Test environment and result as below:

+------------------+--------------------+
|   Environment    | dpdk_meson_compile |
+==================+====================+
| FreeBSD 13       | PASS               |
+------------------+--------------------+
| CentOS Stream 8  | PASS               |
+------------------+--------------------+
| Debian Buster    | PASS               |
+------------------+--------------------+
| CentOS Stream 9  | PASS               |
+------------------+--------------------+
| Debian Bullseye  | PASS               |
+------------------+--------------------+
| Ubuntu 22.04     | PASS               |
+------------------+--------------------+
| RHEL 7           | PASS               |
+------------------+--------------------+
| openSUSE Leap 15 | PASS               |
+------------------+--------------------+
| RHEL8            | PASS               |
+------------------+--------------------+
| Alpine           | PASS               |
+------------------+--------------------+
| Ubuntu 20.04     | PASS               |
+------------------+--------------------+


FreeBSD 13
	Kernel: 13.0
	Compiler: clang 11.0.1

CentOS Stream 8
	Kernel: 4.18.0-240.10.1.el8_3.x86_64
	Compiler: gcc 8.4.1 20200928

Debian Buster
	Kernel: 5.4.0-122-generic
	Compiler: gcc 8.3.0-6

CentOS Stream 9
	Kernel: 4.18.0-240.10.1.el8_3.x86_64
	Compiler: gcc 11.3.1 20220421

Debian Bullseye
	Kernel: 5.4.0-122-generic
	Compiler: gcc 10.2.1-6

Ubuntu 22.04
	Kernel: Container Host Kernel
	Compiler: gcc 11.3.1-2

RHEL 7
	Kernel: 4.18.0-240.10.1.el8_3.x86_64
	Compiler: gcc 4.8.5 20150623 (Red Hat 4.8.5-44)

openSUSE Leap 15
	Kernel: 4.18.0-240.10.1.el8_3.x86_64
	Compiler: gcc 7.5.0

RHEL8
	Kernel: 4.18.0-240.10.1.el8_3.x86_64
	Compiler: gcc 8.3.1 20191121 (Red Hat 8.3.1-5)

Alpine
	Kernel: 5.4.0-73-generic
	Compiler: gcc (Alpine 10.3.1_git20210424) 10.3.1 20210424

Ubuntu 20.04
	Kernel: 4.18.0-240.10.1.el8_3.x86_64
	Compiler: gcc 9.3.0-17ubuntu1~20.04

To view detailed results, visit:
https://lab.dpdk.org/results/dashboard/patchsets/26374/

UNH-IOL DPDK Community Lab

To manage your email subscriptions, visit: 
https://lab.dpdk.org/results/dashboard/preferences/subscriptions/