From mboxrd@z Thu Jan  1 00:00:00 1970
Return-Path: <test-report-bounces@dpdk.org>
Received: from mails.dpdk.org (mails.dpdk.org [217.70.189.124])
	by inbox.dpdk.org (Postfix) with ESMTP id 52F3A42B98
	for <public@inbox.dpdk.org>; Thu, 25 May 2023 11:12:57 +0200 (CEST)
Received: from mails.dpdk.org (localhost [127.0.0.1])
	by mails.dpdk.org (Postfix) with ESMTP id 5039E40DDB;
	Thu, 25 May 2023 11:12:57 +0200 (CEST)
Received: from mail-oa1-f98.google.com (mail-oa1-f98.google.com
 [209.85.160.98]) by mails.dpdk.org (Postfix) with ESMTP id 0029A40DDB
 for <test-report@dpdk.org>; Thu, 25 May 2023 11:12:55 +0200 (CEST)
Received: by mail-oa1-f98.google.com with SMTP id
 586e51a60fabf-19a308a045aso640273fac.0
 for <test-report@dpdk.org>; Thu, 25 May 2023 02:12:55 -0700 (PDT)
DKIM-Signature: v=1; a=rsa-sha256; c=relaxed/relaxed;
 d=iol.unh.edu; s=unh-iol; t=1685005975; x=1687597975;
 h=cc:to:from:subject:message-id:date:from:to:cc:subject:date
 :message-id:reply-to;
 bh=xMrE6yafbX7vBV7n6sRa/pMWuA31+Y2vbS0NAZKEhA4=;
 b=AqrEIPvjJaRLYQt0Xx93RnPledjGoTWkbrVKUbDlZCQNWwlijFAP3Tfqo39eEKOcwO
 Ot6xfRzi3gDxu1oGtPmmB0dm0PuHqDx0f2a1JJHGCcxNA5CgS9a3NAeuA04RoSqGIAdB
 038bIIpaUclVEuaJJYzSeuYbi2QK5+RE96ZCQ=
X-Google-DKIM-Signature: v=1; a=rsa-sha256; c=relaxed/relaxed;
 d=1e100.net; s=20221208; t=1685005975; x=1687597975;
 h=cc:to:from:subject:message-id:date:x-gm-message-state:from:to:cc
 :subject:date:message-id:reply-to;
 bh=xMrE6yafbX7vBV7n6sRa/pMWuA31+Y2vbS0NAZKEhA4=;
 b=DPVRz69KpvlhyLu7V/x+RGr0uZ1dHhcc9lfRh1ajZ/rUAe/RZZJgGMagTP69o4RDMf
 3m/6ZJxRSGjw86PV2YjL01euzxXLn15HUVPTigt/wT+V4eMcs/2gBSAtxbaeI22ynh5h
 FWvmO1BpAZ16Z7doPYFoS8Vh27jGEWOQzeO9StRxBpdLSgfQVq3jNnQa9vz0AvmShIHL
 qXXKegDIX+0a0KJbkjWfMB/Nbm3JBNbpDyfsjZ5nq41ch5xzBv8E34jlaUXkoLXb7PHz
 tSCC/JrtHAEXAUzPMczVgiwkeWoR1NA/7458sOMERUgnuuAM4QMNsbQ7T/E+wXkPZx4b
 RP0g==
X-Gm-Message-State: AC+VfDyzTYc8NUm+seMNqeAVxfaGCQupQuCWkmeeIkuBvQ04JX9iGeD+
 R9Zc5rLPZKMcrUE0gvrsb64ITfAI8xxWTPV1cjVjlZGt8VpPy9+a0iX9BQ==
X-Google-Smtp-Source: ACHHUZ6/zV98i8GYbEk4OiA3BgPbbbLERXiDOgoB4pf61WQHi1h8vplc80LOpdItibB9CzMvDHOJc43TMunm
X-Received: by 2002:a05:6870:3a04:b0:192:7469:2718 with SMTP id
 du4-20020a0568703a0400b0019274692718mr1357156oab.50.1685005975293; 
 Thu, 25 May 2023 02:12:55 -0700 (PDT)
Received: from postal.iol.unh.edu (postal.iol.unh.edu. [132.177.123.84])
 by smtp-relay.gmail.com with ESMTPS id
 s4-20020a05687090c400b001762712a183sm119057oab.18.2023.05.25.02.12.55
 (version=TLS1_2 cipher=ECDHE-ECDSA-AES128-GCM-SHA256 bits=128/128);
 Thu, 25 May 2023 02:12:55 -0700 (PDT)
X-Relaying-Domain: iol.unh.edu
Date: Thu, 25 May 2023 02:12:55 -0700 (PDT)
Message-ID: <646f2697.050a0220.3bf03.2bf7SMTPIN_ADDED_MISSING@mx.google.com>
Received: from [172.17.0.2] (unknown [172.18.0.34])
 by postal.iol.unh.edu (Postfix) with ESMTP id DC6DA605246B;
 Thu, 25 May 2023 05:12:54 -0400 (EDT)
Subject: |SUCCESS| pw127369 [PATCH] telemetry: fix JSON string formatter
From: dpdklab@iol.unh.edu
To: Test Report <test-report@dpdk.org>
Cc: dpdk-test-reports@iol.unh.edu
Content-Type: text/plain
X-BeenThere: test-report@dpdk.org
X-Mailman-Version: 2.1.29
Precedence: list
List-Id: automatic DPDK test reports <test-report.dpdk.org>
List-Unsubscribe: <https://mails.dpdk.org/options/test-report>,
 <mailto:test-report-request@dpdk.org?subject=unsubscribe>
List-Archive: <http://mails.dpdk.org/archives/test-report/>
List-Post: <mailto:test-report@dpdk.org>
List-Help: <mailto:test-report-request@dpdk.org?subject=help>
List-Subscribe: <https://mails.dpdk.org/listinfo/test-report>,
 <mailto:test-report-request@dpdk.org?subject=subscribe>
Errors-To: test-report-bounces@dpdk.org

Test-Label: iol-abi-testing
Test-Status: SUCCESS
http://dpdk.org/patch/127369

_Testing PASS_

Submitter: David Marchand <david.marchand@redhat.com>
Date: Thursday, May 25 2023 07:20:35 
DPDK git baseline: Repo:dpdk
  Branch: master
  CommitID:2d9e10932d535ea553081b489a25f6fce7ec7996

127369 --> testing pass

Test environment and result as below:

+-----------------+----------+
|   Environment   | abi_test |
+=================+==========+
| Debian Bullseye | PASS     |
+-----------------+----------+
| Ubuntu 22.04    | PASS     |
+-----------------+----------+
| Debian Buster   | PASS     |
+-----------------+----------+
| RHEL 7          | PASS     |
+-----------------+----------+


Debian Bullseye
	Kernel: 5.4.0-122-generic
	Compiler: gcc 10.2.1-6

Ubuntu 22.04
	Kernel: Container Host Kernel
	Compiler: gcc 12.2.1-2

Debian Buster
	Kernel: 5.4.0-122-generic
	Compiler: gcc 8.3.0-6

RHEL 7
	Kernel: 4.18.0-240.10.1.el8_3.x86_64
	Compiler: gcc 4.8.5 20150623 (Red Hat 4.8.5-44)

To view detailed results, visit:
https://lab.dpdk.org/results/dashboard/patchsets/26378/

UNH-IOL DPDK Community Lab

To manage your email subscriptions, visit: 
https://lab.dpdk.org/results/dashboard/preferences/subscriptions/