From mboxrd@z Thu Jan  1 00:00:00 1970
Return-Path: <test-report-bounces@dpdk.org>
Received: from mails.dpdk.org (mails.dpdk.org [217.70.189.124])
	by inbox.dpdk.org (Postfix) with ESMTP id 55E4842B98
	for <public@inbox.dpdk.org>; Thu, 25 May 2023 11:22:17 +0200 (CEST)
Received: from mails.dpdk.org (localhost [127.0.0.1])
	by mails.dpdk.org (Postfix) with ESMTP id 3CC7C40DDB;
	Thu, 25 May 2023 11:22:17 +0200 (CEST)
Received: from mail-qk1-f227.google.com (mail-qk1-f227.google.com
 [209.85.222.227])
 by mails.dpdk.org (Postfix) with ESMTP id 23B0040DDB
 for <test-report@dpdk.org>; Thu, 25 May 2023 11:22:16 +0200 (CEST)
Received: by mail-qk1-f227.google.com with SMTP id
 af79cd13be357-75b17b80834so73701085a.1
 for <test-report@dpdk.org>; Thu, 25 May 2023 02:22:16 -0700 (PDT)
DKIM-Signature: v=1; a=rsa-sha256; c=relaxed/relaxed;
 d=iol.unh.edu; s=unh-iol; t=1685006535; x=1687598535;
 h=cc:to:from:subject:message-id:date:from:to:cc:subject:date
 :message-id:reply-to;
 bh=awEi/PbQWzpZ972CjTxYXw4L/DMRiEN2ndozP9BksR8=;
 b=FtVFQoLroLgVQZ/Q1fRYmsMFoztja89kUiopAzPDt0id2Ob80fZZIG7kl1LTEDLTLQ
 i/ehJmLPCZAX2dRu+qqiR5e48Ig5z3kADSXcWgQtn6rBLy7CKxUPW2jdK5Tx6+yruuc1
 pVyXECo3VkCUPKbKx7icyai/FwtuPnkWI0pr0=
X-Google-DKIM-Signature: v=1; a=rsa-sha256; c=relaxed/relaxed;
 d=1e100.net; s=20221208; t=1685006535; x=1687598535;
 h=cc:to:from:subject:message-id:date:x-gm-message-state:from:to:cc
 :subject:date:message-id:reply-to;
 bh=awEi/PbQWzpZ972CjTxYXw4L/DMRiEN2ndozP9BksR8=;
 b=P4myw1KQsUky9Kg2dAlaKbW5WdAGklhNu9UlmC6Xymu1T/sMpASJfyxakW7eWJvEeG
 eO03xoJgr6BADSSOVacHXcPTGlkK37NPZN6IJ8h98yuBD3Dbo+6Bhh7bDu9qncLe39oJ
 OcFfHywag838NI93v/VMC8x8Ghr2Y9QWEMvqyLfJLfam0c/0Fj9Xh9s+G0lEms+x2pcg
 eAm8JqAdiQOiUMvtQQgTtCaBNf/gwKNySP8AozV2UtWw/dUKNsSBJxT/eS5bbmdgp7Qc
 JItk+XYUGczLSXptdtxy+B4Tsh1IV/Wx0UqXidxuyJl+4Y69b5y+a9IiP3ebTTgIHoX1
 UFtg==
X-Gm-Message-State: AC+VfDztB5E6fiIStSLOPiecLP4PNVyOJrdpHZ2IM0EogiVCMddIRP8C
 K6Q35XtOLNTJtu1W+2d4Ai6t9mjwIMZEiFH5YIsUNWEtSzbBERMzrEcjciKCqvbIlNgcr6TvpA=
 =
X-Google-Smtp-Source: ACHHUZ48wRIWFQtZQYmoHurCGFfTagiAZ5WxBZl6OIdhnNKDnDoXFIONIWDPxxMXtkP64TyT+CAjCRqXjFhz
X-Received: by 2002:a05:620a:191d:b0:75b:23a1:443 with SMTP id
 bj29-20020a05620a191d00b0075b23a10443mr11102287qkb.9.1685006535487; 
 Thu, 25 May 2023 02:22:15 -0700 (PDT)
Received: from postal.iol.unh.edu (postal.iol.unh.edu.
 [2606:4100:3880:1234::84]) by smtp-relay.gmail.com with ESMTPS id
 br12-20020a05620a460c00b00748513aeee2sm106517qkb.9.2023.05.25.02.22.15
 (version=TLS1_2 cipher=ECDHE-ECDSA-AES128-GCM-SHA256 bits=128/128);
 Thu, 25 May 2023 02:22:15 -0700 (PDT)
X-Relaying-Domain: iol.unh.edu
Date: Thu, 25 May 2023 02:22:15 -0700 (PDT)
Message-ID: <646f28c7.050a0220.55dbf.2f71SMTPIN_ADDED_MISSING@mx.google.com>
Received: from [172.17.0.2] (unknown [172.18.0.34])
 by postal.iol.unh.edu (Postfix) with ESMTP id 30EC6605246B;
 Thu, 25 May 2023 05:22:15 -0400 (EDT)
Subject: |SUCCESS| pw127369 [PATCH] telemetry: fix JSON string formatter
From: dpdklab@iol.unh.edu
To: Test Report <test-report@dpdk.org>
Cc: dpdk-test-reports@iol.unh.edu
Content-Type: text/plain
X-BeenThere: test-report@dpdk.org
X-Mailman-Version: 2.1.29
Precedence: list
List-Id: automatic DPDK test reports <test-report.dpdk.org>
List-Unsubscribe: <https://mails.dpdk.org/options/test-report>,
 <mailto:test-report-request@dpdk.org?subject=unsubscribe>
List-Archive: <http://mails.dpdk.org/archives/test-report/>
List-Post: <mailto:test-report@dpdk.org>
List-Help: <mailto:test-report-request@dpdk.org?subject=help>
List-Subscribe: <https://mails.dpdk.org/listinfo/test-report>,
 <mailto:test-report-request@dpdk.org?subject=subscribe>
Errors-To: test-report-bounces@dpdk.org

Test-Label: iol-abi-testing
Test-Status: SUCCESS
http://dpdk.org/patch/127369

_Testing PASS_

Submitter: David Marchand <david.marchand@redhat.com>
Date: Thursday, May 25 2023 07:20:35 
DPDK git baseline: Repo:dpdk
  Branch: master
  CommitID:2d9e10932d535ea553081b489a25f6fce7ec7996

127369 --> testing pass

Test environment and result as below:

+-----------------+----------+
|   Environment   | abi_test |
+=================+==========+
| Debian Bullseye | PASS     |
+-----------------+----------+
| Ubuntu 22.04    | PASS     |
+-----------------+----------+
| Debian Buster   | PASS     |
+-----------------+----------+
| RHEL 7          | PASS     |
+-----------------+----------+
| CentOS Stream 9 | PASS     |
+-----------------+----------+
| CentOS Stream 8 | PASS     |
+-----------------+----------+
| RHEL8           | PASS     |
+-----------------+----------+


Debian Bullseye
	Kernel: 5.4.0-122-generic
	Compiler: gcc 10.2.1-6

Ubuntu 22.04
	Kernel: Container Host Kernel
	Compiler: gcc 12.2.1-2

Debian Buster
	Kernel: 5.4.0-122-generic
	Compiler: gcc 8.3.0-6

RHEL 7
	Kernel: 4.18.0-240.10.1.el8_3.x86_64
	Compiler: gcc 4.8.5 20150623 (Red Hat 4.8.5-44)

CentOS Stream 9
	Kernel: 4.18.0-240.10.1.el8_3.x86_64
	Compiler: gcc 11.3.1 20220421

CentOS Stream 8
	Kernel: 4.18.0-240.10.1.el8_3.x86_64
	Compiler: gcc 8.4.1 20200928

RHEL8
	Kernel: 4.18.0-240.10.1.el8_3.x86_64
	Compiler: gcc 8.3.1 20191121 (Red Hat 8.3.1-5)

To view detailed results, visit:
https://lab.dpdk.org/results/dashboard/patchsets/26378/

UNH-IOL DPDK Community Lab

To manage your email subscriptions, visit: 
https://lab.dpdk.org/results/dashboard/preferences/subscriptions/