From mboxrd@z Thu Jan  1 00:00:00 1970
Return-Path: <test-report-bounces@dpdk.org>
Received: from mails.dpdk.org (mails.dpdk.org [217.70.189.124])
	by inbox.dpdk.org (Postfix) with ESMTP id 72FBB42B9A
	for <public@inbox.dpdk.org>; Thu, 25 May 2023 12:24:38 +0200 (CEST)
Received: from mails.dpdk.org (localhost [127.0.0.1])
	by mails.dpdk.org (Postfix) with ESMTP id 5257840E6E;
	Thu, 25 May 2023 12:24:38 +0200 (CEST)
Received: from mail-ot1-f99.google.com (mail-ot1-f99.google.com
 [209.85.210.99]) by mails.dpdk.org (Postfix) with ESMTP id BF3B940DF8
 for <test-report@dpdk.org>; Thu, 25 May 2023 12:24:36 +0200 (CEST)
Received: by mail-ot1-f99.google.com with SMTP id
 46e09a7af769-6af6df7f93aso1075927a34.0
 for <test-report@dpdk.org>; Thu, 25 May 2023 03:24:36 -0700 (PDT)
DKIM-Signature: v=1; a=rsa-sha256; c=relaxed/relaxed;
 d=iol.unh.edu; s=unh-iol; t=1685010276; x=1687602276;
 h=cc:to:from:subject:message-id:date:from:to:cc:subject:date
 :message-id:reply-to;
 bh=isPU5yXQiwSadeuGOnVYAxugKw4KNUnBY1usJXcRrCM=;
 b=AltHX2PEzP9cmPe6l0Snlom78Mx1QMYUxGjuBpdh1hOt+KxRJZyeNEayOqXnLpoox9
 wPgsKIDGI+OtI8EyoCwpVdMXlzQtXqQupindIp9epbXz7IWdx2qlJUGy9ZKsIm7nFPNR
 71MdHyfOGG63C7Hk/19QNiTTDVOc6f6E8QSMQ=
X-Google-DKIM-Signature: v=1; a=rsa-sha256; c=relaxed/relaxed;
 d=1e100.net; s=20221208; t=1685010276; x=1687602276;
 h=cc:to:from:subject:message-id:date:x-gm-message-state:from:to:cc
 :subject:date:message-id:reply-to;
 bh=isPU5yXQiwSadeuGOnVYAxugKw4KNUnBY1usJXcRrCM=;
 b=Nhpft/pu9ZlS+nEp3qZ39ork8XcBqWl4gR4VJLv6K8SW5Vd2ABXYXHp+L3NXW3PGpB
 MolGjyQc6nywZTD/6LQgn30s8kXe7xSwE3kHCWpzyDz0fxk3MuKLX4tM7vy3ozLMRXBA
 ZupX8a5YIOaSDGTGFnrAaZDVK1XwJADqWIIT9QHt18PJSyPDdlDmfTRmrmW8S7ZyfKI3
 ny4N8dn/KLi92a2gLHYqCAkAWEemPQlBKaJPWw7iyeizkJ4jpIkxtYobCvdrP3jVcyrM
 UUMO383IqghN3TNCgePTe75B7Hxl/5DssWuc25WqK1gR3R5s6r1BR/aRHWCRYXz3h9mN
 crPA==
X-Gm-Message-State: AC+VfDyk9Sdh61bqH2KBghjWjYWFXTR77eExHElhCyOJDbpImDFZgbDe
 Z+Yd9NqKzWOQ3ubjFnarzvw/5vx9Jbo34qnzimeNwuK6fkT3yWw7iYGZ3w==
X-Google-Smtp-Source: ACHHUZ6CUczu3Wij5qIxgNiNLqX5TrZsHZV/oPYz9YPaEcBfLukd4eddgnCHYpAL99wx5vbbCPrFCJdLZLV9
X-Received: by 2002:a9d:740c:0:b0:6af:a078:e61 with SMTP id
 n12-20020a9d740c000000b006afa0780e61mr2158110otk.23.1685010276138; 
 Thu, 25 May 2023 03:24:36 -0700 (PDT)
Received: from postal.iol.unh.edu (postal.iol.unh.edu. [132.177.123.84])
 by smtp-relay.gmail.com with ESMTPS id
 w42-20020a056830412a00b006ab3b7b6b95sm119896ott.10.2023.05.25.03.24.36
 (version=TLS1_2 cipher=ECDHE-ECDSA-AES128-GCM-SHA256 bits=128/128);
 Thu, 25 May 2023 03:24:36 -0700 (PDT)
X-Relaying-Domain: iol.unh.edu
Date: Thu, 25 May 2023 03:24:36 -0700 (PDT)
Message-ID: <646f3764.050a0220.f6f7d.28c3SMTPIN_ADDED_MISSING@mx.google.com>
Received: from [172.17.0.2] (unknown [172.18.0.34])
 by postal.iol.unh.edu (Postfix) with ESMTP id 195A5605246B;
 Thu, 25 May 2023 06:24:34 -0400 (EDT)
Subject: |SUCCESS| pw127369 [PATCH] telemetry: fix JSON string formatter
From: dpdklab@iol.unh.edu
To: Test Report <test-report@dpdk.org>
Cc: dpdk-test-reports@iol.unh.edu
Content-Type: text/plain
X-BeenThere: test-report@dpdk.org
X-Mailman-Version: 2.1.29
Precedence: list
List-Id: automatic DPDK test reports <test-report.dpdk.org>
List-Unsubscribe: <https://mails.dpdk.org/options/test-report>,
 <mailto:test-report-request@dpdk.org?subject=unsubscribe>
List-Archive: <http://mails.dpdk.org/archives/test-report/>
List-Post: <mailto:test-report@dpdk.org>
List-Help: <mailto:test-report-request@dpdk.org?subject=help>
List-Subscribe: <https://mails.dpdk.org/listinfo/test-report>,
 <mailto:test-report-request@dpdk.org?subject=subscribe>
Errors-To: test-report-bounces@dpdk.org

Test-Label: iol-x86_64-compile-testing
Test-Status: SUCCESS
http://dpdk.org/patch/127369

_Testing PASS_

Submitter: David Marchand <david.marchand@redhat.com>
Date: Thursday, May 25 2023 07:20:35 
DPDK git baseline: Repo:dpdk
  Branch: master
  CommitID:2d9e10932d535ea553081b489a25f6fce7ec7996

127369 --> testing pass

Test environment and result as below:

+------------------+--------------------+
|   Environment    | dpdk_meson_compile |
+==================+====================+
| FreeBSD 13       | PASS               |
+------------------+--------------------+
| Debian Buster    | PASS               |
+------------------+--------------------+
| CentOS Stream 8  | PASS               |
+------------------+--------------------+
| Debian Bullseye  | PASS               |
+------------------+--------------------+
| RHEL 7           | PASS               |
+------------------+--------------------+
| Ubuntu 20.04     | PASS               |
+------------------+--------------------+
| Ubuntu 22.04     | PASS               |
+------------------+--------------------+
| CentOS Stream 9  | PASS               |
+------------------+--------------------+
| openSUSE Leap 15 | PASS               |
+------------------+--------------------+
| RHEL8            | PASS               |
+------------------+--------------------+
| Alpine           | PASS               |
+------------------+--------------------+


FreeBSD 13
	Kernel: 13.0
	Compiler: clang 11.0.1

Debian Buster
	Kernel: 5.4.0-122-generic
	Compiler: gcc 8.3.0-6

CentOS Stream 8
	Kernel: 4.18.0-240.10.1.el8_3.x86_64
	Compiler: gcc 8.4.1 20200928

Debian Bullseye
	Kernel: 5.4.0-122-generic
	Compiler: gcc 10.2.1-6

RHEL 7
	Kernel: 4.18.0-240.10.1.el8_3.x86_64
	Compiler: gcc 4.8.5 20150623 (Red Hat 4.8.5-44)

Ubuntu 20.04
	Kernel: 4.18.0-240.10.1.el8_3.x86_64
	Compiler: gcc 9.3.0-17ubuntu1~20.04

Ubuntu 22.04
	Kernel: 4.18.0-240.10.1.el8_3.x86_64
	Compiler: gcc 11.3.0

CentOS Stream 9
	Kernel: 4.18.0-240.10.1.el8_3.x86_64
	Compiler: gcc 11.3.1 20220421

openSUSE Leap 15
	Kernel: 4.18.0-240.10.1.el8_3.x86_64
	Compiler: gcc 7.5.0

RHEL8
	Kernel: 4.18.0-240.10.1.el8_3.x86_64
	Compiler: gcc 8.3.1 20191121 (Red Hat 8.3.1-5)

Alpine
	Kernel: 5.4.0-73-generic
	Compiler: gcc (Alpine 10.3.1_git20210424) 10.3.1 20210424

To view detailed results, visit:
https://lab.dpdk.org/results/dashboard/patchsets/26378/

UNH-IOL DPDK Community Lab

To manage your email subscriptions, visit: 
https://lab.dpdk.org/results/dashboard/preferences/subscriptions/