From: dpdklab@iol.unh.edu
To: Test Report <test-report@dpdk.org>
Cc: dpdk-test-reports@iol.unh.edu
Subject: |SUCCESS| pw127562 [PATCH] net/ice: init dvm mode for parser
Date: Fri, 26 May 2023 05:42:14 -0700 (PDT) [thread overview]
Message-ID: <6470a926.b00a0220.2c5da.b953SMTPIN_ADDED_MISSING@mx.google.com> (raw)
Test-Label: iol-abi-testing
Test-Status: SUCCESS
http://dpdk.org/patch/127562
_Testing PASS_
Submitter: Zhang, Qi Z <qi.z.zhang@intel.com>
Date: Friday, May 26 2023 19:21:25
DPDK git baseline: Repo:dpdk
Branch: master
CommitID:c9df59bcc9bec67783de98486879594e52bdc418
127562 --> testing pass
Test environment and result as below:
+-----------------+----------+
| Environment | abi_test |
+=================+==========+
| CentOS Stream 8 | PASS |
+-----------------+----------+
| Ubuntu 22.04 | PASS |
+-----------------+----------+
| CentOS Stream 9 | PASS |
+-----------------+----------+
CentOS Stream 8
Kernel: 4.18.0-240.10.1.el8_3.x86_64
Compiler: gcc 8.4.1 20200928
Ubuntu 22.04
Kernel: Container Host Kernel
Compiler: gcc 11.3.1-2
CentOS Stream 9
Kernel: 4.18.0-240.10.1.el8_3.x86_64
Compiler: gcc 11.3.1 20220421
To view detailed results, visit:
https://lab.dpdk.org/results/dashboard/patchsets/26415/
UNH-IOL DPDK Community Lab
To manage your email subscriptions, visit:
https://lab.dpdk.org/results/dashboard/preferences/subscriptions/
next reply other threads:[~2023-05-26 12:42 UTC|newest]
Thread overview: 34+ messages / expand[flat|nested] mbox.gz Atom feed top
2023-05-26 12:42 dpdklab [this message]
-- strict thread matches above, loose matches on Subject: below --
2023-05-26 19:31 dpdklab
2023-05-26 19:26 dpdklab
2023-05-26 19:22 dpdklab
2023-05-26 19:12 dpdklab
2023-05-26 19:02 dpdklab
2023-05-26 19:02 dpdklab
2023-05-26 18:57 dpdklab
2023-05-26 17:27 dpdklab
2023-05-26 15:07 dpdklab
2023-05-26 13:32 dpdklab
2023-05-26 13:16 dpdklab
2023-05-26 13:01 dpdklab
2023-05-26 13:01 dpdklab
2023-05-26 13:01 dpdklab
2023-05-26 13:00 dpdklab
2023-05-26 12:59 dpdklab
2023-05-26 12:50 dpdklab
2023-05-26 12:45 dpdklab
2023-05-26 12:45 dpdklab
2023-05-26 12:36 dpdklab
2023-05-26 12:30 dpdklab
2023-05-26 12:28 dpdklab
2023-05-26 12:28 dpdklab
2023-05-26 12:28 dpdklab
2023-05-26 12:27 dpdklab
2023-05-26 12:27 dpdklab
2023-05-26 12:26 dpdklab
2023-05-26 12:26 dpdklab
[not found] <20230526192125.3210774-1-qi.z.zhang@intel.com>
2023-05-26 10:51 ` qemudev
2023-05-26 10:55 ` qemudev
2023-05-26 11:03 ` checkpatch
2023-05-26 12:19 ` 0-day Robot
2023-05-26 12:17 dpdklab
Reply instructions:
You may reply publicly to this message via plain-text email
using any one of the following methods:
* Save the following mbox file, import it into your mail client,
and reply-to-all from there: mbox
Avoid top-posting and favor interleaved quoting:
https://en.wikipedia.org/wiki/Posting_style#Interleaved_style
* Reply using the --to, --cc, and --in-reply-to
switches of git-send-email(1):
git send-email \
--in-reply-to=6470a926.b00a0220.2c5da.b953SMTPIN_ADDED_MISSING@mx.google.com \
--to=dpdklab@iol.unh.edu \
--cc=dpdk-test-reports@iol.unh.edu \
--cc=test-report@dpdk.org \
/path/to/YOUR_REPLY
https://kernel.org/pub/software/scm/git/docs/git-send-email.html
* If your mail client supports setting the In-Reply-To header
via mailto: links, try the mailto: link
Be sure your reply has a Subject: header at the top and a blank line
before the message body.
This is a public inbox, see mirroring instructions
for how to clone and mirror all data and code used for this inbox;
as well as URLs for NNTP newsgroup(s).