From mboxrd@z Thu Jan  1 00:00:00 1970
Return-Path: <test-report-bounces@dpdk.org>
Received: from mails.dpdk.org (mails.dpdk.org [217.70.189.124])
	by inbox.dpdk.org (Postfix) with ESMTP id 7373A42BAB
	for <public@inbox.dpdk.org>; Fri, 26 May 2023 15:45:27 +0200 (CEST)
Received: from mails.dpdk.org (localhost [127.0.0.1])
	by mails.dpdk.org (Postfix) with ESMTP id 6D70642D10;
	Fri, 26 May 2023 15:45:27 +0200 (CEST)
Received: from mail-yb1-f227.google.com (mail-yb1-f227.google.com
 [209.85.219.227])
 by mails.dpdk.org (Postfix) with ESMTP id F1E3342D10
 for <test-report@dpdk.org>; Fri, 26 May 2023 15:45:25 +0200 (CEST)
Received: by mail-yb1-f227.google.com with SMTP id
 3f1490d57ef6-ba841216e92so1271316276.1
 for <test-report@dpdk.org>; Fri, 26 May 2023 06:45:25 -0700 (PDT)
DKIM-Signature: v=1; a=rsa-sha256; c=relaxed/relaxed;
 d=iol.unh.edu; s=unh-iol; t=1685108725; x=1687700725;
 h=cc:to:from:subject:message-id:date:from:to:cc:subject:date
 :message-id:reply-to;
 bh=kGUZPjsTjsWLpUtVcylNNxl8e1gR1U0q3/iGK4fog0k=;
 b=ZsoNdSLIZpQRPP0uECsqQOhRBYbvgiEEfpIgwUTDXqPLBiOX9VKfWvKSZm0IrA5ozP
 wCj/nj/7FTKxHNmmjgfmpcj1PCisGZJxWCP0KifgFv+bbE/zlfnf+p4+OD41yMhUd6CM
 4QsNO52KuoeEBLbroZ4macdXSh0AhiaHd0sWw=
X-Google-DKIM-Signature: v=1; a=rsa-sha256; c=relaxed/relaxed;
 d=1e100.net; s=20221208; t=1685108725; x=1687700725;
 h=cc:to:from:subject:message-id:date:x-gm-message-state:from:to:cc
 :subject:date:message-id:reply-to;
 bh=kGUZPjsTjsWLpUtVcylNNxl8e1gR1U0q3/iGK4fog0k=;
 b=agKhKTLB95+y5lKZKZqYiDYuEfsMcKmo/h5ihF8oI4DEoNeaHIbkgg/5/sdfASFzbX
 Clpw8sShuTyGKsEWXB7sv3gaiXqM8YxVm126AJq4BBU5lg7i53vBkYogoxN307jZNmed
 p3xtAcJa+Tln5J70n2GJXY6HglJ7fLMsZ8lBsvDTjy4I0Br30pinSb4Rb9tMvu5IBx3D
 apQAAiqSqYhF6OTSRNB3NqTlvSVG76Ma25rwPTpCebozcFuJrbtM6V253RpdPMFcHWEs
 AcJijEcGsufbr+UQSjop2FcRFfpEOfZeZh5WpnbVS9H3MoKUYl4CiFr4mjkKtfcM9uK+
 0iEQ==
X-Gm-Message-State: AC+VfDz1r1x/Tlj0HXotTHMFhmuYUK6ReHFH6Xq7vy8QdNeg9OJ6hGMg
 4XDY0WJrmulWjDq1ojUD2kO71ZBVo2Nrw+I+JXVH1MsaqQzYXy4Flu/RTg==
X-Google-Smtp-Source: ACHHUZ4BSTfJMcuoeBuT3GsbOX6/W8aCPbgeUxDoXeEiN5M5gJx2PBz+b48Huxip7VSyc89ZAjh44xOmw+55
X-Received: by 2002:a81:4fcd:0:b0:561:e561:9fe0 with SMTP id
 d196-20020a814fcd000000b00561e5619fe0mr2249993ywb.38.1685108725457; 
 Fri, 26 May 2023 06:45:25 -0700 (PDT)
Received: from postal.iol.unh.edu (postal.iol.unh.edu. [132.177.123.84])
 by smtp-relay.gmail.com with ESMTPS id
 u5-20020a814705000000b00562167b8b0esm277016ywa.62.2023.05.26.06.45.25
 (version=TLS1_2 cipher=ECDHE-ECDSA-AES128-GCM-SHA256 bits=128/128);
 Fri, 26 May 2023 06:45:25 -0700 (PDT)
X-Relaying-Domain: iol.unh.edu
Date: Fri, 26 May 2023 06:45:25 -0700 (PDT)
Message-ID: <6470b7f5.810a0220.b18e0.bbe5SMTPIN_ADDED_MISSING@mx.google.com>
Received: from [172.17.0.2] (unknown [172.18.0.34])
 by postal.iol.unh.edu (Postfix) with ESMTP id 21F0F605246B;
 Fri, 26 May 2023 09:45:25 -0400 (EDT)
Subject: |SUCCESS| pw127553 [PATCH] [v8] enhance NUMA affinity heuristic
From: dpdklab@iol.unh.edu
To: Test Report <test-report@dpdk.org>
Cc: dpdk-test-reports@iol.unh.edu
Content-Type: text/plain
X-BeenThere: test-report@dpdk.org
X-Mailman-Version: 2.1.29
Precedence: list
List-Id: automatic DPDK test reports <test-report.dpdk.org>
List-Unsubscribe: <https://mails.dpdk.org/options/test-report>,
 <mailto:test-report-request@dpdk.org?subject=unsubscribe>
List-Archive: <http://mails.dpdk.org/archives/test-report/>
List-Post: <mailto:test-report@dpdk.org>
List-Help: <mailto:test-report-request@dpdk.org?subject=help>
List-Subscribe: <https://mails.dpdk.org/listinfo/test-report>,
 <mailto:test-report-request@dpdk.org?subject=subscribe>
Errors-To: test-report-bounces@dpdk.org

Test-Label: iol-abi-testing
Test-Status: SUCCESS
http://dpdk.org/patch/127553

_Testing PASS_

Submitter: Kaisen You <kaisenx.you@intel.com>
Date: Friday, May 26 2023 08:45:35 
DPDK git baseline: Repo:dpdk
  Branch: master
  CommitID:c9df59bcc9bec67783de98486879594e52bdc418

127553 --> testing pass

Test environment and result as below:

+------------------+----------+
|   Environment    | abi_test |
+==================+==========+
| CentOS Stream 9  | PASS     |
+------------------+----------+
| openSUSE Leap 15 | PASS     |
+------------------+----------+
| Ubuntu 22.04     | PASS     |
+------------------+----------+
| RHEL 7           | PASS     |
+------------------+----------+


CentOS Stream 9
	Kernel: 4.18.0-240.10.1.el8_3.x86_64
	Compiler: gcc 11.3.1 20220421

openSUSE Leap 15
	Kernel: 4.18.0-240.10.1.el8_3.x86_64
	Compiler: gcc 7.5.0

Ubuntu 22.04
	Kernel: 4.18.0-240.10.1.el8_3.x86_64
	Compiler: gcc 11.3.0

RHEL 7
	Kernel: 4.18.0-240.10.1.el8_3.x86_64
	Compiler: gcc 4.8.5 20150623 (Red Hat 4.8.5-44)

To view detailed results, visit:
https://lab.dpdk.org/results/dashboard/patchsets/26411/

UNH-IOL DPDK Community Lab

To manage your email subscriptions, visit: 
https://lab.dpdk.org/results/dashboard/preferences/subscriptions/