From mboxrd@z Thu Jan  1 00:00:00 1970
Return-Path: <test-report-bounces@dpdk.org>
Received: from mails.dpdk.org (mails.dpdk.org [217.70.189.124])
	by inbox.dpdk.org (Postfix) with ESMTP id 2BF2642BAB
	for <public@inbox.dpdk.org>; Fri, 26 May 2023 15:49:08 +0200 (CEST)
Received: from mails.dpdk.org (localhost [127.0.0.1])
	by mails.dpdk.org (Postfix) with ESMTP id 29CA540DDA;
	Fri, 26 May 2023 15:49:08 +0200 (CEST)
Received: from mail-yb1-f226.google.com (mail-yb1-f226.google.com
 [209.85.219.226])
 by mails.dpdk.org (Postfix) with ESMTP id E4ABC40DDA
 for <test-report@dpdk.org>; Fri, 26 May 2023 15:49:05 +0200 (CEST)
Received: by mail-yb1-f226.google.com with SMTP id
 3f1490d57ef6-ba71cd7ce7fso1268037276.1
 for <test-report@dpdk.org>; Fri, 26 May 2023 06:49:05 -0700 (PDT)
DKIM-Signature: v=1; a=rsa-sha256; c=relaxed/relaxed;
 d=iol.unh.edu; s=unh-iol; t=1685108945; x=1687700945;
 h=cc:to:from:subject:message-id:date:from:to:cc:subject:date
 :message-id:reply-to;
 bh=feevmlGHCmHjxKcF2wscEfuKIZ4FjXR0/GS54Va70T0=;
 b=cZsSF+F6UXGFTbERRFyHVKOGQUiwhDKyFB/RiRDs1uguDMbhP/Ef2ibpPAJ+UzN4f8
 oj+LSx6bRG2FZZA7VKYcaa8ld5hzL2NIH7pQ6+b7pThs9kjxU+QvjNQmDCSEC2Sci8rI
 wK/2k8eIPbWGsr70KH5riPe+hRdKZY1rrQCgQ=
X-Google-DKIM-Signature: v=1; a=rsa-sha256; c=relaxed/relaxed;
 d=1e100.net; s=20221208; t=1685108945; x=1687700945;
 h=cc:to:from:subject:message-id:date:x-gm-message-state:from:to:cc
 :subject:date:message-id:reply-to;
 bh=feevmlGHCmHjxKcF2wscEfuKIZ4FjXR0/GS54Va70T0=;
 b=YF21zCJc1qNxTeT7UP8+8325TNyvnfoI62UdlUC1SmXnRdzBLZTcOrAp1n2V20VRaj
 KQcpd7Nm6CES8kV2T22kk+r4XBK9gPk4AgvXPPhGimkJQfxWNRBhqPsbbig11Umu/OgN
 F5DMtc89668NrF2y8a9nzEsPSktjszA5JYrFRWEQNF/8qn+W9zVVq1e8JBdDXYI59EP9
 NvwwsyeStDkxXt0/ncx8XqNXi8GX4se94NXcoaChNF0FiLQjkWQrKBMKxDFje830bN91
 ux2X8fa5HS3njO+lfI6lxgQsS31vOV6YxmjgZ5i8M6PY+iqD4suTFD4YOlmefi2zZPLr
 4iIg==
X-Gm-Message-State: AC+VfDyfBH+7Ht1mbKNRM1PByyAv7SEmw03bBXc1A39jZunNTzQ6gvLo
 a+3fSfwc/xGf44F4FmVS1P18IHnC9m/H+eQbeO7mIQnyWIPTWvOc9Nap5A==
X-Google-Smtp-Source: ACHHUZ6t/hKuYw67VrvDSd5xq0K12BX0pOktmquOmSAJn94TcRc7GQVP6x1d/3eZ28/E1J26gsSUyAGVYF9N
X-Received: by 2002:a0d:e60d:0:b0:561:8328:e802 with SMTP id
 p13-20020a0de60d000000b005618328e802mr1941616ywe.8.1685108945312; 
 Fri, 26 May 2023 06:49:05 -0700 (PDT)
Received: from postal.iol.unh.edu (postal.iol.unh.edu. [132.177.123.84])
 by smtp-relay.gmail.com with ESMTPS id
 z129-20020a816587000000b00561902c61d9sm278879ywb.67.2023.05.26.06.49.05
 (version=TLS1_2 cipher=ECDHE-ECDSA-AES128-GCM-SHA256 bits=128/128);
 Fri, 26 May 2023 06:49:05 -0700 (PDT)
X-Relaying-Domain: iol.unh.edu
Date: Fri, 26 May 2023 06:49:05 -0700 (PDT)
Message-ID: <6470b8d1.810a0220.323e3.b9c9SMTPIN_ADDED_MISSING@mx.google.com>
Received: from [172.17.0.2] (unknown [172.18.0.34])
 by postal.iol.unh.edu (Postfix) with ESMTP id F17AE605246B;
 Fri, 26 May 2023 09:49:04 -0400 (EDT)
Subject: |SUCCESS| pw127553 [PATCH] [v8] enhance NUMA affinity heuristic
From: dpdklab@iol.unh.edu
To: Test Report <test-report@dpdk.org>
Cc: dpdk-test-reports@iol.unh.edu
Content-Type: text/plain
X-BeenThere: test-report@dpdk.org
X-Mailman-Version: 2.1.29
Precedence: list
List-Id: automatic DPDK test reports <test-report.dpdk.org>
List-Unsubscribe: <https://mails.dpdk.org/options/test-report>,
 <mailto:test-report-request@dpdk.org?subject=unsubscribe>
List-Archive: <http://mails.dpdk.org/archives/test-report/>
List-Post: <mailto:test-report@dpdk.org>
List-Help: <mailto:test-report-request@dpdk.org?subject=help>
List-Subscribe: <https://mails.dpdk.org/listinfo/test-report>,
 <mailto:test-report-request@dpdk.org?subject=subscribe>
Errors-To: test-report-bounces@dpdk.org

Test-Label: iol-abi-testing
Test-Status: SUCCESS
http://dpdk.org/patch/127553

_Testing PASS_

Submitter: Kaisen You <kaisenx.you@intel.com>
Date: Friday, May 26 2023 08:45:35 
DPDK git baseline: Repo:dpdk
  Branch: master
  CommitID:c9df59bcc9bec67783de98486879594e52bdc418

127553 --> testing pass

Test environment and result as below:

+------------------+----------+
|   Environment    | abi_test |
+==================+==========+
| CentOS Stream 9  | PASS     |
+------------------+----------+
| openSUSE Leap 15 | PASS     |
+------------------+----------+
| Ubuntu 22.04     | PASS     |
+------------------+----------+
| RHEL 7           | PASS     |
+------------------+----------+
| CentOS Stream 8  | PASS     |
+------------------+----------+


CentOS Stream 9
	Kernel: 4.18.0-240.10.1.el8_3.x86_64
	Compiler: gcc 11.3.1 20220421

openSUSE Leap 15
	Kernel: 4.18.0-240.10.1.el8_3.x86_64
	Compiler: gcc 7.5.0

Ubuntu 22.04
	Kernel: 4.18.0-240.10.1.el8_3.x86_64
	Compiler: gcc 11.3.0

RHEL 7
	Kernel: 4.18.0-240.10.1.el8_3.x86_64
	Compiler: gcc 4.8.5 20150623 (Red Hat 4.8.5-44)

CentOS Stream 8
	Kernel: 4.18.0-240.10.1.el8_3.x86_64
	Compiler: gcc 8.4.1 20200928

To view detailed results, visit:
https://lab.dpdk.org/results/dashboard/patchsets/26411/

UNH-IOL DPDK Community Lab

To manage your email subscriptions, visit: 
https://lab.dpdk.org/results/dashboard/preferences/subscriptions/