From mboxrd@z Thu Jan  1 00:00:00 1970
Return-Path: <test-report-bounces@dpdk.org>
Received: from mails.dpdk.org (mails.dpdk.org [217.70.189.124])
	by inbox.dpdk.org (Postfix) with ESMTP id E1B9642BAC
	for <public@inbox.dpdk.org>; Fri, 26 May 2023 16:17:52 +0200 (CEST)
Received: from mails.dpdk.org (localhost [127.0.0.1])
	by mails.dpdk.org (Postfix) with ESMTP id DFD464068E;
	Fri, 26 May 2023 16:17:52 +0200 (CEST)
Received: from mail-il1-f227.google.com (mail-il1-f227.google.com
 [209.85.166.227])
 by mails.dpdk.org (Postfix) with ESMTP id A9FF74068E
 for <test-report@dpdk.org>; Fri, 26 May 2023 16:17:51 +0200 (CEST)
Received: by mail-il1-f227.google.com with SMTP id
 e9e14a558f8ab-332cc0efe88so6259345ab.0
 for <test-report@dpdk.org>; Fri, 26 May 2023 07:17:51 -0700 (PDT)
DKIM-Signature: v=1; a=rsa-sha256; c=relaxed/relaxed;
 d=iol.unh.edu; s=unh-iol; t=1685110671; x=1687702671;
 h=cc:to:from:subject:message-id:date:from:to:cc:subject:date
 :message-id:reply-to;
 bh=nG23bv7er9N8qScmPCOK3piiw9JMSBK0BmDjPDDWZ/s=;
 b=N+i3/IXzWcsvY+IJCVR+v4eFrBRrP2h+zJ6NkPmHFhBrdK3dWock02t9YYGdPM/Xfq
 kRbx9ZGWUkNzLMhmOphuQ+MwvOIdGoWNX5MbZhaX/yIpkEItl0Vab+MyVXwUkBoLP6tq
 Wl1vudeY9wCXWhGBDT/0i7GTbUWWlLOPh0zhM=
X-Google-DKIM-Signature: v=1; a=rsa-sha256; c=relaxed/relaxed;
 d=1e100.net; s=20221208; t=1685110671; x=1687702671;
 h=cc:to:from:subject:message-id:date:x-gm-message-state:from:to:cc
 :subject:date:message-id:reply-to;
 bh=nG23bv7er9N8qScmPCOK3piiw9JMSBK0BmDjPDDWZ/s=;
 b=Hk5Y0NEKJlL9HglnTMynhq/nW6ohBH5InIGXZYh9yOHUGc1/5Ujek9MzDBKvWWf/b2
 Xn3U1WkRKz9VREU8PnCB/JcopgHDlZ/crPSAWKxxzVvOPdhoMOvY34QXaZFk8OjgnODL
 lTquhkeFkAFsHyohfKYl/aNxd6jvHLOK+HLOOJAt61QYxYzgiDmkrEOao/K8Yb+3NqFP
 CywKcjXRn2/U0h1JUhKJ942fV89vvvq0e5OyWhquIxYyi8ZNvYclU3y1TOJMAa6wD0Cy
 Ludki+H8TRGyBb5e0pJfM88XfxO8OwVtCb1UrHRPD8VfhXJNr0UnxmW3zkDcqwM19UwZ
 hXpw==
X-Gm-Message-State: AC+VfDxZmMVNQ6EQnqFz66JcjFQqvqlzKQ2XD/5JE8oFS5Ayb5cnxOme
 xpMwRa0yMbSCDMLe/9lIbQwXilVwIMjV6InXZxigRTxaJIFWu3fMtPU1Z9v/iRhcpUCCh+FT/w=
 =
X-Google-Smtp-Source: ACHHUZ6MrEkH9U6q7SbpMFUK4V1AA3aJQZ4bEoSAPNK0FAUN/KLnpdBidYOfsXCeizxLi0LFFHr9i9iJ//If
X-Received: by 2002:a92:de46:0:b0:335:70ad:4695 with SMTP id
 e6-20020a92de46000000b0033570ad4695mr1607926ilr.18.1685110671077; 
 Fri, 26 May 2023 07:17:51 -0700 (PDT)
Received: from postal.iol.unh.edu (postal.iol.unh.edu.
 [2606:4100:3880:1234::84]) by smtp-relay.gmail.com with ESMTPS id
 l27-20020a02ccfb000000b0040fb4745b12sm163769jaq.34.2023.05.26.07.17.50
 (version=TLS1_2 cipher=ECDHE-ECDSA-AES128-GCM-SHA256 bits=128/128);
 Fri, 26 May 2023 07:17:51 -0700 (PDT)
X-Relaying-Domain: iol.unh.edu
Date: Fri, 26 May 2023 07:17:51 -0700 (PDT)
Message-ID: <6470bf8f.020a0220.a99c.6394SMTPIN_ADDED_MISSING@mx.google.com>
Received: from [172.17.0.2] (unknown [172.18.0.34])
 by postal.iol.unh.edu (Postfix) with ESMTP id 9C67F605246B;
 Fri, 26 May 2023 10:17:50 -0400 (EDT)
Subject: |SUCCESS| pw127551 [PATCH] net/igc: support device I225-LMVP
From: dpdklab@iol.unh.edu
To: Test Report <test-report@dpdk.org>
Cc: dpdk-test-reports@iol.unh.edu
Content-Type: text/plain
X-BeenThere: test-report@dpdk.org
X-Mailman-Version: 2.1.29
Precedence: list
List-Id: automatic DPDK test reports <test-report.dpdk.org>
List-Unsubscribe: <https://mails.dpdk.org/options/test-report>,
 <mailto:test-report-request@dpdk.org?subject=unsubscribe>
List-Archive: <http://mails.dpdk.org/archives/test-report/>
List-Post: <mailto:test-report@dpdk.org>
List-Help: <mailto:test-report-request@dpdk.org?subject=help>
List-Subscribe: <https://mails.dpdk.org/listinfo/test-report>,
 <mailto:test-report-request@dpdk.org?subject=subscribe>
Errors-To: test-report-bounces@dpdk.org

Test-Label: iol-abi-testing
Test-Status: SUCCESS
http://dpdk.org/patch/127551

_Testing PASS_

Submitter: Qiming Yang <qiming.yang@intel.com>
Date: Friday, May 26 2023 08:23:17 
DPDK git baseline: Repo:dpdk
  Branch: master
  CommitID:c9df59bcc9bec67783de98486879594e52bdc418

127551 --> testing pass

Test environment and result as below:

+------------------+----------+
|   Environment    | abi_test |
+==================+==========+
| Debian Buster    | PASS     |
+------------------+----------+
| CentOS Stream 8  | PASS     |
+------------------+----------+
| openSUSE Leap 15 | PASS     |
+------------------+----------+
| Ubuntu 22.04     | PASS     |
+------------------+----------+


Debian Buster
	Kernel: 5.4.0-122-generic
	Compiler: gcc 8.3.0-6

CentOS Stream 8
	Kernel: 4.18.0-240.10.1.el8_3.x86_64
	Compiler: gcc 8.4.1 20200928

openSUSE Leap 15
	Kernel: 4.18.0-240.10.1.el8_3.x86_64
	Compiler: gcc 7.5.0

Ubuntu 22.04
	Kernel: 4.18.0-240.10.1.el8_3.x86_64
	Compiler: gcc 11.3.0

To view detailed results, visit:
https://lab.dpdk.org/results/dashboard/patchsets/26409/

UNH-IOL DPDK Community Lab

To manage your email subscriptions, visit: 
https://lab.dpdk.org/results/dashboard/preferences/subscriptions/