From mboxrd@z Thu Jan  1 00:00:00 1970
Return-Path: <test-report-bounces@dpdk.org>
Received: from mails.dpdk.org (mails.dpdk.org [217.70.189.124])
	by inbox.dpdk.org (Postfix) with ESMTP id AA97A42BAC
	for <public@inbox.dpdk.org>; Fri, 26 May 2023 17:30:39 +0200 (CEST)
Received: from mails.dpdk.org (localhost [127.0.0.1])
	by mails.dpdk.org (Postfix) with ESMTP id A713A4068E;
	Fri, 26 May 2023 17:30:39 +0200 (CEST)
Received: from mail-vk1-f226.google.com (mail-vk1-f226.google.com
 [209.85.221.226])
 by mails.dpdk.org (Postfix) with ESMTP id 5F02C4068E
 for <test-report@dpdk.org>; Fri, 26 May 2023 17:30:38 +0200 (CEST)
Received: by mail-vk1-f226.google.com with SMTP id
 71dfb90a1353d-45702d3d92cso537360e0c.1
 for <test-report@dpdk.org>; Fri, 26 May 2023 08:30:38 -0700 (PDT)
DKIM-Signature: v=1; a=rsa-sha256; c=relaxed/relaxed;
 d=iol.unh.edu; s=unh-iol; t=1685115037; x=1687707037;
 h=cc:to:from:subject:message-id:date:from:to:cc:subject:date
 :message-id:reply-to;
 bh=ToxTLDuVaowM9Yr8S1dfUWyViWD5FMbDKqdvi3ILb3M=;
 b=Ji2OWvzKwa9JFd+rSrQt93VzdVxWtAF1Qzm23ZpRcCv/oULtyOsaZCRuAWrPO1KNhn
 ldJyABrXuYdWlfswjESrY1FRH5e3nMilAPmK24S9KjeOrxovitaq3dQXqhzM6xzH9i6o
 9jZ4vyZx0PINJsmdOn1UpiCoQt1PCYPhx2Ue4=
X-Google-DKIM-Signature: v=1; a=rsa-sha256; c=relaxed/relaxed;
 d=1e100.net; s=20221208; t=1685115037; x=1687707037;
 h=cc:to:from:subject:message-id:date:x-gm-message-state:from:to:cc
 :subject:date:message-id:reply-to;
 bh=ToxTLDuVaowM9Yr8S1dfUWyViWD5FMbDKqdvi3ILb3M=;
 b=kbmEsHEPTTFntRZsUwb4yGGNC336v9Xx2Kvou9rXLQ+nYB2VX+znVYzux4En1UOXYE
 EgJKSAw6HLtmiZHgFNit7FRH8ERIM21Mk0L3McNRaDzhRorO4Ajj47Q0UUwWuioCAMex
 It7/9d8vKdY0A8cJsFCgHAJyiP+XH3xnHH7z37VCdRnXzN3sCECRm7LqNo7+mpMa1kfC
 DWSyWAZ9B6kfomTh6hSYajvWvND7oZz0Yy2lurpd493KW0/TC4GfQTGqm7eABelFMl6p
 spikDb0TGTwxTAqdbqNUJ5NjJdPUJpxyi4SaP4awQD7nPrmnzi7Os2S8LruyB4LdY4pQ
 pHDQ==
X-Gm-Message-State: AC+VfDwj+wDs77miVfCqQMqvnW/cl1nslybVqBSYtgtPOBKZi2zxHgmO
 XB9E6zxFsgm7I1iiX/Y7c2A9Ag6f9L+D+lJiinYt2MVo007r+o0nYxvxYg==
X-Google-Smtp-Source: ACHHUZ4uJ7M2vTOyQIFbyfetFKkeqKwZ9JJxicJY8Qv9Pgya80tvnF9fLsL3Wcw2gTlGOwhk9S4WOnPxO9CI
X-Received: by 2002:a1f:3f0b:0:b0:44f:cf0e:dbcf with SMTP id
 m11-20020a1f3f0b000000b0044fcf0edbcfmr707402vka.11.1685115037749; 
 Fri, 26 May 2023 08:30:37 -0700 (PDT)
Received: from postal.iol.unh.edu (postal.iol.unh.edu. [132.177.123.84])
 by smtp-relay.gmail.com with ESMTPS id
 l21-20020a056122201500b004539f7433cbsm297346vkd.14.2023.05.26.08.30.37
 (version=TLS1_2 cipher=ECDHE-ECDSA-AES128-GCM-SHA256 bits=128/128);
 Fri, 26 May 2023 08:30:37 -0700 (PDT)
X-Relaying-Domain: iol.unh.edu
Date: Fri, 26 May 2023 08:30:37 -0700 (PDT)
Message-ID: <6470d09d.050a0220.21d0c.afc6SMTPIN_ADDED_MISSING@mx.google.com>
Received: from [172.17.0.2] (unknown [172.18.0.34])
 by postal.iol.unh.edu (Postfix) with ESMTP id 5C043605246B;
 Fri, 26 May 2023 11:30:37 -0400 (EDT)
Subject: |SUCCESS| pw127553 [PATCH] [v8] enhance NUMA affinity heuristic
From: dpdklab@iol.unh.edu
To: Test Report <test-report@dpdk.org>
Cc: dpdk-test-reports@iol.unh.edu
Content-Type: text/plain
X-BeenThere: test-report@dpdk.org
X-Mailman-Version: 2.1.29
Precedence: list
List-Id: automatic DPDK test reports <test-report.dpdk.org>
List-Unsubscribe: <https://mails.dpdk.org/options/test-report>,
 <mailto:test-report-request@dpdk.org?subject=unsubscribe>
List-Archive: <http://mails.dpdk.org/archives/test-report/>
List-Post: <mailto:test-report@dpdk.org>
List-Help: <mailto:test-report-request@dpdk.org?subject=help>
List-Subscribe: <https://mails.dpdk.org/listinfo/test-report>,
 <mailto:test-report-request@dpdk.org?subject=subscribe>
Errors-To: test-report-bounces@dpdk.org

Test-Label: iol-x86_64-compile-testing
Test-Status: SUCCESS
http://dpdk.org/patch/127553

_Testing PASS_

Submitter: Kaisen You <kaisenx.you@intel.com>
Date: Friday, May 26 2023 08:45:35 
DPDK git baseline: Repo:dpdk
  Branch: master
  CommitID:c9df59bcc9bec67783de98486879594e52bdc418

127553 --> testing pass

Test environment and result as below:

+------------------+--------------------+
|   Environment    | dpdk_meson_compile |
+==================+====================+
| FreeBSD 13       | PASS               |
+------------------+--------------------+
| CentOS Stream 9  | PASS               |
+------------------+--------------------+
| CentOS Stream 8  | PASS               |
+------------------+--------------------+
| RHEL8            | PASS               |
+------------------+--------------------+
| Ubuntu 22.04     | PASS               |
+------------------+--------------------+
| Alpine           | PASS               |
+------------------+--------------------+
| Debian Bullseye  | PASS               |
+------------------+--------------------+
| openSUSE Leap 15 | PASS               |
+------------------+--------------------+
| RHEL 7           | PASS               |
+------------------+--------------------+
| Debian Buster    | PASS               |
+------------------+--------------------+
| Ubuntu 20.04     | PASS               |
+------------------+--------------------+


FreeBSD 13
	Kernel: 13.0
	Compiler: clang 11.0.1

CentOS Stream 9
	Kernel: 4.18.0-240.10.1.el8_3.x86_64
	Compiler: gcc 11.3.1 20220421

CentOS Stream 8
	Kernel: 4.18.0-240.10.1.el8_3.x86_64
	Compiler: gcc 8.4.1 20200928

RHEL8
	Kernel: 4.18.0-240.10.1.el8_3.x86_64
	Compiler: gcc 8.3.1 20191121 (Red Hat 8.3.1-5)

Ubuntu 22.04
	Kernel: 4.18.0-240.10.1.el8_3.x86_64
	Compiler: gcc 11.3.0

Alpine
	Kernel: 5.4.0-73-generic
	Compiler: gcc (Alpine 10.3.1_git20210424) 10.3.1 20210424

Debian Bullseye
	Kernel: 5.4.0-122-generic
	Compiler: gcc 10.2.1-6

openSUSE Leap 15
	Kernel: 4.18.0-240.10.1.el8_3.x86_64
	Compiler: gcc 7.5.0

RHEL 7
	Kernel: 4.18.0-240.10.1.el8_3.x86_64
	Compiler: gcc 4.8.5 20150623 (Red Hat 4.8.5-44)

Debian Buster
	Kernel: 5.4.0-122-generic
	Compiler: gcc 8.3.0-6

Ubuntu 20.04
	Kernel: 4.18.0-240.10.1.el8_3.x86_64
	Compiler: gcc 9.3.0-17ubuntu1~20.04

To view detailed results, visit:
https://lab.dpdk.org/results/dashboard/patchsets/26411/

UNH-IOL DPDK Community Lab

To manage your email subscriptions, visit: 
https://lab.dpdk.org/results/dashboard/preferences/subscriptions/