From: dpdklab@iol.unh.edu
To: Test Report <test-report@dpdk.org>
Cc: dpdk-test-reports@iol.unh.edu
Subject: |SUCCESS| pw128194-128197 [PATCH] [v7,4/4] bus/cdx: support plug unp
Date: Thu, 08 Jun 2023 14:41:44 -0700 (PDT) [thread overview]
Message-ID: <64824b18.250a0220.ad2e7.318cSMTPIN_ADDED_MISSING@mx.google.com> (raw)
Test-Label: iol-abi-testing
Test-Status: SUCCESS
http://dpdk.org/patch/128197
_Testing PASS_
Submitter: Nipun Gupta <nipun.gupta@amd.com>
Date: Tuesday, June 06 2023 10:02:58
DPDK git baseline: Repo:dpdk
Branch: master
CommitID:38689022f609a290645c7027084aee720c1fcf91
128194-128197 --> testing pass
Test environment and result as below:
+------------------+----------+
| Environment | abi_test |
+==================+==========+
| CentOS Stream 8 | PASS |
+------------------+----------+
| RHEL 7 | PASS |
+------------------+----------+
| Fedora 38 | PASS |
+------------------+----------+
| openSUSE Leap 15 | PASS |
+------------------+----------+
| Debian Bullseye | PASS |
+------------------+----------+
| Ubuntu 22.04 | PASS |
+------------------+----------+
| CentOS Stream 9 | PASS |
+------------------+----------+
| Debian Buster | PASS |
+------------------+----------+
| RHEL8 | PASS |
+------------------+----------+
| Fedora 37 | PASS |
+------------------+----------+
CentOS Stream 8
Kernel: 4.18.0-240.10.1.el8_3.x86_64
Compiler: gcc 8.4.1 20200928
RHEL 7
Kernel: 4.18.0-240.10.1.el8_3.x86_64
Compiler: gcc 4.8.5 20150623 (Red Hat 4.8.5-44)
Fedora 38
Kernel: Depends on container host
Compiler: clang 16.0.3
openSUSE Leap 15
Kernel: 4.18.0-240.10.1.el8_3.x86_64
Compiler: gcc 7.5.0
Debian Bullseye
Kernel: 5.4.0-122-generic
Compiler: gcc 10.2.1-6
Ubuntu 22.04
Kernel: 4.18.0-240.10.1.el8_3.x86_64
Compiler: gcc 11.3.0
CentOS Stream 9
Kernel: 4.18.0-240.10.1.el8_3.x86_64
Compiler: gcc 11.3.1 20220421
Debian Buster
Kernel: 5.4.0-122-generic
Compiler: gcc 8.3.0-6
RHEL8
Kernel: 4.18.0-240.10.1.el8_3.x86_64
Compiler: gcc 8.3.1 20191121 (Red Hat 8.3.1-5)
Fedora 37
Kernel: Depends on container host system
Compiler: gcc 12.3.1
To view detailed results, visit:
https://lab.dpdk.org/results/dashboard/patchsets/26548/
UNH-IOL DPDK Community Lab
To manage your email subscriptions, visit:
https://lab.dpdk.org/results/dashboard/preferences/subscriptions/
next reply other threads:[~2023-06-08 21:41 UTC|newest]
Thread overview: 45+ messages / expand[flat|nested] mbox.gz Atom feed top
2023-06-08 21:41 dpdklab [this message]
-- strict thread matches above, loose matches on Subject: below --
2023-06-08 22:39 dpdklab
2023-06-08 21:42 dpdklab
2023-06-08 21:42 dpdklab
2023-06-08 21:42 dpdklab
2023-06-08 21:42 dpdklab
2023-06-08 21:42 dpdklab
2023-06-08 21:42 dpdklab
2023-06-08 21:41 dpdklab
2023-06-08 21:41 dpdklab
2023-06-08 21:41 dpdklab
2023-06-08 21:41 dpdklab
2023-06-08 21:41 dpdklab
2023-06-08 21:41 dpdklab
2023-06-08 21:41 dpdklab
2023-06-08 21:41 dpdklab
2023-06-08 21:41 dpdklab
2023-06-08 21:41 dpdklab
2023-06-08 21:41 dpdklab
2023-06-08 21:41 dpdklab
2023-06-08 21:41 dpdklab
2023-06-08 21:40 dpdklab
2023-06-08 21:40 dpdklab
2023-06-08 21:40 dpdklab
2023-06-08 21:40 dpdklab
2023-06-08 21:39 dpdklab
2023-06-08 21:39 dpdklab
2023-06-08 21:39 dpdklab
2023-06-08 21:39 dpdklab
2023-06-08 21:38 dpdklab
2023-06-08 21:33 dpdklab
2023-06-06 12:17 dpdklab
2023-06-06 11:49 dpdklab
2023-06-06 11:32 dpdklab
2023-06-06 11:19 dpdklab
2023-06-06 11:16 dpdklab
2023-06-06 10:58 dpdklab
2023-06-06 10:45 dpdklab
2023-06-06 10:39 dpdklab
2023-06-06 10:38 dpdklab
2023-06-06 10:37 dpdklab
2023-06-06 10:37 dpdklab
2023-06-06 10:33 dpdklab
2023-06-06 10:33 dpdklab
2023-06-06 10:31 dpdklab
Reply instructions:
You may reply publicly to this message via plain-text email
using any one of the following methods:
* Save the following mbox file, import it into your mail client,
and reply-to-all from there: mbox
Avoid top-posting and favor interleaved quoting:
https://en.wikipedia.org/wiki/Posting_style#Interleaved_style
* Reply using the --to, --cc, and --in-reply-to
switches of git-send-email(1):
git send-email \
--in-reply-to=64824b18.250a0220.ad2e7.318cSMTPIN_ADDED_MISSING@mx.google.com \
--to=dpdklab@iol.unh.edu \
--cc=dpdk-test-reports@iol.unh.edu \
--cc=test-report@dpdk.org \
/path/to/YOUR_REPLY
https://kernel.org/pub/software/scm/git/docs/git-send-email.html
* If your mail client supports setting the In-Reply-To header
via mailto: links, try the mailto: link
Be sure your reply has a Subject: header at the top and a blank line
before the message body.
This is a public inbox, see mirroring instructions
for how to clone and mirror all data and code used for this inbox;
as well as URLs for NNTP newsgroup(s).