From: dpdklab@iol.unh.edu
To: Test Report <test-report@dpdk.org>
Cc: dpdk-test-reports@iol.unh.edu,
Andrew Rybchenko <andrew.rybchenko@oktetlabs.ru>,
Ferruh Yigit <ferruh.yigit@amd.com>
Subject: |SUCCESS| [GIT MASTER] 6322157adb518508feb8643707b33aad3bf85599
Date: Thu, 08 Jun 2023 14:59:51 -0700 (PDT) [thread overview]
Message-ID: <64824f57.050a0220.60ffc.46d5SMTPIN_ADDED_MISSING@mx.google.com> (raw)
_Testing PASS_
Branch: dpdk-next-net
6322157adb518508feb8643707b33aad3bf85599 --> testing pass
Test environment and result as below:
+----------------------------------------+--------------------+
| Environment | dpdk_meson_compile |
+========================================+====================+
| Debian 11 (Buster) (ARM) | PASS |
+----------------------------------------+--------------------+
| Ubuntu 20.04 aarch32 GCC Cross Compile | PASS |
+----------------------------------------+--------------------+
| Fedora 38 (ARM) | PASS |
+----------------------------------------+--------------------+
| Ubuntu 20.04 ARM Clang Cross Compile | PASS |
+----------------------------------------+--------------------+
| Ubuntu 20.04 ARM SVE | PASS |
+----------------------------------------+--------------------+
| Ubuntu 20.04 ARM GCC Cross Compile | PASS |
+----------------------------------------+--------------------+
| Fedora 37 (ARM) | PASS |
+----------------------------------------+--------------------+
| CentOS Stream 9 (ARM) | PASS |
+----------------------------------------+--------------------+
| Ubuntu 20.04 (ARM) | PASS |
+----------------------------------------+--------------------+
Debian 11 (Buster) (ARM)
Kernel: Container Host Kernel
Compiler: gcc 10.2.1
Ubuntu 20.04 aarch32 GCC Cross Compile
Kernel: 5.4.0-72-generic
Compiler: gcc 9.3.0
Fedora 38 (ARM)
Kernel: Depends on container host
Compiler: gcc 13.1.1
Ubuntu 20.04 ARM Clang Cross Compile
Kernel: 5.4.0-72-generic
Compiler: clang version 10.0.0-4ubuntu1
Ubuntu 20.04 ARM SVE
Kernel: 5.4.0-80-generic
Compiler: gcc 10.3.0 (Ubuntu 10.3.0-1ubuntu1~20.04)
Ubuntu 20.04 ARM GCC Cross Compile
Kernel: 5.4.0-72-generic
Compiler: aarch64-linux-gnu-gcc (Ubuntu 9.3.0-17ubuntu1~20.04) 9.3.0
Fedora 37 (ARM)
Kernel: Depends on container host
Compiler: gcc 12.3.1
CentOS Stream 9 (ARM)
Kernel: Container Host Kernel
Compiler: gcc 11.3.1
Ubuntu 20.04 (ARM)
Kernel: Container Host Kernel
Compiler: gcc 9.4.0
To view detailed results, visit:
https://lab.dpdk.org/results/dashboard/tarballs/24846/
UNH-IOL DPDK Community Lab
To manage your email subscriptions, visit:
https://lab.dpdk.org/results/dashboard/preferences/subscriptions/
next reply other threads:[~2023-06-08 22:00 UTC|newest]
Thread overview: 22+ messages / expand[flat|nested] mbox.gz Atom feed top
2023-06-08 21:59 dpdklab [this message]
-- strict thread matches above, loose matches on Subject: below --
2023-06-09 22:08 dpdklab
2023-06-09 22:07 dpdklab
2023-06-08 22:00 dpdklab
2023-06-08 22:00 dpdklab
2023-06-08 22:00 dpdklab
2023-06-08 22:00 dpdklab
2023-06-08 22:00 dpdklab
2023-06-03 19:22 dpdklab
2023-06-03 19:12 dpdklab
2023-06-03 19:08 dpdklab
2023-06-03 19:03 dpdklab
2023-06-03 18:57 dpdklab
2023-06-03 18:51 dpdklab
2023-06-03 18:38 dpdklab
2023-06-03 18:38 dpdklab
2023-06-03 18:38 dpdklab
2023-06-03 18:32 dpdklab
2023-06-03 18:31 dpdklab
2023-06-03 18:31 dpdklab
2023-06-03 18:26 dpdklab
2023-06-03 18:22 dpdklab
Reply instructions:
You may reply publicly to this message via plain-text email
using any one of the following methods:
* Save the following mbox file, import it into your mail client,
and reply-to-all from there: mbox
Avoid top-posting and favor interleaved quoting:
https://en.wikipedia.org/wiki/Posting_style#Interleaved_style
* Reply using the --to, --cc, and --in-reply-to
switches of git-send-email(1):
git send-email \
--in-reply-to=64824f57.050a0220.60ffc.46d5SMTPIN_ADDED_MISSING@mx.google.com \
--to=dpdklab@iol.unh.edu \
--cc=andrew.rybchenko@oktetlabs.ru \
--cc=dpdk-test-reports@iol.unh.edu \
--cc=ferruh.yigit@amd.com \
--cc=test-report@dpdk.org \
/path/to/YOUR_REPLY
https://kernel.org/pub/software/scm/git/docs/git-send-email.html
* If your mail client supports setting the In-Reply-To header
via mailto: links, try the mailto: link
Be sure your reply has a Subject: header at the top and a blank line
before the message body.
This is a public inbox, see mirroring instructions
for how to clone and mirror all data and code used for this inbox;
as well as URLs for NNTP newsgroup(s).