From mboxrd@z Thu Jan  1 00:00:00 1970
Return-Path: <test-report-bounces@dpdk.org>
Received: from mails.dpdk.org (mails.dpdk.org [217.70.189.124])
	by inbox.dpdk.org (Postfix) with ESMTP id 2A0F542C64
	for <public@inbox.dpdk.org>; Fri,  9 Jun 2023 00:08:39 +0200 (CEST)
Received: from mails.dpdk.org (localhost [127.0.0.1])
	by mails.dpdk.org (Postfix) with ESMTP id 2789840A7D;
	Fri,  9 Jun 2023 00:08:39 +0200 (CEST)
Received: from mail-qv1-f98.google.com (mail-qv1-f98.google.com
 [209.85.219.98]) by mails.dpdk.org (Postfix) with ESMTP id D272740A7D
 for <test-report@dpdk.org>; Fri,  9 Jun 2023 00:08:31 +0200 (CEST)
Received: by mail-qv1-f98.google.com with SMTP id
 6a1803df08f44-6261d4ea5f0so7797916d6.0
 for <test-report@dpdk.org>; Thu, 08 Jun 2023 15:08:31 -0700 (PDT)
DKIM-Signature: v=1; a=rsa-sha256; c=relaxed/relaxed;
 d=iol.unh.edu; s=unh-iol; t=1686262111; x=1688854111;
 h=cc:to:from:subject:message-id:date:from:to:cc:subject:date
 :message-id:reply-to;
 bh=h5HX7DTJD4K9zrg0sblz0KfVP6rLCdYP2YhZffFXnzQ=;
 b=L6RICt/wzVp4RvuHZGqDGRgEPHgE0in2KoB8SgkJmlQbfAVYMH2WDS+jrfst2qj5Mf
 lXcBaVFbG5oSgIhhFobHdFwSOu5xlL3oZ5FL/YVqiYmeocXM8af74SSc0gbrMKOv2Qj/
 dQ5GG3IxXl286fYVwcSIXK3Zg8vsca6leKMKc=
X-Google-DKIM-Signature: v=1; a=rsa-sha256; c=relaxed/relaxed;
 d=1e100.net; s=20221208; t=1686262111; x=1688854111;
 h=cc:to:from:subject:message-id:date:x-gm-message-state:from:to:cc
 :subject:date:message-id:reply-to;
 bh=h5HX7DTJD4K9zrg0sblz0KfVP6rLCdYP2YhZffFXnzQ=;
 b=T40nSoO3aoDCZQUYrLnDAkJSapro8Qg5d3NxN9xlyz59KkutLu1TRri67UBYLuCqGN
 NqJ4WiaE/NvLq3KsV5zzxIhv1qFV/SKYHNJfcJC+OccD9l75gCsYMhOHB2sa+OlE6LbD
 TkxNH8TaHrWSM1Snx/mtbrsHyzNmGrQz7kSJW4940XK5qa5A2+GtrBjGj2/3l1x3cra7
 0vBArPar6Lk0K9LhvfWFWqlP/0s79hZqvEhyUaW/Awbr82U9LjNrTPoc7azpkE01By9d
 sdeBm2RsOWdkLkO+OhEdnb39AUNC7HwbS+LBQeWKGYNPofJ8i1XDo69rtsIu0vlZKUQ1
 6PTw==
X-Gm-Message-State: AC+VfDzdjGwnI4wv/g87ruAN2xy3hjA62Hl1pP7K2JbxT2KNW2iqtMk0
 4+5h/cSBTLDh6lset2VAgbiBUIs4xXL+k0iOy23hjW0ggJDM80FdakhkHICUu2KwWyCUjRStYA=
 =
X-Google-Smtp-Source: ACHHUZ7jDkm1BGGXtF7K2mWQ+D74z7xXgsZEQA3lIwnINIKreRXn8m15DKAF5nEHknbXvsQhvRPFKz3i1Gz8
X-Received: by 2002:ad4:5f0a:0:b0:62b:25:9bc5 with SMTP id
 fo10-20020ad45f0a000000b0062b00259bc5mr3193121qvb.17.1686262111320; 
 Thu, 08 Jun 2023 15:08:31 -0700 (PDT)
Received: from postal.iol.unh.edu (postal.iol.unh.edu.
 [2606:4100:3880:1234::84]) by smtp-relay.gmail.com with ESMTPS id
 v15-20020ad4528f000000b0061b5a5e36a6sm143812qvr.78.2023.06.08.15.08.31
 (version=TLS1_2 cipher=ECDHE-ECDSA-AES128-GCM-SHA256 bits=128/128);
 Thu, 08 Jun 2023 15:08:31 -0700 (PDT)
X-Relaying-Domain: iol.unh.edu
Date: Thu, 08 Jun 2023 15:08:31 -0700 (PDT)
Message-ID: <6482515f.d40a0220.dbeff.3dc0SMTPIN_ADDED_MISSING@mx.google.com>
Received: from [172.17.0.6] (unknown [172.18.0.213])
 by postal.iol.unh.edu (Postfix) with ESMTP id 1784B605246B;
 Thu,  8 Jun 2023 18:08:31 -0400 (EDT)
Subject: |SUCCESS| pw127944 [PATCH] [v2] net/iavf: add VF reset check
From: dpdklab@iol.unh.edu
To: Test Report <test-report@dpdk.org>
Cc: dpdk-test-reports@iol.unh.edu
Content-Type: text/plain
X-BeenThere: test-report@dpdk.org
X-Mailman-Version: 2.1.29
Precedence: list
List-Id: automatic DPDK test reports <test-report.dpdk.org>
List-Unsubscribe: <https://mails.dpdk.org/options/test-report>,
 <mailto:test-report-request@dpdk.org?subject=unsubscribe>
List-Archive: <http://mails.dpdk.org/archives/test-report/>
List-Post: <mailto:test-report@dpdk.org>
List-Help: <mailto:test-report-request@dpdk.org?subject=help>
List-Subscribe: <https://mails.dpdk.org/listinfo/test-report>,
 <mailto:test-report-request@dpdk.org?subject=subscribe>
Errors-To: test-report-bounces@dpdk.org

Test-Label: iol-abi-testing
Test-Status: SUCCESS
http://dpdk.org/patch/127944

_Testing PASS_

Submitter: Zeng, ZhichaoX <zhichaox.zeng@intel.com>
Date: Friday, June 02 2023 02:38:22 
DPDK git baseline: Repo:dpdk
  Branch: master
  CommitID:abaa473297cf21cb81e5348185a7694ae2f221e7

127944 --> testing pass

Test environment and result as below:

+------------------+----------+
|   Environment    | abi_test |
+==================+==========+
| Debian Bullseye  | PASS     |
+------------------+----------+
| Fedora 38        | PASS     |
+------------------+----------+
| CentOS Stream 9  | PASS     |
+------------------+----------+
| CentOS Stream 8  | PASS     |
+------------------+----------+
| Debian Buster    | PASS     |
+------------------+----------+
| RHEL 7           | PASS     |
+------------------+----------+
| openSUSE Leap 15 | PASS     |
+------------------+----------+
| Ubuntu 22.04     | PASS     |
+------------------+----------+
| RHEL8            | PASS     |
+------------------+----------+
| Fedora 37        | PASS     |
+------------------+----------+


Debian Bullseye
	Kernel: 5.4.0-122-generic
	Compiler: gcc 10.2.1-6

Fedora 38
	Kernel: Depends on container host
	Compiler: gcc 13.1.1

CentOS Stream 9
	Kernel: 4.18.0-240.10.1.el8_3.x86_64
	Compiler: gcc 11.3.1 20220421

CentOS Stream 8
	Kernel: 4.18.0-240.10.1.el8_3.x86_64
	Compiler: gcc 8.4.1 20200928

Debian Buster
	Kernel: 5.4.0-122-generic
	Compiler: gcc 8.3.0-6

RHEL 7
	Kernel: 4.18.0-240.10.1.el8_3.x86_64
	Compiler: gcc 4.8.5 20150623 (Red Hat 4.8.5-44)

openSUSE Leap 15
	Kernel: 4.18.0-240.10.1.el8_3.x86_64
	Compiler: gcc 7.5.0

Ubuntu 22.04
	Kernel: 4.18.0-240.10.1.el8_3.x86_64
	Compiler: gcc 11.3.0

RHEL8
	Kernel: 4.18.0-240.10.1.el8_3.x86_64
	Compiler: gcc 8.3.1 20191121 (Red Hat 8.3.1-5)

Fedora 37
	Kernel: Depends on container host system
	Compiler: gcc 12.3.1

To view detailed results, visit:
https://lab.dpdk.org/results/dashboard/patchsets/26501/

UNH-IOL DPDK Community Lab

To manage your email subscriptions, visit: 
https://lab.dpdk.org/results/dashboard/preferences/subscriptions/