From mboxrd@z Thu Jan  1 00:00:00 1970
Return-Path: <test-report-bounces@dpdk.org>
Received: from mails.dpdk.org (mails.dpdk.org [217.70.189.124])
	by inbox.dpdk.org (Postfix) with ESMTP id E267E42C64
	for <public@inbox.dpdk.org>; Fri,  9 Jun 2023 00:23:40 +0200 (CEST)
Received: from mails.dpdk.org (localhost [127.0.0.1])
	by mails.dpdk.org (Postfix) with ESMTP id DEDB540A7D;
	Fri,  9 Jun 2023 00:23:40 +0200 (CEST)
Received: from mail-io1-f99.google.com (mail-io1-f99.google.com
 [209.85.166.99]) by mails.dpdk.org (Postfix) with ESMTP id 914C740A7D
 for <test-report@dpdk.org>; Fri,  9 Jun 2023 00:23:37 +0200 (CEST)
Received: by mail-io1-f99.google.com with SMTP id
 ca18e2360f4ac-76c64da0e46so53678939f.0
 for <test-report@dpdk.org>; Thu, 08 Jun 2023 15:23:37 -0700 (PDT)
DKIM-Signature: v=1; a=rsa-sha256; c=relaxed/relaxed;
 d=iol.unh.edu; s=unh-iol; t=1686263017; x=1688855017;
 h=cc:to:from:subject:message-id:date:from:to:cc:subject:date
 :message-id:reply-to;
 bh=OHZ713u9VmgcKd1NIxYtdfkUIqCzyFXGuM9QAIBAUls=;
 b=Jsk6xpN53P74/2Pf0Z71pJPQ59Js8egc+Dn48DJ5R4W5LHyU2xM6y8eeBbcxI+JfX9
 p1klwKMyqEyrHTzMCU7RSn2ilwuYV9UlNOIdlViKRR7llDYTHfF009gphY5Ps0J+Gqg4
 /LUwO/v9rqPfihYF+tpvey0aijuP1LHbAGOMM=
X-Google-DKIM-Signature: v=1; a=rsa-sha256; c=relaxed/relaxed;
 d=1e100.net; s=20221208; t=1686263017; x=1688855017;
 h=cc:to:from:subject:message-id:date:x-gm-message-state:from:to:cc
 :subject:date:message-id:reply-to;
 bh=OHZ713u9VmgcKd1NIxYtdfkUIqCzyFXGuM9QAIBAUls=;
 b=C2zG4m6yXoQt5VHooiPF7nJY9W+QcZsauqoAsSp1gzjdhlUGv2dOpIORimdnityiD9
 /venreeab3/bxV+w/7GhoOdLyKrOCGPI10hE1jtw+IviK+rHLaxDciLkxpSfgoexuGVc
 YuTxca2bbTruQpjd0Eo8sUMqVyvyWXUXihCXOa9ziNwvwjzXvqldhT7lcYVaaRaQkN6Y
 E9qAbznH2oKfO+v2j4Ri3xZyeKuPlx7D7hSnmzTl3tZQMi07bPRNwJVcEksLpA48BWqE
 GN+jbBFYqisChKb/OhxS7koknS00yTB6ma/xejT01yxW2T60JBhMx8SJbJs3fCZtYIla
 qKKA==
X-Gm-Message-State: AC+VfDxBpotM9gf9DmME6ub5WlmlQuew2eE59kLSltTctdjBDLa79+8m
 iOWRq7e1R0sREExHfycEA97kh7+zGQtnp8ldljkcWGbrScl+yAQ28NWTdMng8yHz2EMfkgSKpA=
 =
X-Google-Smtp-Source: ACHHUZ465cX1tuH/h1QaEQAZEINF0HhFqXkonblkaKYBhuBN0I1TZp0zGo/RU/oZQNBFwtpt6GlPpoOxWMaE
X-Received: by 2002:a5d:8497:0:b0:774:7eca:d9c5 with SMTP id
 t23-20020a5d8497000000b007747ecad9c5mr29135iom.2.1686263016977; 
 Thu, 08 Jun 2023 15:23:36 -0700 (PDT)
Received: from postal.iol.unh.edu (postal.iol.unh.edu.
 [2606:4100:3880:1234::84]) by smtp-relay.gmail.com with ESMTPS id
 l18-20020a02a892000000b0041889bfb250sm123305jam.83.2023.06.08.15.23.36
 (version=TLS1_2 cipher=ECDHE-ECDSA-AES128-GCM-SHA256 bits=128/128);
 Thu, 08 Jun 2023 15:23:36 -0700 (PDT)
X-Relaying-Domain: iol.unh.edu
Date: Thu, 08 Jun 2023 15:23:36 -0700 (PDT)
Message-ID: <648254e8.020a0220.27442.3671SMTPIN_ADDED_MISSING@mx.google.com>
Received: from [172.17.0.3] (unknown [172.18.0.215])
 by postal.iol.unh.edu (Postfix) with ESMTP id 8C774605246B;
 Thu,  8 Jun 2023 18:23:36 -0400 (EDT)
Subject: |SUCCESS| pw127747 [PATCH] [V5] lib: set/get max memzone segments
From: dpdklab@iol.unh.edu
To: Test Report <test-report@dpdk.org>
Cc: dpdk-test-reports@iol.unh.edu
Content-Type: text/plain
X-BeenThere: test-report@dpdk.org
X-Mailman-Version: 2.1.29
Precedence: list
List-Id: automatic DPDK test reports <test-report.dpdk.org>
List-Unsubscribe: <https://mails.dpdk.org/options/test-report>,
 <mailto:test-report-request@dpdk.org?subject=unsubscribe>
List-Archive: <http://mails.dpdk.org/archives/test-report/>
List-Post: <mailto:test-report@dpdk.org>
List-Help: <mailto:test-report-request@dpdk.org?subject=help>
List-Subscribe: <https://mails.dpdk.org/listinfo/test-report>,
 <mailto:test-report-request@dpdk.org?subject=subscribe>
Errors-To: test-report-bounces@dpdk.org

Test-Label: iol-abi-testing
Test-Status: SUCCESS
http://dpdk.org/patch/127747

_Testing PASS_

Submitter: Ophir Munk <ophirmu@nvidia.com>
Date: Wednesday, May 31 2023 07:52:22 
DPDK git baseline: Repo:dpdk
  Branch: master
  CommitID:c9df59bcc9bec67783de98486879594e52bdc418

127747 --> testing pass

Test environment and result as below:

+------------------+----------+
|   Environment    | abi_test |
+==================+==========+
| Fedora 38        | PASS     |
+------------------+----------+
| RHEL 7           | PASS     |
+------------------+----------+
| CentOS Stream 8  | PASS     |
+------------------+----------+
| Debian Bullseye  | PASS     |
+------------------+----------+
| openSUSE Leap 15 | PASS     |
+------------------+----------+
| Debian Buster    | PASS     |
+------------------+----------+
| RHEL8            | PASS     |
+------------------+----------+
| CentOS Stream 9  | PASS     |
+------------------+----------+
| Ubuntu 22.04     | PASS     |
+------------------+----------+
| Fedora 37        | PASS     |
+------------------+----------+


Fedora 38
	Kernel: Depends on container host
	Compiler: clang 16.0.3

RHEL 7
	Kernel: 4.18.0-240.10.1.el8_3.x86_64
	Compiler: gcc 4.8.5 20150623 (Red Hat 4.8.5-44)

CentOS Stream 8
	Kernel: 4.18.0-240.10.1.el8_3.x86_64
	Compiler: gcc 8.4.1 20200928

Debian Bullseye
	Kernel: 5.4.0-122-generic
	Compiler: gcc 10.2.1-6

openSUSE Leap 15
	Kernel: 4.18.0-240.10.1.el8_3.x86_64
	Compiler: gcc 7.5.0

Debian Buster
	Kernel: 5.4.0-122-generic
	Compiler: gcc 8.3.0-6

RHEL8
	Kernel: 4.18.0-240.10.1.el8_3.x86_64
	Compiler: gcc 8.3.1 20191121 (Red Hat 8.3.1-5)

CentOS Stream 9
	Kernel: 4.18.0-240.10.1.el8_3.x86_64
	Compiler: gcc 11.3.1 20220421

Ubuntu 22.04
	Kernel: 4.18.0-240.10.1.el8_3.x86_64
	Compiler: gcc 11.3.0

Fedora 37
	Kernel: Depends on container host system
	Compiler: gcc 12.3.1

To view detailed results, visit:
https://lab.dpdk.org/results/dashboard/patchsets/26465/

UNH-IOL DPDK Community Lab

To manage your email subscriptions, visit: 
https://lab.dpdk.org/results/dashboard/preferences/subscriptions/