From mboxrd@z Thu Jan  1 00:00:00 1970
Return-Path: <test-report-bounces@dpdk.org>
Received: from mails.dpdk.org (mails.dpdk.org [217.70.189.124])
	by inbox.dpdk.org (Postfix) with ESMTP id 4401242C72
	for <public@inbox.dpdk.org>; Sat, 10 Jun 2023 00:26:38 +0200 (CEST)
Received: from mails.dpdk.org (localhost [127.0.0.1])
	by mails.dpdk.org (Postfix) with ESMTP id 441FD40A84;
	Sat, 10 Jun 2023 00:26:38 +0200 (CEST)
Received: from mail-vk1-f226.google.com (mail-vk1-f226.google.com
 [209.85.221.226])
 by mails.dpdk.org (Postfix) with ESMTP id BAA3B40A84
 for <test-report@dpdk.org>; Sat, 10 Jun 2023 00:26:33 +0200 (CEST)
Received: by mail-vk1-f226.google.com with SMTP id
 71dfb90a1353d-460eb67244eso826479e0c.1
 for <test-report@dpdk.org>; Fri, 09 Jun 2023 15:26:33 -0700 (PDT)
DKIM-Signature: v=1; a=rsa-sha256; c=relaxed/relaxed;
 d=iol.unh.edu; s=unh-iol; t=1686349593; x=1688941593;
 h=cc:to:from:subject:message-id:date:from:to:cc:subject:date
 :message-id:reply-to;
 bh=n4zVTAFe2PxReArGbWu87TPGabKW9cgK4PVFEhLYFVQ=;
 b=ZfieuV9QlgTLJIS+t1g7CtDJT4hCzhI7lPj5ipnwmS/EQfSZAGV9mRV8dMR206ODfX
 02erl2ExvrG3g++32CNExDaHas+xtp7ogIcXwAP3rrPVGaE4UApcQ/Alz62j7RucTEL7
 aSXQssmOP+4zFO4MbzTwXtVa1vzS73yLnKWzU=
X-Google-DKIM-Signature: v=1; a=rsa-sha256; c=relaxed/relaxed;
 d=1e100.net; s=20221208; t=1686349593; x=1688941593;
 h=cc:to:from:subject:message-id:date:x-gm-message-state:from:to:cc
 :subject:date:message-id:reply-to;
 bh=n4zVTAFe2PxReArGbWu87TPGabKW9cgK4PVFEhLYFVQ=;
 b=SUQumRL/s0agh7cLZqZPZgQrzs2NrjYlDBLJVMdy9DXH6NMyNULajnwkvE4uFLHvWG
 DqhzTg0Y+U/sA8nBcrsCzI1dQflb7Mii/2ncS05+R/t3Jj5loD3QtsmMDG5tKPO7fyth
 Zl0TjCBOkcBorcTITKjRcYZUkEpFquenyGR/7LuQ6zRezytUXI4wK36CHaxUgJn9RuG8
 1d6UMYE0G6zQ8siQJ9WwbfBwUp5AIe14+nhzNkABLig/3t2rgCFwxEEDcKX8guh7zljd
 SAPEKNpK2tiYzc1AztuXwWalNqaa3hQzyVhwleoST1xxU/ZPQY6ydUUDLPQy6ICoayjH
 0RMA==
X-Gm-Message-State: AC+VfDxy0S/NlosWCFdFT7oHZUqDKv7Z2aLEZgyO0Quz0XQCdUhejnbZ
 p6wQfDJMFcIiILkghn0BBrVHppn6QrUqOjfj2Qguhi8Jmeh2uRTYk4gcRw==
X-Google-Smtp-Source: ACHHUZ48e4Ux+fCuLNQhhWVPp2xHlIsGgMX2zTVvWw1GfnxitnCMU+2+dcjTVRvxpJgOiiQffdl/Cq8oqhEb
X-Received: by 2002:a1f:45d1:0:b0:440:125:7e59 with SMTP id
 s200-20020a1f45d1000000b0044001257e59mr2175498vka.1.1686349593148; 
 Fri, 09 Jun 2023 15:26:33 -0700 (PDT)
Received: from postal.iol.unh.edu (postal.iol.unh.edu. [132.177.123.84])
 by smtp-relay.gmail.com with ESMTPS id
 f14-20020a056122134e00b004539f7433cbsm455096vkp.14.2023.06.09.15.26.33
 (version=TLS1_2 cipher=ECDHE-ECDSA-AES128-GCM-SHA256 bits=128/128);
 Fri, 09 Jun 2023 15:26:33 -0700 (PDT)
X-Relaying-Domain: iol.unh.edu
Date: Fri, 09 Jun 2023 15:26:33 -0700 (PDT)
Message-ID: <6483a719.050a0220.37920.afc0SMTPIN_ADDED_MISSING@mx.google.com>
Received: from [172.17.0.3] (unknown [172.18.0.34])
 by postal.iol.unh.edu (Postfix) with ESMTP id C560C605246B;
 Fri,  9 Jun 2023 18:26:32 -0400 (EDT)
Subject: |SUCCESS| pw127953 [PATCH] [v4] net/bnx2x: support 2.5Gbps
From: dpdklab@iol.unh.edu
To: Test Report <test-report@dpdk.org>
Cc: dpdk-test-reports@iol.unh.edu
Content-Type: text/plain
X-BeenThere: test-report@dpdk.org
X-Mailman-Version: 2.1.29
Precedence: list
List-Id: automatic DPDK test reports <test-report.dpdk.org>
List-Unsubscribe: <https://mails.dpdk.org/options/test-report>,
 <mailto:test-report-request@dpdk.org?subject=unsubscribe>
List-Archive: <http://mails.dpdk.org/archives/test-report/>
List-Post: <mailto:test-report@dpdk.org>
List-Help: <mailto:test-report-request@dpdk.org?subject=help>
List-Subscribe: <https://mails.dpdk.org/listinfo/test-report>,
 <mailto:test-report-request@dpdk.org?subject=subscribe>
Errors-To: test-report-bounces@dpdk.org

Test-Label: iol-abi-testing
Test-Status: SUCCESS
http://dpdk.org/patch/127953

_Testing PASS_

Submitter: Julien Aube <julien_dpdk@jaube.fr>
Date: Friday, June 02 2023 07:57:45 
DPDK git baseline: Repo:dpdk
  Branch: master
  CommitID:abaa473297cf21cb81e5348185a7694ae2f221e7

127953 --> testing pass

Test environment and result as below:

+------------------+----------+
|   Environment    | abi_test |
+==================+==========+
| CentOS Stream 9  | PASS     |
+------------------+----------+
| RHEL 7           | PASS     |
+------------------+----------+
| Debian Bullseye  | PASS     |
+------------------+----------+
| CentOS Stream 8  | PASS     |
+------------------+----------+
| openSUSE Leap 15 | PASS     |
+------------------+----------+
| RHEL8            | PASS     |
+------------------+----------+
| Fedora 37        | PASS     |
+------------------+----------+
| Debian Buster    | PASS     |
+------------------+----------+
| Fedora 38        | PASS     |
+------------------+----------+
| Ubuntu 22.04     | PASS     |
+------------------+----------+


CentOS Stream 9
	Kernel: 4.18.0-240.10.1.el8_3.x86_64
	Compiler: gcc 11.3.1 20220421

RHEL 7
	Kernel: 4.18.0-240.10.1.el8_3.x86_64
	Compiler: gcc 4.8.5 20150623 (Red Hat 4.8.5-44)

Debian Bullseye
	Kernel: 5.4.0-122-generic
	Compiler: gcc 10.2.1-6

CentOS Stream 8
	Kernel: 4.18.0-240.10.1.el8_3.x86_64
	Compiler: gcc 8.4.1 20200928

openSUSE Leap 15
	Kernel: 4.18.0-240.10.1.el8_3.x86_64
	Compiler: gcc 7.5.0

RHEL8
	Kernel: 4.18.0-240.10.1.el8_3.x86_64
	Compiler: gcc 8.3.1 20191121 (Red Hat 8.3.1-5)

Fedora 37
	Kernel: Depends on container host system
	Compiler: gcc 12.3.1

Debian Buster
	Kernel: 5.4.0-122-generic
	Compiler: gcc 8.3.0-6

Fedora 38
	Kernel: Depends on container host
	Compiler: clang 16.0.3

Ubuntu 22.04
	Kernel: 4.18.0-240.10.1.el8_3.x86_64
	Compiler: gcc 11.3.0

To view detailed results, visit:
https://lab.dpdk.org/results/dashboard/patchsets/26507/

UNH-IOL DPDK Community Lab

To manage your email subscriptions, visit: 
https://lab.dpdk.org/results/dashboard/preferences/subscriptions/