From: dpdklab@iol.unh.edu
To: Test Report <test-report@dpdk.org>
Cc: Bruce Richardson <bruce.richardson@intel.com>,
dpdk-test-reports@iol.unh.edu
Subject: |SUCCESS| pw127871 [PATCH] eal: fix calling cleanup function twice
Date: Fri, 09 Jun 2023 15:35:12 -0700 (PDT) [thread overview]
Message-ID: <6483a920.250a0220.a24ab.d77bSMTPIN_ADDED_MISSING@mx.google.com> (raw)
Test-Label: iol-aarch-unit-testing
Test-Status: SUCCESS
http://dpdk.org/patch/127871
_Testing PASS_
Submitter: Bruce Richardson <bruce.richardson@intel.com>
Date: Thursday, June 01 2023 16:08:55
DPDK git baseline: Repo:dpdk
Branch: master
CommitID:c9df59bcc9bec67783de98486879594e52bdc418
127871 --> testing pass
Test environment and result as below:
+-----------------------------+----------------+------------------------------+--------------+---------------------------+
| Environment | dpdk_unit_test | cryptodev_sw_snow3g_autotest | lpm_autotest | cryptodev_sw_zuc_autotest |
+=============================+================+==============================+==============+===========================+
| (32-bit) ARM Ubuntu 20.04.4 | PASS | SKIPPED | SKIPPED | SKIPPED |
+-----------------------------+----------------+------------------------------+--------------+---------------------------+
| Debian 11 | SKIPPED | PASS | SKIPPED | PASS |
+-----------------------------+----------------+------------------------------+--------------+---------------------------+
| Ubuntu 20.04 ARM SVE | SKIPPED | SKIPPED | PASS | SKIPPED |
+-----------------------------+----------------+------------------------------+--------------+---------------------------+
(32-bit) ARM Ubuntu 20.04.4
Kernel: 5.4.0-148-generic aarch64
Compiler: gcc 9.4
Debian 11
Kernel: Container Host Kernel
Compiler: gcc 10.2.1
Ubuntu 20.04 ARM SVE
Kernel: 5.4.0-80-generic
Compiler: gcc 10.3.0 (Ubuntu 10.3.0-1ubuntu1~20.04)
To view detailed results, visit:
https://lab.dpdk.org/results/dashboard/patchsets/26492/
UNH-IOL DPDK Community Lab
To manage your email subscriptions, visit:
https://lab.dpdk.org/results/dashboard/preferences/subscriptions/
next reply other threads:[~2023-06-09 22:35 UTC|newest]
Thread overview: 24+ messages / expand[flat|nested] mbox.gz Atom feed top
2023-06-09 22:35 dpdklab [this message]
-- strict thread matches above, loose matches on Subject: below --
2023-06-09 22:35 dpdklab
2023-06-09 22:35 dpdklab
2023-06-09 22:34 dpdklab
2023-06-09 22:23 dpdklab
2023-06-08 22:12 dpdklab
[not found] <20230601160855.119801-1-bruce.richardson@intel.com>
2023-06-01 16:02 ` qemudev
2023-06-01 16:06 ` qemudev
2023-06-01 16:10 ` checkpatch
2023-06-02 15:21 ` 0-day Robot
2023-06-01 20:34 dpdklab
2023-06-01 20:17 dpdklab
2023-06-01 20:12 dpdklab
2023-06-01 20:08 dpdklab
2023-06-01 19:52 dpdklab
2023-06-01 19:34 dpdklab
2023-06-01 18:13 dpdklab
2023-06-01 18:00 dpdklab
2023-06-01 17:15 dpdklab
2023-06-01 17:11 dpdklab
2023-06-01 17:11 dpdklab
2023-06-01 17:10 dpdklab
2023-06-01 17:09 dpdklab
2023-06-01 17:09 dpdklab
Reply instructions:
You may reply publicly to this message via plain-text email
using any one of the following methods:
* Save the following mbox file, import it into your mail client,
and reply-to-all from there: mbox
Avoid top-posting and favor interleaved quoting:
https://en.wikipedia.org/wiki/Posting_style#Interleaved_style
* Reply using the --to, --cc, and --in-reply-to
switches of git-send-email(1):
git send-email \
--in-reply-to=6483a920.250a0220.a24ab.d77bSMTPIN_ADDED_MISSING@mx.google.com \
--to=dpdklab@iol.unh.edu \
--cc=bruce.richardson@intel.com \
--cc=dpdk-test-reports@iol.unh.edu \
--cc=test-report@dpdk.org \
/path/to/YOUR_REPLY
https://kernel.org/pub/software/scm/git/docs/git-send-email.html
* If your mail client supports setting the In-Reply-To header
via mailto: links, try the mailto: link
Be sure your reply has a Subject: header at the top and a blank line
before the message body.
This is a public inbox, see mirroring instructions
for how to clone and mirror all data and code used for this inbox;
as well as URLs for NNTP newsgroup(s).