From mboxrd@z Thu Jan  1 00:00:00 1970
Return-Path: <test-report-bounces@dpdk.org>
Received: from mails.dpdk.org (mails.dpdk.org [217.70.189.124])
	by inbox.dpdk.org (Postfix) with ESMTP id 1068B42C72
	for <public@inbox.dpdk.org>; Sat, 10 Jun 2023 00:47:08 +0200 (CEST)
Received: from mails.dpdk.org (localhost [127.0.0.1])
	by mails.dpdk.org (Postfix) with ESMTP id 1248F410EF;
	Sat, 10 Jun 2023 00:47:08 +0200 (CEST)
Received: from mail-vk1-f227.google.com (mail-vk1-f227.google.com
 [209.85.221.227])
 by mails.dpdk.org (Postfix) with ESMTP id 3F97E40A84
 for <test-report@dpdk.org>; Sat, 10 Jun 2023 00:47:02 +0200 (CEST)
Received: by mail-vk1-f227.google.com with SMTP id
 71dfb90a1353d-45d3e523a43so872821e0c.2
 for <test-report@dpdk.org>; Fri, 09 Jun 2023 15:47:02 -0700 (PDT)
DKIM-Signature: v=1; a=rsa-sha256; c=relaxed/relaxed;
 d=iol.unh.edu; s=unh-iol; t=1686350821; x=1688942821;
 h=cc:to:from:subject:message-id:date:from:to:cc:subject:date
 :message-id:reply-to;
 bh=nEmifdSHn50EBeLob/+FmsMZ0QBPXIs93HqWBRVumrI=;
 b=UfiYbKr1uibpx0Q+k1fo8oYFPh+cOGkxmTMFbM0B4tQdcl4V8Dy5AMb2nwSHOZw+jJ
 Re0dLhIv5BB+DF8T1d5FSfzgwRwB8jSnOpzWk+j/ZDri45gDO1on8PLC2vd3KWAfhcTE
 ZxftaeWOSo1AA58wqY6MBpLuaIogWQVUtkJPA=
X-Google-DKIM-Signature: v=1; a=rsa-sha256; c=relaxed/relaxed;
 d=1e100.net; s=20221208; t=1686350821; x=1688942821;
 h=cc:to:from:subject:message-id:date:x-gm-message-state:from:to:cc
 :subject:date:message-id:reply-to;
 bh=nEmifdSHn50EBeLob/+FmsMZ0QBPXIs93HqWBRVumrI=;
 b=X+KTbllAhkURW+zMpUWfBIu6Wy06jLVNwEv8u+RjpBkAUEz0/7VpXKWmtwX9/jhcFK
 QIhNuvxMMjZFidzsiCM524aqdmfKYNUDEdptwaUeRaDe9d9pbfssjpOiT0RrVtsfMzIM
 qk81RRYHb7HAvrZIs0fVLhEQZXWfAXsltJBkxcS4iiIPG+x+qwxpGnn9m8cItB5CAYId
 NIMi3lbmgOEvZ5m92te3FBEN1ii3kSZOWz6lQH3JK7rgLpY2i0Nba2wkxz3gKhQBY3Ua
 eFggnZVHmZPKmXkXaTeW2nr2bdltk6af06qwWRRoitBCT0rcDaw1JzFuzV85ZylL72Y/
 YtSw==
X-Gm-Message-State: AC+VfDwAlf0uVrA0mD/7i+yAx08G2AaW+mnhjvXfiZrF2xp2OYTocUdb
 GSF93i6GooaRLx3ihUgYzz4FIh6tnBUAlSHx/Zq/UX2bHm3GIQlvfATg39wu8cfoURn9tXRiBg=
 =
X-Google-Smtp-Source: ACHHUZ6AO5/82bz5I8a5lbSJxZDzGTwYkVn3PoOofIZYkOenAq2LuCpdBTARy9HB37CF6ZzPYhLArCjg+G7g
X-Received: by 2002:a1f:bf17:0:b0:463:c27a:f67e with SMTP id
 p23-20020a1fbf17000000b00463c27af67emr2142489vkf.12.1686350821689; 
 Fri, 09 Jun 2023 15:47:01 -0700 (PDT)
Received: from postal.iol.unh.edu (postal.iol.unh.edu.
 [2606:4100:3880:1234::84]) by smtp-relay.gmail.com with ESMTPS id
 cg13-20020a056122310d00b00443d6a5551bsm468708vkb.0.2023.06.09.15.47.01
 (version=TLS1_2 cipher=ECDHE-ECDSA-AES128-GCM-SHA256 bits=128/128);
 Fri, 09 Jun 2023 15:47:01 -0700 (PDT)
X-Relaying-Domain: iol.unh.edu
Date: Fri, 09 Jun 2023 15:47:01 -0700 (PDT)
Message-ID: <6483abe5.050a0220.1edb2.a709SMTPIN_ADDED_MISSING@mx.google.com>
Received: from [172.17.0.2] (unknown [172.18.0.34])
 by postal.iol.unh.edu (Postfix) with ESMTP id 5DA5B605246B;
 Fri,  9 Jun 2023 18:47:01 -0400 (EDT)
Subject: |SUCCESS| pw127747 [PATCH] [V5] lib: set/get max memzone segments
From: dpdklab@iol.unh.edu
To: Test Report <test-report@dpdk.org>
Cc: dpdk-test-reports@iol.unh.edu
Content-Type: text/plain
X-BeenThere: test-report@dpdk.org
X-Mailman-Version: 2.1.29
Precedence: list
List-Id: automatic DPDK test reports <test-report.dpdk.org>
List-Unsubscribe: <https://mails.dpdk.org/options/test-report>,
 <mailto:test-report-request@dpdk.org?subject=unsubscribe>
List-Archive: <http://mails.dpdk.org/archives/test-report/>
List-Post: <mailto:test-report@dpdk.org>
List-Help: <mailto:test-report-request@dpdk.org?subject=help>
List-Subscribe: <https://mails.dpdk.org/listinfo/test-report>,
 <mailto:test-report-request@dpdk.org?subject=subscribe>
Errors-To: test-report-bounces@dpdk.org

Test-Label: iol-aarch64-compile-testing
Test-Status: SUCCESS
http://dpdk.org/patch/127747

_Testing PASS_

Submitter: Ophir Munk <ophirmu@nvidia.com>
Date: Wednesday, May 31 2023 07:52:22 
DPDK git baseline: Repo:dpdk
  Branch: master
  CommitID:c9df59bcc9bec67783de98486879594e52bdc418

127747 --> testing pass

Test environment and result as below:

+----------------------------------------+--------------------+
|              Environment               | dpdk_meson_compile |
+========================================+====================+
| Ubuntu 20.04 aarch32 GCC Cross Compile | PASS               |
+----------------------------------------+--------------------+
| Debian 11 (Buster) (ARM)               | PASS               |
+----------------------------------------+--------------------+
| CentOS Stream 9 (ARM)                  | PASS               |
+----------------------------------------+--------------------+
| Ubuntu 20.04 ARM Clang Cross Compile   | PASS               |
+----------------------------------------+--------------------+
| Ubuntu 20.04 ARM GCC Cross Compile     | PASS               |
+----------------------------------------+--------------------+
| Ubuntu 20.04 ARM SVE                   | PASS               |
+----------------------------------------+--------------------+
| Fedora 38 (ARM)                        | PASS               |
+----------------------------------------+--------------------+
| Fedora 37 (ARM)                        | PASS               |
+----------------------------------------+--------------------+
| Ubuntu 20.04 (ARM)                     | PASS               |
+----------------------------------------+--------------------+


Ubuntu 20.04 aarch32 GCC Cross Compile
	Kernel: 5.4.0-72-generic
	Compiler: gcc 9.3.0

Debian 11 (Buster) (ARM)
	Kernel: Container Host Kernel
	Compiler: gcc 10.2.1

CentOS Stream 9 (ARM)
	Kernel: Container Host Kernel
	Compiler: gcc 11.3.1

Ubuntu 20.04 ARM Clang Cross Compile
	Kernel: 5.4.0-72-generic
	Compiler: clang version 10.0.0-4ubuntu1

Ubuntu 20.04 ARM GCC Cross Compile
	Kernel: 5.4.0-72-generic
	Compiler: aarch64-linux-gnu-gcc (Ubuntu 9.3.0-17ubuntu1~20.04) 9.3.0

Ubuntu 20.04 ARM SVE
	Kernel: 5.4.0-80-generic
	Compiler: gcc 10.3.0 (Ubuntu 10.3.0-1ubuntu1~20.04)

Fedora 38 (ARM)
	Kernel: Depends on container host
	Compiler: clang 16.0.3

Fedora 37 (ARM)
	Kernel: Depends on container host
	Compiler: gcc 12.3.1

Ubuntu 20.04 (ARM)
	Kernel: Container Host Kernel
	Compiler: gcc 9.4.0

To view detailed results, visit:
https://lab.dpdk.org/results/dashboard/patchsets/26465/

UNH-IOL DPDK Community Lab

To manage your email subscriptions, visit: 
https://lab.dpdk.org/results/dashboard/preferences/subscriptions/