From mboxrd@z Thu Jan  1 00:00:00 1970
Return-Path: <test-report-bounces@dpdk.org>
Received: from mails.dpdk.org (mails.dpdk.org [217.70.189.124])
	by inbox.dpdk.org (Postfix) with ESMTP id 0A66942CA6
	for <public@inbox.dpdk.org>; Tue, 13 Jun 2023 11:16:04 +0200 (CEST)
Received: from mails.dpdk.org (localhost [127.0.0.1])
	by mails.dpdk.org (Postfix) with ESMTP id 0687240698;
	Tue, 13 Jun 2023 11:16:04 +0200 (CEST)
Received: from mail-io1-f97.google.com (mail-io1-f97.google.com
 [209.85.166.97]) by mails.dpdk.org (Postfix) with ESMTP id EA29E40698
 for <test-report@dpdk.org>; Tue, 13 Jun 2023 11:16:01 +0200 (CEST)
Received: by mail-io1-f97.google.com with SMTP id
 ca18e2360f4ac-77ac14ff51bso217854339f.3
 for <test-report@dpdk.org>; Tue, 13 Jun 2023 02:16:01 -0700 (PDT)
DKIM-Signature: v=1; a=rsa-sha256; c=relaxed/relaxed;
 d=iol.unh.edu; s=unh-iol; t=1686647761; x=1689239761;
 h=cc:to:from:subject:message-id:date:from:to:cc:subject:date
 :message-id:reply-to;
 bh=VxBuU+qA0xRpzkMGQ6csOcU57Sk7vZY4wnySNTXWCIw=;
 b=KmFyeA57Gx8JXGrFINcnDNqwz+gRtcNLYUnwXmpk3GEKDU2kMPP0YVbL7tT4th860r
 KdMGVJ152KovUFIEcbQxwj8k8VEJMSMDq14RLGSrsX+cZ0zR04py+w18gQy5wJaGnKCh
 7IVWPK0LIQ9aetjWu/KrB2Rlf8jomvOrZrD2I=
X-Google-DKIM-Signature: v=1; a=rsa-sha256; c=relaxed/relaxed;
 d=1e100.net; s=20221208; t=1686647761; x=1689239761;
 h=cc:to:from:subject:message-id:date:x-gm-message-state:from:to:cc
 :subject:date:message-id:reply-to;
 bh=VxBuU+qA0xRpzkMGQ6csOcU57Sk7vZY4wnySNTXWCIw=;
 b=TfbdNB97UnL4VI3q7mTWNfNC0E+upLJq+kQjQwVHYcC+3HFzDNCkkWgHsADt0zkcJY
 24U7UjuIUXfYHpX+xSnhLsaQIzFqzyGeR8HDQ+83RkmMS9JalC0y44akkmBov1K95l+z
 wTq+QvGtWYyBOykmZ1Ur+vyCZk0RaPzxwcEz282o8cmQfC2WGxKVv8xhVch0f5IGovmw
 n9epWdzyzQPDY2f1FI7cmMf0+pmc2g6ucKSVkkPVT+THto7wd5CMHJ2NUyCHLORAjc3/
 ZUYMhwBUwTv3oBbjyEcVcHirsh/aesMA0AJXPEeRrLCFbhxT/nT4CyTIoGC5GxstsxsC
 OVMQ==
X-Gm-Message-State: AC+VfDwtTXLXTK31WRU/RmGzxk6/pDFDDGztZVMA90ZQyVYlXtGs5Z5i
 N9fuSe5E1c9+DfcmAsdoaDrK/4NTFgrxrqgcxdxpa1sv4ZjVT1CKoPhVE4QVUiKaNeBena5mVg=
 =
X-Google-Smtp-Source: ACHHUZ6MC0AUa3kCDbV66YMSiVmDCJREm1jrGC7ZA9tw3Eslt+5y6SrWTvMpoiDfmwlGFVKfJccgp48W+tA3
X-Received: by 2002:a6b:4401:0:b0:760:f795:ccdf with SMTP id
 r1-20020a6b4401000000b00760f795ccdfmr9627127ioa.8.1686647761273; 
 Tue, 13 Jun 2023 02:16:01 -0700 (PDT)
Received: from postal.iol.unh.edu (postal.iol.unh.edu.
 [2606:4100:3880:1234::84]) by smtp-relay.gmail.com with ESMTPS id
 p199-20020a6b8dd0000000b00777af9d4699sm1317451iod.23.2023.06.13.02.16.01
 (version=TLS1_2 cipher=ECDHE-ECDSA-AES128-GCM-SHA256 bits=128/128);
 Tue, 13 Jun 2023 02:16:01 -0700 (PDT)
X-Relaying-Domain: iol.unh.edu
Date: Tue, 13 Jun 2023 02:16:01 -0700 (PDT)
Message-ID: <648833d1.6b0a0220.6ea83.0e96SMTPIN_ADDED_MISSING@mx.google.com>
Received: from [172.17.0.2] (unknown [172.18.0.34])
 by postal.iol.unh.edu (Postfix) with ESMTP id AE130605246B;
 Tue, 13 Jun 2023 05:16:00 -0400 (EDT)
Subject: |SUCCESS| pw128523 [PATCH] devtools: add cppcheck wrapper
From: dpdklab@iol.unh.edu
To: Test Report <test-report@dpdk.org>
Cc: dpdk-test-reports@iol.unh.edu
Content-Type: text/plain
X-BeenThere: test-report@dpdk.org
X-Mailman-Version: 2.1.29
Precedence: list
List-Id: automatic DPDK test reports <test-report.dpdk.org>
List-Unsubscribe: <https://mails.dpdk.org/options/test-report>,
 <mailto:test-report-request@dpdk.org?subject=unsubscribe>
List-Archive: <http://mails.dpdk.org/archives/test-report/>
List-Post: <mailto:test-report@dpdk.org>
List-Help: <mailto:test-report-request@dpdk.org?subject=help>
List-Subscribe: <https://mails.dpdk.org/listinfo/test-report>,
 <mailto:test-report-request@dpdk.org?subject=subscribe>
Errors-To: test-report-bounces@dpdk.org

Test-Label: iol-aarch64-compile-testing
Test-Status: SUCCESS
http://dpdk.org/patch/128523

_Testing PASS_

Submitter: Stephen Hemminger <stephen@networkplumber.org>
Date: Monday, June 12 2023 23:55:16 
DPDK git baseline: Repo:dpdk
  Branch: master
  CommitID:050de60d8a5cef8b7c10b4471905ca8bf69d670e

128523 --> testing pass

Test environment and result as below:

+----------------------------------------+--------------------+
|              Environment               | dpdk_meson_compile |
+========================================+====================+
| Ubuntu 20.04 (ARM)                     | PASS               |
+----------------------------------------+--------------------+
| Fedora 37 (ARM)                        | PASS               |
+----------------------------------------+--------------------+
| Fedora 38 (ARM)                        | PASS               |
+----------------------------------------+--------------------+
| CentOS Stream 9 (ARM)                  | PASS               |
+----------------------------------------+--------------------+
| Debian 11 (Buster) (ARM)               | PASS               |
+----------------------------------------+--------------------+
| Ubuntu 20.04 aarch32 GCC Cross Compile | PASS               |
+----------------------------------------+--------------------+
| Ubuntu 20.04 ARM Clang Cross Compile   | PASS               |
+----------------------------------------+--------------------+
| Ubuntu 20.04 ARM GCC Cross Compile     | PASS               |
+----------------------------------------+--------------------+
| Ubuntu 20.04 ARM SVE                   | PASS               |
+----------------------------------------+--------------------+


Ubuntu 20.04 (ARM)
	Kernel: Container Host Kernel
	Compiler: gcc 9.4.0

Fedora 37 (ARM)
	Kernel: Depends on container host
	Compiler: gcc 12.3.1

Fedora 38 (ARM)
	Kernel: Depends on container host
	Compiler: gcc 13.1.1

CentOS Stream 9 (ARM)
	Kernel: Container Host Kernel
	Compiler: gcc 11.3.1

Debian 11 (Buster) (ARM)
	Kernel: Container Host Kernel
	Compiler: gcc 10.2.1

Ubuntu 20.04 aarch32 GCC Cross Compile
	Kernel: 5.4.0-72-generic
	Compiler: gcc 9.3.0

Ubuntu 20.04 ARM Clang Cross Compile
	Kernel: 5.4.0-72-generic
	Compiler: clang version 10.0.0-4ubuntu1

Ubuntu 20.04 ARM GCC Cross Compile
	Kernel: 5.4.0-72-generic
	Compiler: aarch64-linux-gnu-gcc (Ubuntu 9.3.0-17ubuntu1~20.04) 9.3.0

Ubuntu 20.04 ARM SVE
	Kernel: 5.4.0-80-generic
	Compiler: gcc 10.3.0 (Ubuntu 10.3.0-1ubuntu1~20.04)

To view detailed results, visit:
https://lab.dpdk.org/results/dashboard/patchsets/26640/

UNH-IOL DPDK Community Lab

To manage your email subscriptions, visit: 
https://lab.dpdk.org/results/dashboard/preferences/subscriptions/