From mboxrd@z Thu Jan  1 00:00:00 1970
Return-Path: <test-report-bounces@dpdk.org>
Received: from mails.dpdk.org (mails.dpdk.org [217.70.189.124])
	by inbox.dpdk.org (Postfix) with ESMTP id 594CF42CAB
	for <public@inbox.dpdk.org>; Tue, 13 Jun 2023 16:10:42 +0200 (CEST)
Received: from mails.dpdk.org (localhost [127.0.0.1])
	by mails.dpdk.org (Postfix) with ESMTP id 54D5D40A8A;
	Tue, 13 Jun 2023 16:10:42 +0200 (CEST)
Received: from mail-il1-f227.google.com (mail-il1-f227.google.com
 [209.85.166.227])
 by mails.dpdk.org (Postfix) with ESMTP id 502EA40A8A
 for <test-report@dpdk.org>; Tue, 13 Jun 2023 16:10:41 +0200 (CEST)
Received: by mail-il1-f227.google.com with SMTP id
 e9e14a558f8ab-33e5054ba6fso33407265ab.0
 for <test-report@dpdk.org>; Tue, 13 Jun 2023 07:10:41 -0700 (PDT)
DKIM-Signature: v=1; a=rsa-sha256; c=relaxed/relaxed;
 d=iol.unh.edu; s=unh-iol; t=1686665440; x=1689257440;
 h=cc:to:from:subject:message-id:date:from:to:cc:subject:date
 :message-id:reply-to;
 bh=vhtA2SpZ0fQw50jED6ntHU4+TMohizTehz2lQefTEfw=;
 b=SfmwSRHYSjqg8MYX4sRWfy3enUUh13AwaFtqvcGbi3mg9wyOwsIVv/6ySoPYaO06Db
 KsbW79PxS9HGg5nSpIIGxtJMqCgg5JV7KaDLZqLFiLd4kmvG47RU8TuPOMqbvRB90eyR
 RRpbIH6ur466qtIcD/IJoB5s3j3LJZkS90LiU=
X-Google-DKIM-Signature: v=1; a=rsa-sha256; c=relaxed/relaxed;
 d=1e100.net; s=20221208; t=1686665440; x=1689257440;
 h=cc:to:from:subject:message-id:date:x-gm-message-state:from:to:cc
 :subject:date:message-id:reply-to;
 bh=vhtA2SpZ0fQw50jED6ntHU4+TMohizTehz2lQefTEfw=;
 b=NZdnVWRs2M/SrsdnLLtE4WX3P8uZd3MttOR6oO/OVYg6qXrY3ETd6UOxubf4Qqf1wO
 fOr+ZyXLCydY8xaus5I4MszFo2XxmVnTIF5F2DiIJ8tniUOLIBh4ia+SJZ6rf4Dp1Q7b
 tQpB8tJfJgbldAMdkqxPaeWc0ReSitTZepaPwVSuacvOavK+q58vwkKhEKa8jcrxfRbF
 T2jY2YPoDwudA+EYELiIhxnyqV+y3OLYOfda7pUBUwGCWC7uFf4g9jJKuVL3euf1wDj1
 Ow7iZgZEc2btp9TCqqJ3yyC33R/Qj7aSShBikfc5Q3s0LnrB6MxlQwxdbBXAZrHo8Y5c
 Kr4Q==
X-Gm-Message-State: AC+VfDzffB20VpyMc3KGihmQLi4m3JuLAz3bUmnET8w/xAsxRikCjHh0
 LFG8i5IYb1SCIJ/paEksv+88NNxmI/hMe7bTJ3FGKM5dVMWXkSVNwXJWPVChmvV4Lv/fKDIkKg=
 =
X-Google-Smtp-Source: ACHHUZ4xRlTLaVdfTkrqFlb/AD+ponP9Xx7jZKJNPuQTuws6+kBf+IctpV0/zkUYEStNftg7ZXmxYUE9NoN5
X-Received: by 2002:a05:6e02:108:b0:33f:a995:31ab with SMTP id
 t8-20020a056e02010800b0033fa99531abmr10944269ilm.11.1686665440664; 
 Tue, 13 Jun 2023 07:10:40 -0700 (PDT)
Received: from postal.iol.unh.edu (postal.iol.unh.edu.
 [2606:4100:3880:1234::84]) by smtp-relay.gmail.com with ESMTPS id
 c8-20020a92cf48000000b00340623a6918sm520178ilr.39.2023.06.13.07.10.40
 (version=TLS1_2 cipher=ECDHE-ECDSA-AES128-GCM-SHA256 bits=128/128);
 Tue, 13 Jun 2023 07:10:40 -0700 (PDT)
X-Relaying-Domain: iol.unh.edu
Date: Tue, 13 Jun 2023 07:10:40 -0700 (PDT)
Message-ID: <648878e0.920a0220.9489e.387cSMTPIN_ADDED_MISSING@mx.google.com>
Received: from [172.17.0.2] (unknown [172.18.0.34])
 by postal.iol.unh.edu (Postfix) with ESMTP id 243F9605246B;
 Tue, 13 Jun 2023 10:10:40 -0400 (EDT)
Subject: |SUCCESS| pw128551 [PATCH] net/e1000: fixed initialize queue number
From: dpdklab@iol.unh.edu
To: Test Report <test-report@dpdk.org>
Cc: dpdk-test-reports@iol.unh.edu
Content-Type: text/plain
X-BeenThere: test-report@dpdk.org
X-Mailman-Version: 2.1.29
Precedence: list
List-Id: automatic DPDK test reports <test-report.dpdk.org>
List-Unsubscribe: <https://mails.dpdk.org/options/test-report>,
 <mailto:test-report-request@dpdk.org?subject=unsubscribe>
List-Archive: <http://mails.dpdk.org/archives/test-report/>
List-Post: <mailto:test-report@dpdk.org>
List-Help: <mailto:test-report-request@dpdk.org?subject=help>
List-Subscribe: <https://mails.dpdk.org/listinfo/test-report>,
 <mailto:test-report-request@dpdk.org?subject=subscribe>
Errors-To: test-report-bounces@dpdk.org

Test-Label: iol-abi-testing
Test-Status: SUCCESS
http://dpdk.org/patch/128551

_Testing PASS_

Submitter: Qiming Yang <qiming.yang@intel.com>
Date: Tuesday, June 13 2023 07:51:51 
DPDK git baseline: Repo:dpdk
  Branch: master
  CommitID:050de60d8a5cef8b7c10b4471905ca8bf69d670e

128551 --> testing pass

Test environment and result as below:

+------------------+----------+
|   Environment    | abi_test |
+==================+==========+
| Debian Buster    | PASS     |
+------------------+----------+
| Fedora 38        | PASS     |
+------------------+----------+
| RHEL8            | PASS     |
+------------------+----------+
| CentOS Stream 9  | PASS     |
+------------------+----------+
| Ubuntu 22.04     | PASS     |
+------------------+----------+
| RHEL 7           | PASS     |
+------------------+----------+
| openSUSE Leap 15 | PASS     |
+------------------+----------+


Debian Buster
	Kernel: 5.4.0-122-generic
	Compiler: gcc 8.3.0-6

Fedora 38
	Kernel: Depends on container host
	Compiler: gcc 13.1.1

RHEL8
	Kernel: 4.18.0-240.10.1.el8_3.x86_64
	Compiler: gcc 8.3.1 20191121 (Red Hat 8.3.1-5)

CentOS Stream 9
	Kernel: 4.18.0-240.10.1.el8_3.x86_64
	Compiler: gcc 11.3.1 20220421

Ubuntu 22.04
	Kernel: 4.18.0-240.10.1.el8_3.x86_64
	Compiler: gcc 11.3.0

RHEL 7
	Kernel: 4.18.0-240.10.1.el8_3.x86_64
	Compiler: gcc 4.8.5 20150623 (Red Hat 4.8.5-44)

openSUSE Leap 15
	Kernel: 4.18.0-240.10.1.el8_3.x86_64
	Compiler: gcc 7.5.0

To view detailed results, visit:
https://lab.dpdk.org/results/dashboard/patchsets/26650/

UNH-IOL DPDK Community Lab

To manage your email subscriptions, visit: 
https://lab.dpdk.org/results/dashboard/preferences/subscriptions/