From mboxrd@z Thu Jan  1 00:00:00 1970
Return-Path: <test-report-bounces@dpdk.org>
Received: from mails.dpdk.org (mails.dpdk.org [217.70.189.124])
	by inbox.dpdk.org (Postfix) with ESMTP id DE09A42CAB
	for <public@inbox.dpdk.org>; Tue, 13 Jun 2023 16:14:44 +0200 (CEST)
Received: from mails.dpdk.org (localhost [127.0.0.1])
	by mails.dpdk.org (Postfix) with ESMTP id D9B6840C35;
	Tue, 13 Jun 2023 16:14:44 +0200 (CEST)
Received: from mail-oo1-f98.google.com (mail-oo1-f98.google.com
 [209.85.161.98]) by mails.dpdk.org (Postfix) with ESMTP id 5794840C35
 for <test-report@dpdk.org>; Tue, 13 Jun 2023 16:14:36 +0200 (CEST)
Received: by mail-oo1-f98.google.com with SMTP id
 006d021491bc7-559b0ddcd4aso3322789eaf.0
 for <test-report@dpdk.org>; Tue, 13 Jun 2023 07:14:36 -0700 (PDT)
DKIM-Signature: v=1; a=rsa-sha256; c=relaxed/relaxed;
 d=iol.unh.edu; s=unh-iol; t=1686665675; x=1689257675;
 h=cc:to:from:subject:message-id:date:from:to:cc:subject:date
 :message-id:reply-to;
 bh=EzNvZj9w/vH5tJn/0CstRK3vqRBnIIz5xlLEm6l6k0s=;
 b=Ehvkpc7STwrc5MDd6dwcehBVgXWbJxVyEqcWfaFvgS7Id06hCOUwRBzulRwENUYAaV
 k+UCTZ0lt5vSxRDgoDrNnowJTf74Dz2wAAG0HnlnIfNvwEUeyo8eTMO0whpKk9bk1R43
 uprakzCaS5G9cVvmu1DkSRLlFTPaCpWLbWwGw=
X-Google-DKIM-Signature: v=1; a=rsa-sha256; c=relaxed/relaxed;
 d=1e100.net; s=20221208; t=1686665675; x=1689257675;
 h=cc:to:from:subject:message-id:date:x-gm-message-state:from:to:cc
 :subject:date:message-id:reply-to;
 bh=EzNvZj9w/vH5tJn/0CstRK3vqRBnIIz5xlLEm6l6k0s=;
 b=BDZofsQgG8vVY9a3kN4wMnoTaFSa6OEYyFpbkBgl504p2uPKhV9zFszz8gLnBJIphK
 DPK2sP0w22HQEPRkZyT6QQ3N6sYg0MQpJXfUq9Wlwot6nNHMggZlmzvHZJNyLRt5lySl
 WiWee38UdsyQYyibCO7fNpojoFuZfwLfxdKaVWwNmsk0SbmoFy6v7hV0oCsjPRway8RW
 /jD9yPr0aYvw8qa6rJ11LfVThfZvMexU8wEiuRAAk3u49pTdAvAYJBi8ufC9ZNNDRqJE
 DUh5KHCqzTq92y4wRQiDUXYwIVD11wtK0WI8RHWt9yruWP3ZrxlvbrtgYQeU2LCLjZIE
 BU5A==
X-Gm-Message-State: AC+VfDzQMdkjw35ydO7/Ifx/m0UxSK54QKBHHhm+EvGg1fSJDPdM/k1C
 INxL83agVYfU3L2qY/O0Ku8f9HCHlIcngYXRCiz5kNDXygbeQonu71gcmoirY4Y1/AtoEf/4TQ=
 =
X-Google-Smtp-Source: ACHHUZ5D9F90vdm+b9gX5fXDhTSY9Upn/23zyJI1+RcncpXJxxwi4CtwJ/epdWMs4w8zUAc5bTh4U5KcJRz8
X-Received: by 2002:a4a:d241:0:b0:555:7682:7644 with SMTP id
 e1-20020a4ad241000000b0055576827644mr7608787oos.2.1686665675722; 
 Tue, 13 Jun 2023 07:14:35 -0700 (PDT)
Received: from postal.iol.unh.edu (postal.iol.unh.edu.
 [2606:4100:3880:1234::84]) by smtp-relay.gmail.com with ESMTPS id
 l3-20020a4ae383000000b00545935f0defsm1308133oov.16.2023.06.13.07.14.35
 (version=TLS1_2 cipher=ECDHE-ECDSA-AES128-GCM-SHA256 bits=128/128);
 Tue, 13 Jun 2023 07:14:35 -0700 (PDT)
X-Relaying-Domain: iol.unh.edu
Date: Tue, 13 Jun 2023 07:14:35 -0700 (PDT)
Message-ID: <648879cb.4a0a0220.15183.6578SMTPIN_ADDED_MISSING@mx.google.com>
Received: from [172.17.0.2] (unknown [172.18.0.34])
 by postal.iol.unh.edu (Postfix) with ESMTP id 2F1FD605246B;
 Tue, 13 Jun 2023 10:14:35 -0400 (EDT)
Subject: |SUCCESS| pw128551 [PATCH] net/e1000: fixed initialize queue number
From: dpdklab@iol.unh.edu
To: Test Report <test-report@dpdk.org>
Cc: dpdk-test-reports@iol.unh.edu
Content-Type: text/plain
X-BeenThere: test-report@dpdk.org
X-Mailman-Version: 2.1.29
Precedence: list
List-Id: automatic DPDK test reports <test-report.dpdk.org>
List-Unsubscribe: <https://mails.dpdk.org/options/test-report>,
 <mailto:test-report-request@dpdk.org?subject=unsubscribe>
List-Archive: <http://mails.dpdk.org/archives/test-report/>
List-Post: <mailto:test-report@dpdk.org>
List-Help: <mailto:test-report-request@dpdk.org?subject=help>
List-Subscribe: <https://mails.dpdk.org/listinfo/test-report>,
 <mailto:test-report-request@dpdk.org?subject=subscribe>
Errors-To: test-report-bounces@dpdk.org

Test-Label: iol-abi-testing
Test-Status: SUCCESS
http://dpdk.org/patch/128551

_Testing PASS_

Submitter: Qiming Yang <qiming.yang@intel.com>
Date: Tuesday, June 13 2023 07:51:51 
DPDK git baseline: Repo:dpdk
  Branch: master
  CommitID:050de60d8a5cef8b7c10b4471905ca8bf69d670e

128551 --> testing pass

Test environment and result as below:

+------------------+----------+
|   Environment    | abi_test |
+==================+==========+
| Debian Buster    | PASS     |
+------------------+----------+
| Fedora 38        | PASS     |
+------------------+----------+
| RHEL8            | PASS     |
+------------------+----------+
| CentOS Stream 9  | PASS     |
+------------------+----------+
| Ubuntu 22.04     | PASS     |
+------------------+----------+
| RHEL 7           | PASS     |
+------------------+----------+
| openSUSE Leap 15 | PASS     |
+------------------+----------+
| Debian Bullseye  | PASS     |
+------------------+----------+
| Fedora 37        | PASS     |
+------------------+----------+


Debian Buster
	Kernel: 5.4.0-122-generic
	Compiler: gcc 8.3.0-6

Fedora 38
	Kernel: Depends on container host
	Compiler: gcc 13.1.1

RHEL8
	Kernel: 4.18.0-240.10.1.el8_3.x86_64
	Compiler: gcc 8.3.1 20191121 (Red Hat 8.3.1-5)

CentOS Stream 9
	Kernel: 4.18.0-240.10.1.el8_3.x86_64
	Compiler: gcc 11.3.1 20220421

Ubuntu 22.04
	Kernel: 4.18.0-240.10.1.el8_3.x86_64
	Compiler: gcc 11.3.0

RHEL 7
	Kernel: 4.18.0-240.10.1.el8_3.x86_64
	Compiler: gcc 4.8.5 20150623 (Red Hat 4.8.5-44)

openSUSE Leap 15
	Kernel: 4.18.0-240.10.1.el8_3.x86_64
	Compiler: gcc 7.5.0

Debian Bullseye
	Kernel: 5.4.0-122-generic
	Compiler: gcc 10.2.1-6

Fedora 37
	Kernel: Depends on container host system
	Compiler: gcc 12.3.1

To view detailed results, visit:
https://lab.dpdk.org/results/dashboard/patchsets/26650/

UNH-IOL DPDK Community Lab

To manage your email subscriptions, visit: 
https://lab.dpdk.org/results/dashboard/preferences/subscriptions/