From mboxrd@z Thu Jan  1 00:00:00 1970
Return-Path: <test-report-bounces@dpdk.org>
Received: from mails.dpdk.org (mails.dpdk.org [217.70.189.124])
	by inbox.dpdk.org (Postfix) with ESMTP id A69A942CAB
	for <public@inbox.dpdk.org>; Tue, 13 Jun 2023 16:21:48 +0200 (CEST)
Received: from mails.dpdk.org (localhost [127.0.0.1])
	by mails.dpdk.org (Postfix) with ESMTP id 852D040A8A;
	Tue, 13 Jun 2023 16:21:48 +0200 (CEST)
Received: from mail-oa1-f97.google.com (mail-oa1-f97.google.com
 [209.85.160.97]) by mails.dpdk.org (Postfix) with ESMTP id 7261240A8A
 for <test-report@dpdk.org>; Tue, 13 Jun 2023 16:21:47 +0200 (CEST)
Received: by mail-oa1-f97.google.com with SMTP id
 586e51a60fabf-1a694ac3238so1690601fac.3
 for <test-report@dpdk.org>; Tue, 13 Jun 2023 07:21:47 -0700 (PDT)
DKIM-Signature: v=1; a=rsa-sha256; c=relaxed/relaxed;
 d=iol.unh.edu; s=unh-iol; t=1686666106; x=1689258106;
 h=cc:to:from:subject:message-id:date:from:to:cc:subject:date
 :message-id:reply-to;
 bh=vvte5mwZOlygnuf2MvxN1/oHNzhwbcsiitK0RWFhsoc=;
 b=IZa0aq6C3wYLdbTZUBgwbVlQPNRHHEF1CvkOeZ5vXkJBlzopwOMeYr0ShaaPBlhgq/
 QEo4EwIWwT7mmi9fAMsLvAp9jP4bNCuv7ANyGiAQcyHPQd9GKMAn1Ue8FcZc1Y+Yv5xe
 ZCNlzn17UdkoB9BtrvEwkUn67pJnTiXHG1ydI=
X-Google-DKIM-Signature: v=1; a=rsa-sha256; c=relaxed/relaxed;
 d=1e100.net; s=20221208; t=1686666106; x=1689258106;
 h=cc:to:from:subject:message-id:date:x-gm-message-state:from:to:cc
 :subject:date:message-id:reply-to;
 bh=vvte5mwZOlygnuf2MvxN1/oHNzhwbcsiitK0RWFhsoc=;
 b=dVG4axGZyuUDOm6LjHIQe1O9QGPCQ2MifOi/m5DFHO0JiBvc979C7B6NMZLZAEbOMF
 83ouqQlAxzpVAju3ffet6L/bfY/9xJgkitrVcYD+MAy+6LtbHfRNDlhRjg9EyX0PK/Y/
 PBqxETqlhUaZ4GOAs8d47UKKO9qvurVJVf2shIP6GXSNYk2iuBfpKV/N2LsRNr3Il5gB
 5TVpkQpCHsM5tmUUUHbYeh3lsmljX8kOMcceQiEduoKmTGYXHPPFqbjgYAXwJsh4fkjo
 GmBPxlr+JPcOG/iKrgLKx/Fb+pc6yiDT4uwMIgCOm3UkAiSv+JZjp3NgDcbDnX7TTx+Q
 RmMw==
X-Gm-Message-State: AC+VfDz4jTC479H7DSxZdidq/HifbkygSFsIKCPtRkHVwOKFAMTxuDYW
 +xLGTzws9zq1xd1fmUL/7OOvtP4Gfr6I5Uqu9bM8cgOEFClh2WvlN1gCUglwP61gVcvB0IUVaQ=
 =
X-Google-Smtp-Source: ACHHUZ5JnYwmAs6BOBHW7vPyfGvd46+THZRrfoOGf7DrhN1xlei//GowokqBp6yxHaRNXTuAG7phVjxOkAXZ
X-Received: by 2002:a05:6870:44c3:b0:19e:475:9e2c with SMTP id
 t3-20020a05687044c300b0019e04759e2cmr7898796oai.58.1686666106814; 
 Tue, 13 Jun 2023 07:21:46 -0700 (PDT)
Received: from postal.iol.unh.edu (postal.iol.unh.edu.
 [2606:4100:3880:1234::84]) by smtp-relay.gmail.com with ESMTPS id
 ns7-20020a056870ac8700b001a350d0c450sm1878250oab.38.2023.06.13.07.21.46
 (version=TLS1_2 cipher=ECDHE-ECDSA-AES128-GCM-SHA256 bits=128/128);
 Tue, 13 Jun 2023 07:21:46 -0700 (PDT)
X-Relaying-Domain: iol.unh.edu
Date: Tue, 13 Jun 2023 07:21:46 -0700 (PDT)
Message-ID: <64887b7a.050a0220.21995.6260SMTPIN_ADDED_MISSING@mx.google.com>
Received: from [172.17.0.2] (unknown [172.18.0.34])
 by postal.iol.unh.edu (Postfix) with ESMTP id 68036605246B;
 Tue, 13 Jun 2023 10:21:46 -0400 (EDT)
Subject: |SUCCESS| pw128551 [PATCH] net/e1000: fixed initialize queue number
From: dpdklab@iol.unh.edu
To: Test Report <test-report@dpdk.org>
Cc: dpdk-test-reports@iol.unh.edu
Content-Type: text/plain
X-BeenThere: test-report@dpdk.org
X-Mailman-Version: 2.1.29
Precedence: list
List-Id: automatic DPDK test reports <test-report.dpdk.org>
List-Unsubscribe: <https://mails.dpdk.org/options/test-report>,
 <mailto:test-report-request@dpdk.org?subject=unsubscribe>
List-Archive: <http://mails.dpdk.org/archives/test-report/>
List-Post: <mailto:test-report@dpdk.org>
List-Help: <mailto:test-report-request@dpdk.org?subject=help>
List-Subscribe: <https://mails.dpdk.org/listinfo/test-report>,
 <mailto:test-report-request@dpdk.org?subject=subscribe>
Errors-To: test-report-bounces@dpdk.org

Test-Label: iol-abi-testing
Test-Status: SUCCESS
http://dpdk.org/patch/128551

_Testing PASS_

Submitter: Qiming Yang <qiming.yang@intel.com>
Date: Tuesday, June 13 2023 07:51:51 
DPDK git baseline: Repo:dpdk
  Branch: master
  CommitID:050de60d8a5cef8b7c10b4471905ca8bf69d670e

128551 --> testing pass

Test environment and result as below:

+------------------+----------+
|   Environment    | abi_test |
+==================+==========+
| Debian Buster    | PASS     |
+------------------+----------+
| Fedora 38        | PASS     |
+------------------+----------+
| RHEL8            | PASS     |
+------------------+----------+
| CentOS Stream 9  | PASS     |
+------------------+----------+
| Ubuntu 22.04     | PASS     |
+------------------+----------+
| RHEL 7           | PASS     |
+------------------+----------+
| openSUSE Leap 15 | PASS     |
+------------------+----------+
| Debian Bullseye  | PASS     |
+------------------+----------+
| Fedora 37        | PASS     |
+------------------+----------+
| CentOS Stream 8  | PASS     |
+------------------+----------+


Debian Buster
	Kernel: 5.4.0-122-generic
	Compiler: gcc 8.3.0-6

Fedora 38
	Kernel: Depends on container host
	Compiler: gcc 13.1.1

RHEL8
	Kernel: 4.18.0-240.10.1.el8_3.x86_64
	Compiler: gcc 8.3.1 20191121 (Red Hat 8.3.1-5)

CentOS Stream 9
	Kernel: 4.18.0-240.10.1.el8_3.x86_64
	Compiler: gcc 11.3.1 20220421

Ubuntu 22.04
	Kernel: 4.18.0-240.10.1.el8_3.x86_64
	Compiler: gcc 11.3.0

RHEL 7
	Kernel: 4.18.0-240.10.1.el8_3.x86_64
	Compiler: gcc 4.8.5 20150623 (Red Hat 4.8.5-44)

openSUSE Leap 15
	Kernel: 4.18.0-240.10.1.el8_3.x86_64
	Compiler: gcc 7.5.0

Debian Bullseye
	Kernel: 5.4.0-122-generic
	Compiler: gcc 10.2.1-6

Fedora 37
	Kernel: Depends on container host system
	Compiler: gcc 12.3.1

CentOS Stream 8
	Kernel: 4.18.0-240.10.1.el8_3.x86_64
	Compiler: gcc 8.4.1 20200928

To view detailed results, visit:
https://lab.dpdk.org/results/dashboard/patchsets/26650/

UNH-IOL DPDK Community Lab

To manage your email subscriptions, visit: 
https://lab.dpdk.org/results/dashboard/preferences/subscriptions/