From mboxrd@z Thu Jan  1 00:00:00 1970
Return-Path: <test-report-bounces@dpdk.org>
Received: from mails.dpdk.org (mails.dpdk.org [217.70.189.124])
	by inbox.dpdk.org (Postfix) with ESMTP id 1AE9A42CAB
	for <public@inbox.dpdk.org>; Tue, 13 Jun 2023 16:50:53 +0200 (CEST)
Received: from mails.dpdk.org (localhost [127.0.0.1])
	by mails.dpdk.org (Postfix) with ESMTP id 171B340A8A;
	Tue, 13 Jun 2023 16:50:53 +0200 (CEST)
Received: from mail-oo1-f98.google.com (mail-oo1-f98.google.com
 [209.85.161.98]) by mails.dpdk.org (Postfix) with ESMTP id 3D01440A8A
 for <test-report@dpdk.org>; Tue, 13 Jun 2023 16:50:51 +0200 (CEST)
Received: by mail-oo1-f98.google.com with SMTP id
 006d021491bc7-55af44f442dso3690022eaf.1
 for <test-report@dpdk.org>; Tue, 13 Jun 2023 07:50:51 -0700 (PDT)
DKIM-Signature: v=1; a=rsa-sha256; c=relaxed/relaxed;
 d=iol.unh.edu; s=unh-iol; t=1686667850; x=1689259850;
 h=cc:to:from:subject:message-id:date:from:to:cc:subject:date
 :message-id:reply-to;
 bh=pbzgragXYj1a3dqMTT99URFXLNgyAZn5ws1qGieZnN8=;
 b=LaT5GaOl0TF3uX0B055im+mNrGAOHuCJqwIYPsYLjG1q+e1oBuMZSYOdXif+fNeqP1
 DUi0aFQKV8lz0RxepEWSpsCO467eGvhSYN4nPaM26yyV4ZD8yZpWfVubhyhgTZ1CjkuC
 c1Wpn+oBnzZKGarba+MWkWNiZ+gJCDLRovT1E=
X-Google-DKIM-Signature: v=1; a=rsa-sha256; c=relaxed/relaxed;
 d=1e100.net; s=20221208; t=1686667850; x=1689259850;
 h=cc:to:from:subject:message-id:date:x-gm-message-state:from:to:cc
 :subject:date:message-id:reply-to;
 bh=pbzgragXYj1a3dqMTT99URFXLNgyAZn5ws1qGieZnN8=;
 b=MScUKO7iAIQdkJXAHeR6BtafWPaJ0mMYT7HVI8Flz6l7NbfEvF+jAWJDhGCPervEkU
 +wR1oo1mlHpoZCWtG2XWSZIpCqfsRjPHb4Mx1T/P1C0uQoo5G7tKB6nJmP3J3hadz9si
 HjwewdVcMsFGAM7qIJijgH3Fe5LPfF8LFRqjwzyMAl/XW7A+WVIwybjgypNDaH8PsOuq
 EIiNYEIHOoNK0syvF8/bK3nHUMnLFG/qWSPLBQK0nlwc/NGVFg+ZKzN9DD4k9RQZYpB/
 XUZkJCo6WkmXhS64lS5pgKLD5LxO3dJ2sMdXUSaojfVWVXamkneW4OOeu5RUK94Lb62b
 400w==
X-Gm-Message-State: AC+VfDyf6GaGb6oAXNeNzGrVv+HZvyA23yFw+ETwirjtTzsg8xXrOvqM
 QS0RZ+6KyI91HCkC2b1NHoQIKt6fJxUfqdqDWRWEOUDGCeDDKvtMcXtcMA==
X-Google-Smtp-Source: ACHHUZ4oqeiKu/s51Cr05U/x4SWn6qB9IG8kfWVHaOIV3gNbpNBYWktosdYbf1IbN+H8GmwXBMrwnUTKod8p
X-Received: by 2002:a4a:d6d5:0:b0:54f:4e01:7fc9 with SMTP id
 j21-20020a4ad6d5000000b0054f4e017fc9mr7192827oot.3.1686667849842; 
 Tue, 13 Jun 2023 07:50:49 -0700 (PDT)
Received: from postal.iol.unh.edu (postal.iol.unh.edu. [132.177.123.84])
 by smtp-relay.gmail.com with ESMTPS id
 y17-20020a4ad651000000b0055dbeb5c786sm270993oos.13.2023.06.13.07.50.49
 (version=TLS1_2 cipher=ECDHE-ECDSA-AES128-GCM-SHA256 bits=128/128);
 Tue, 13 Jun 2023 07:50:49 -0700 (PDT)
X-Relaying-Domain: iol.unh.edu
Date: Tue, 13 Jun 2023 07:50:49 -0700 (PDT)
Message-ID: <64888249.4a0a0220.2e1f4.1fafSMTPIN_ADDED_MISSING@mx.google.com>
Received: from [172.17.0.2] (unknown [172.18.0.34])
 by postal.iol.unh.edu (Postfix) with ESMTP id 7790E605246B;
 Tue, 13 Jun 2023 10:50:49 -0400 (EDT)
Subject: |SUCCESS| pw128596 [PATCH] [v2] ethdev: prefer offload names in logs
From: dpdklab@iol.unh.edu
To: Test Report <test-report@dpdk.org>
Cc: dpdk-test-reports@iol.unh.edu
Content-Type: text/plain
X-BeenThere: test-report@dpdk.org
X-Mailman-Version: 2.1.29
Precedence: list
List-Id: automatic DPDK test reports <test-report.dpdk.org>
List-Unsubscribe: <https://mails.dpdk.org/options/test-report>,
 <mailto:test-report-request@dpdk.org?subject=unsubscribe>
List-Archive: <http://mails.dpdk.org/archives/test-report/>
List-Post: <mailto:test-report@dpdk.org>
List-Help: <mailto:test-report-request@dpdk.org?subject=help>
List-Subscribe: <https://mails.dpdk.org/listinfo/test-report>,
 <mailto:test-report-request@dpdk.org?subject=subscribe>
Errors-To: test-report-bounces@dpdk.org

Test-Label: iol-unit-testing
Test-Status: SUCCESS
http://dpdk.org/patch/128596

_Testing PASS_

Submitter: David Marchand <david.marchand@redhat.com>
Date: Tuesday, June 13 2023 13:24:31 
DPDK git baseline: Repo:dpdk
  Branch: master
  CommitID:050de60d8a5cef8b7c10b4471905ca8bf69d670e

128596 --> testing pass

Test environment and result as below:

+--------------------------+----------------+
|       Environment        | dpdk_unit_test |
+==========================+================+
| Fedora 37 (ARM)          | PASS           |
+--------------------------+----------------+
| Fedora 38 (ARM)          | PASS           |
+--------------------------+----------------+
| Debian Buster            | PASS           |
+--------------------------+----------------+
| Fedora 38                | PASS           |
+--------------------------+----------------+
| CentOS Stream 9 (ARM)    | PASS           |
+--------------------------+----------------+
| Debian 11 (Buster) (ARM) | PASS           |
+--------------------------+----------------+
| Fedora 37                | PASS           |
+--------------------------+----------------+
| CentOS Stream 9          | PASS           |
+--------------------------+----------------+
| Ubuntu 20.04 (ARM)       | PASS           |
+--------------------------+----------------+
| Debian Bullseye          | PASS           |
+--------------------------+----------------+
| CentOS Stream 8          | PASS           |
+--------------------------+----------------+
| Ubuntu 20.04             | PASS           |
+--------------------------+----------------+
| RHEL 7                   | PASS           |
+--------------------------+----------------+
| RHEL8                    | PASS           |
+--------------------------+----------------+
| openSUSE Leap 15         | PASS           |
+--------------------------+----------------+
| Ubuntu 22.04             | PASS           |
+--------------------------+----------------+


Fedora 37 (ARM)
	Kernel: Depends on container host
	Compiler: gcc 12.3.1

Fedora 38 (ARM)
	Kernel: Depends on container host
	Compiler: gcc 13.1.1

Debian Buster
	Kernel: 5.4.0-122-generic
	Compiler: gcc 8.3.0-6

Fedora 38
	Kernel: Depends on container host
	Compiler: gcc 13.1.1

CentOS Stream 9 (ARM)
	Kernel: Container Host Kernel
	Compiler: gcc 11.3.1

Debian 11 (Buster) (ARM)
	Kernel: Container Host Kernel
	Compiler: gcc 10.2.1

Fedora 37
	Kernel: Depends on container host system
	Compiler: gcc 12.3.1

CentOS Stream 9
	Kernel: 4.18.0-240.10.1.el8_3.x86_64
	Compiler: gcc 11.3.1 20220421

Ubuntu 20.04 (ARM)
	Kernel: Container Host Kernel
	Compiler: gcc 9.4.0

Debian Bullseye
	Kernel: 5.4.0-122-generic
	Compiler: gcc 10.2.1-6

CentOS Stream 8
	Kernel: 4.18.0-240.10.1.el8_3.x86_64
	Compiler: gcc 8.4.1 20200928

Ubuntu 20.04
	Kernel: 4.18.0-240.10.1.el8_3.x86_64
	Compiler: gcc 9.3.0-17ubuntu1~20.04

RHEL 7
	Kernel: 4.18.0-240.10.1.el8_3.x86_64
	Compiler: gcc 4.8.5 20150623 (Red Hat 4.8.5-44)

RHEL8
	Kernel: 4.18.0-240.10.1.el8_3.x86_64
	Compiler: gcc 8.3.1 20191121 (Red Hat 8.3.1-5)

openSUSE Leap 15
	Kernel: 4.18.0-240.10.1.el8_3.x86_64
	Compiler: gcc 7.5.0

Ubuntu 22.04
	Kernel: 4.18.0-240.10.1.el8_3.x86_64
	Compiler: gcc 11.3.0

To view detailed results, visit:
https://lab.dpdk.org/results/dashboard/patchsets/26658/

UNH-IOL DPDK Community Lab

To manage your email subscriptions, visit: 
https://lab.dpdk.org/results/dashboard/preferences/subscriptions/