From mboxrd@z Thu Jan  1 00:00:00 1970
Return-Path: <test-report-bounces@dpdk.org>
Received: from mails.dpdk.org (mails.dpdk.org [217.70.189.124])
	by inbox.dpdk.org (Postfix) with ESMTP id 7F9F742CAB
	for <public@inbox.dpdk.org>; Tue, 13 Jun 2023 16:53:13 +0200 (CEST)
Received: from mails.dpdk.org (localhost [127.0.0.1])
	by mails.dpdk.org (Postfix) with ESMTP id 7A14940A8A;
	Tue, 13 Jun 2023 16:53:13 +0200 (CEST)
Received: from mail-qt1-f228.google.com (mail-qt1-f228.google.com
 [209.85.160.228])
 by mails.dpdk.org (Postfix) with ESMTP id 1776D40A8A
 for <test-report@dpdk.org>; Tue, 13 Jun 2023 16:53:13 +0200 (CEST)
Received: by mail-qt1-f228.google.com with SMTP id
 d75a77b69052e-3f866383b25so9723861cf.2
 for <test-report@dpdk.org>; Tue, 13 Jun 2023 07:53:13 -0700 (PDT)
DKIM-Signature: v=1; a=rsa-sha256; c=relaxed/relaxed;
 d=iol.unh.edu; s=unh-iol; t=1686667992; x=1689259992;
 h=cc:to:from:subject:message-id:date:from:to:cc:subject:date
 :message-id:reply-to;
 bh=jcdmlTfO17VnYg34IMBi0tQw9GYK1sDFZIi4/25HSrg=;
 b=HZLHwoysf1iUYDCc8SIhhU5asBYOuktgOLqKPTpsWuIhTnnRjFkowqA4w9yDQWJgL0
 Tyh0sBZPzIkzNuzXlQrnNS7ybH5gWgnYYbekuCHQigpMxEBjRG1lVDL2xE4Q4syX99s6
 pwYoTGBOy0iNx85leoTA7XbsOLl/sJ2ktM10k=
X-Google-DKIM-Signature: v=1; a=rsa-sha256; c=relaxed/relaxed;
 d=1e100.net; s=20221208; t=1686667992; x=1689259992;
 h=cc:to:from:subject:message-id:date:x-gm-message-state:from:to:cc
 :subject:date:message-id:reply-to;
 bh=jcdmlTfO17VnYg34IMBi0tQw9GYK1sDFZIi4/25HSrg=;
 b=W6ArhovyIn5Yn5e+j0zlHz8cdZkmG9g1j9peXk+JqSE0PbD/wlbhTM/40MRzOJDWV0
 Uf4BW19MzfoEp5j0FSHrLjSXamOvl2fPUhNQYkw8bKXqRkf9BEu5LDoClRrrOhq+riaU
 kPPaIRakfhgRgJoHsDWsq8EWHb3IkhJ3oXCV6kSK6oqSyHRn9a16aIORS1kMC3fOs1II
 Hf0oPjsODSLkTVFThFllK7GdtlzRxzQJ6NeoO6JOt4o/orVye+yjivIo0nQI4/VfG9yg
 wqgy3qw/ji4qMT+f0F/hUHCZ7NNJYhi6TxclOrWd6vtyGBoiu1wsYQUJ8FunGmJStLuk
 +HHQ==
X-Gm-Message-State: AC+VfDwqh5GzLCxpSBr2tqKwEMETBnkGHC0xZlnybZG1Rcm5sHiaxEV2
 JnG3DWs6qMuSrlxh/CTT9tQiN9wgmygP6hF7hHdrqiNTbCvhO6xqZ4gVwPx/84pMSwH/I7a/EQ=
 =
X-Google-Smtp-Source: ACHHUZ5OjXb0x1hkvCU5POx1EgnGEQnxYnf7wUt4LMlTjjT8zHhzGUTEeJwmPKRJmfce0wj5riIKz5QcG3c5
X-Received: by 2002:a05:6214:400c:b0:62d:d6e4:7ccf with SMTP id
 kd12-20020a056214400c00b0062dd6e47ccfmr11302122qvb.40.1686667992486; 
 Tue, 13 Jun 2023 07:53:12 -0700 (PDT)
Received: from postal.iol.unh.edu (postal.iol.unh.edu.
 [2606:4100:3880:1234::84]) by smtp-relay.gmail.com with ESMTPS id
 w14-20020a0562140b2e00b0062b7672c8cdsm1392767qvj.38.2023.06.13.07.53.12
 (version=TLS1_2 cipher=ECDHE-ECDSA-AES128-GCM-SHA256 bits=128/128);
 Tue, 13 Jun 2023 07:53:12 -0700 (PDT)
X-Relaying-Domain: iol.unh.edu
Date: Tue, 13 Jun 2023 07:53:12 -0700 (PDT)
Message-ID: <648882d8.050a0220.177f4.8b3eSMTPIN_ADDED_MISSING@mx.google.com>
Received: from [172.17.0.2] (unknown [172.18.0.34])
 by postal.iol.unh.edu (Postfix) with ESMTP id 3FFAE605246B;
 Tue, 13 Jun 2023 10:53:12 -0400 (EDT)
Subject: |SUCCESS| pw128596 [PATCH] [v2] ethdev: prefer offload names in logs
From: dpdklab@iol.unh.edu
To: Test Report <test-report@dpdk.org>
Cc: dpdk-test-reports@iol.unh.edu
Content-Type: text/plain
X-BeenThere: test-report@dpdk.org
X-Mailman-Version: 2.1.29
Precedence: list
List-Id: automatic DPDK test reports <test-report.dpdk.org>
List-Unsubscribe: <https://mails.dpdk.org/options/test-report>,
 <mailto:test-report-request@dpdk.org?subject=unsubscribe>
List-Archive: <http://mails.dpdk.org/archives/test-report/>
List-Post: <mailto:test-report@dpdk.org>
List-Help: <mailto:test-report-request@dpdk.org?subject=help>
List-Subscribe: <https://mails.dpdk.org/listinfo/test-report>,
 <mailto:test-report-request@dpdk.org?subject=subscribe>
Errors-To: test-report-bounces@dpdk.org

Test-Label: iol-abi-testing
Test-Status: SUCCESS
http://dpdk.org/patch/128596

_Testing PASS_

Submitter: David Marchand <david.marchand@redhat.com>
Date: Tuesday, June 13 2023 13:24:31 
DPDK git baseline: Repo:dpdk
  Branch: master
  CommitID:050de60d8a5cef8b7c10b4471905ca8bf69d670e

128596 --> testing pass

Test environment and result as below:

+-----------------+----------+
|   Environment   | abi_test |
+=================+==========+
| CentOS Stream 9 | PASS     |
+-----------------+----------+
| Debian Buster   | PASS     |
+-----------------+----------+
| Fedora 38       | PASS     |
+-----------------+----------+
| CentOS Stream 8 | PASS     |
+-----------------+----------+


CentOS Stream 9
	Kernel: 4.18.0-240.10.1.el8_3.x86_64
	Compiler: gcc 11.3.1 20220421

Debian Buster
	Kernel: 5.4.0-122-generic
	Compiler: gcc 8.3.0-6

Fedora 38
	Kernel: Depends on container host
	Compiler: gcc 13.1.1

CentOS Stream 8
	Kernel: 4.18.0-240.10.1.el8_3.x86_64
	Compiler: gcc 8.4.1 20200928

To view detailed results, visit:
https://lab.dpdk.org/results/dashboard/patchsets/26658/

UNH-IOL DPDK Community Lab

To manage your email subscriptions, visit: 
https://lab.dpdk.org/results/dashboard/preferences/subscriptions/