From mboxrd@z Thu Jan  1 00:00:00 1970
Return-Path: <test-report-bounces@dpdk.org>
Received: from mails.dpdk.org (mails.dpdk.org [217.70.189.124])
	by inbox.dpdk.org (Postfix) with ESMTP id B0E2242CC0
	for <public@inbox.dpdk.org>; Thu, 15 Jun 2023 07:12:43 +0200 (CEST)
Received: from mails.dpdk.org (localhost [127.0.0.1])
	by mails.dpdk.org (Postfix) with ESMTP id AB90440DDA;
	Thu, 15 Jun 2023 07:12:43 +0200 (CEST)
Received: from mail-oo1-f100.google.com (mail-oo1-f100.google.com
 [209.85.161.100])
 by mails.dpdk.org (Postfix) with ESMTP id B3C7340DDA
 for <test-report@dpdk.org>; Thu, 15 Jun 2023 07:12:42 +0200 (CEST)
Received: by mail-oo1-f100.google.com with SMTP id
 006d021491bc7-55b3d77c9deso1213988eaf.0
 for <test-report@dpdk.org>; Wed, 14 Jun 2023 22:12:42 -0700 (PDT)
DKIM-Signature: v=1; a=rsa-sha256; c=relaxed/relaxed;
 d=iol.unh.edu; s=unh-iol; t=1686805962; x=1689397962;
 h=cc:to:from:subject:message-id:date:from:to:cc:subject:date
 :message-id:reply-to;
 bh=AEVsp4qOwA02+/25WownkBip9SOB2cJym5rJSeL9WCM=;
 b=KfGnvcVyMWNfXDVpOWlFb5OhbqWqC8ei/9iRUN4xqtfxle4MfaPAfmgVzraPYzcelC
 P68aumTdustk/gUgGUiyX8qMd/oInnQESWc/jhkGZj96QGyK+dFO49qOZvkwt1GdQGwD
 wgTx/DKJbQEASMbgp0UspkbrRFvsFR/rGyEj4=
X-Google-DKIM-Signature: v=1; a=rsa-sha256; c=relaxed/relaxed;
 d=1e100.net; s=20221208; t=1686805962; x=1689397962;
 h=cc:to:from:subject:message-id:date:x-gm-message-state:from:to:cc
 :subject:date:message-id:reply-to;
 bh=AEVsp4qOwA02+/25WownkBip9SOB2cJym5rJSeL9WCM=;
 b=OfzJKRDIES9z5Joy8juUv11pHcsUTiTBItz0F5b3dDOpJ9/8DmhkeFpkd5ICBy91x6
 HyHPRGcBkYJFOVe5n7rbVOzTLsh0zc7UE6g4IedITI9NrsgArApJi90+/1sqlc6sfMbg
 AevJfQh781+b7n9+N8V+9E5WO/YjSlekV+brmWt/jVoxJNQhbGgh/+lqz/vHGA6k7fZW
 j0R5oKPiMqIynIjwdV0JqEoxen8ukor1CsgxcVwKFNiLiY7cUX0qpiSZEoL6cdBnnZjA
 msyfMyFOBPQ69SHslnoAwDrMANpkEQyVqMg2agzWrw18zFSYwh0NXrPVlnqMGvdp4qPq
 TgSQ==
X-Gm-Message-State: AC+VfDy1XglIX0gbCXLgpoU77isaxs53rgqP1Rmqo+ppY9yuN3mCg8D2
 yr5+bkavVejnL/Pfnx1Hq3qY7xlwyNFxItVSijDxs3Wa228SpSReeW0/vQzOwstBrI9X4Apweg=
 =
X-Google-Smtp-Source: ACHHUZ5CIVK9WlnWszOCcDlyFHMVFbz0/yRaOi783nm8mWxDNWMu7MeZmGxsjJQzB4LCptGfnmbS6CKduQuv
X-Received: by 2002:a05:6808:13c6:b0:39b:f548:3f6 with SMTP id
 d6-20020a05680813c600b0039bf54803f6mr14296778oiw.13.1686805962042; 
 Wed, 14 Jun 2023 22:12:42 -0700 (PDT)
Received: from postal.iol.unh.edu (postal.iol.unh.edu.
 [2606:4100:3880:1234::84]) by smtp-relay.gmail.com with ESMTPS id
 om15-20020a17090b3a8f00b002566c76bafesm2728878pjb.5.2023.06.14.22.12.41
 (version=TLS1_2 cipher=ECDHE-ECDSA-AES128-GCM-SHA256 bits=128/128);
 Wed, 14 Jun 2023 22:12:42 -0700 (PDT)
X-Relaying-Domain: iol.unh.edu
Date: Wed, 14 Jun 2023 22:12:42 -0700 (PDT)
Message-ID: <648a9dca.170a0220.cbcaa.837fSMTPIN_ADDED_MISSING@mx.google.com>
Received: from [172.17.0.3] (unknown [172.18.0.34])
 by postal.iol.unh.edu (Postfix) with ESMTP id 406DC605246B;
 Thu, 15 Jun 2023 01:12:41 -0400 (EDT)
Subject: |SUCCESS| pw128597 [PATCH] mailmap: update contributor entry
From: dpdklab@iol.unh.edu
To: Test Report <test-report@dpdk.org>
Cc: dpdk-test-reports@iol.unh.edu
Content-Type: text/plain
X-BeenThere: test-report@dpdk.org
X-Mailman-Version: 2.1.29
Precedence: list
List-Id: automatic DPDK test reports <test-report.dpdk.org>
List-Unsubscribe: <https://mails.dpdk.org/options/test-report>,
 <mailto:test-report-request@dpdk.org?subject=unsubscribe>
List-Archive: <http://mails.dpdk.org/archives/test-report/>
List-Post: <mailto:test-report@dpdk.org>
List-Help: <mailto:test-report-request@dpdk.org?subject=help>
List-Subscribe: <https://mails.dpdk.org/listinfo/test-report>,
 <mailto:test-report-request@dpdk.org?subject=subscribe>
Errors-To: test-report-bounces@dpdk.org

Test-Label: iol-abi-testing
Test-Status: SUCCESS
http://dpdk.org/patch/128597

_Testing PASS_

Submitter: Ivan Malov <ivan.malov@arknetworks.am>
Date: Tuesday, June 13 2023 14:03:53 
DPDK git baseline: Repo:dpdk
  Branch: master
  CommitID:050de60d8a5cef8b7c10b4471905ca8bf69d670e

128597 --> testing pass

Test environment and result as below:

+------------------+----------+
|   Environment    | abi_test |
+==================+==========+
| Debian Bullseye  | PASS     |
+------------------+----------+
| RHEL8            | PASS     |
+------------------+----------+
| Debian Buster    | PASS     |
+------------------+----------+
| CentOS Stream 9  | PASS     |
+------------------+----------+
| CentOS Stream 8  | PASS     |
+------------------+----------+
| Fedora 38        | PASS     |
+------------------+----------+
| openSUSE Leap 15 | PASS     |
+------------------+----------+
| RHEL 7           | PASS     |
+------------------+----------+
| Fedora 37        | PASS     |
+------------------+----------+


Debian Bullseye
	Kernel: 5.4.0-122-generic
	Compiler: gcc 10.2.1-6

RHEL8
	Kernel: 4.18.0-240.10.1.el8_3.x86_64
	Compiler: gcc 8.3.1 20191121 (Red Hat 8.3.1-5)

Debian Buster
	Kernel: 5.4.0-122-generic
	Compiler: gcc 8.3.0-6

CentOS Stream 9
	Kernel: 4.18.0-240.10.1.el8_3.x86_64
	Compiler: gcc 11.3.1 20220421

CentOS Stream 8
	Kernel: 4.18.0-240.10.1.el8_3.x86_64
	Compiler: gcc 8.4.1 20200928

Fedora 38
	Kernel: Depends on container host
	Compiler: clang 16.0.3

openSUSE Leap 15
	Kernel: 4.18.0-240.10.1.el8_3.x86_64
	Compiler: gcc 7.5.0

RHEL 7
	Kernel: 4.18.0-240.10.1.el8_3.x86_64
	Compiler: gcc 4.8.5 20150623 (Red Hat 4.8.5-44)

Fedora 37
	Kernel: Depends on container host system
	Compiler: gcc 12.3.1

To view detailed results, visit:
https://lab.dpdk.org/results/dashboard/patchsets/26659/

UNH-IOL DPDK Community Lab

To manage your email subscriptions, visit: 
https://lab.dpdk.org/results/dashboard/preferences/subscriptions/