From: dpdklab@iol.unh.edu
To: Test Report <test-report@dpdk.org>
Cc: dpdk-test-reports@iol.unh.edu
Subject: |SUCCESS| pw128778-128780 [PATCH] [v2,3/3] bus/cdx: fix resource lea
Date: Fri, 16 Jun 2023 06:42:21 -0700 (PDT) [thread overview]
Message-ID: <648c66bd.020a0220.e7f3.885eSMTPIN_ADDED_MISSING@mx.google.com> (raw)
Test-Label: iol-aarch-unit-testing
Test-Status: SUCCESS
http://dpdk.org/patch/128780
_Testing PASS_
Submitter: Abhijit Gangurde <abhijit.gangurde@amd.com>
Date: Friday, June 16 2023 12:39:10
DPDK git baseline: Repo:dpdk
Branch: master
CommitID:7556a1a355fb377279508735f7afc1faf1d00158
128778-128780 --> testing pass
Test environment and result as below:
+-----------------------------+------------------------------+---------------------------+--------------+----------------+
| Environment | cryptodev_sw_snow3g_autotest | cryptodev_sw_zuc_autotest | lpm_autotest | dpdk_unit_test |
+=============================+==============================+===========================+==============+================+
| Debian 11 | PASS | PASS | SKIPPED | SKIPPED |
+-----------------------------+------------------------------+---------------------------+--------------+----------------+
| Ubuntu 20.04 ARM SVE | SKIPPED | SKIPPED | PASS | SKIPPED |
+-----------------------------+------------------------------+---------------------------+--------------+----------------+
| (32-bit) ARM Ubuntu 20.04.4 | SKIPPED | SKIPPED | SKIPPED | PASS |
+-----------------------------+------------------------------+---------------------------+--------------+----------------+
Debian 11
Kernel: Container Host Kernel
Compiler: gcc 10.2.1
Ubuntu 20.04 ARM SVE
Kernel: 5.4.0-80-generic
Compiler: gcc 10.3.0 (Ubuntu 10.3.0-1ubuntu1~20.04)
(32-bit) ARM Ubuntu 20.04.4
Kernel: 5.4.0-148-generic aarch64
Compiler: gcc 9.4
To view detailed results, visit:
https://lab.dpdk.org/results/dashboard/patchsets/26726/
UNH-IOL DPDK Community Lab
To manage your email subscriptions, visit:
https://lab.dpdk.org/results/dashboard/preferences/subscriptions/
next reply other threads:[~2023-06-16 13:42 UTC|newest]
Thread overview: 27+ messages / expand[flat|nested] mbox.gz Atom feed top
2023-06-16 13:42 dpdklab [this message]
-- strict thread matches above, loose matches on Subject: below --
2023-06-18 14:26 dpdklab
2023-06-17 4:21 dpdklab
2023-06-17 4:03 dpdklab
2023-06-17 3:53 dpdklab
2023-06-17 3:49 dpdklab
2023-06-17 3:44 dpdklab
2023-06-16 13:51 dpdklab
2023-06-16 13:50 dpdklab
2023-06-16 13:47 dpdklab
2023-06-16 13:46 dpdklab
2023-06-16 13:44 dpdklab
2023-06-16 13:43 dpdklab
2023-06-16 13:43 dpdklab
2023-06-16 13:41 dpdklab
2023-06-16 13:39 dpdklab
2023-06-16 13:38 dpdklab
2023-06-16 13:35 dpdklab
2023-06-16 13:29 dpdklab
2023-06-16 13:29 dpdklab
2023-06-16 13:24 dpdklab
2023-06-16 13:23 dpdklab
2023-06-16 13:23 dpdklab
2023-06-16 13:20 dpdklab
2023-06-16 13:14 dpdklab
2023-06-16 13:13 dpdklab
2023-06-16 13:13 dpdklab
Reply instructions:
You may reply publicly to this message via plain-text email
using any one of the following methods:
* Save the following mbox file, import it into your mail client,
and reply-to-all from there: mbox
Avoid top-posting and favor interleaved quoting:
https://en.wikipedia.org/wiki/Posting_style#Interleaved_style
* Reply using the --to, --cc, and --in-reply-to
switches of git-send-email(1):
git send-email \
--in-reply-to=648c66bd.020a0220.e7f3.885eSMTPIN_ADDED_MISSING@mx.google.com \
--to=dpdklab@iol.unh.edu \
--cc=dpdk-test-reports@iol.unh.edu \
--cc=test-report@dpdk.org \
/path/to/YOUR_REPLY
https://kernel.org/pub/software/scm/git/docs/git-send-email.html
* If your mail client supports setting the In-Reply-To header
via mailto: links, try the mailto: link
Be sure your reply has a Subject: header at the top and a blank line
before the message body.
This is a public inbox, see mirroring instructions
for how to clone and mirror all data and code used for this inbox;
as well as URLs for NNTP newsgroup(s).