From mboxrd@z Thu Jan  1 00:00:00 1970
Return-Path: <test-report-bounces@dpdk.org>
Received: from mails.dpdk.org (mails.dpdk.org [217.70.189.124])
	by inbox.dpdk.org (Postfix) with ESMTP id 299A742CDA
	for <public@inbox.dpdk.org>; Fri, 16 Jun 2023 23:34:50 +0200 (CEST)
Received: from mails.dpdk.org (localhost [127.0.0.1])
	by mails.dpdk.org (Postfix) with ESMTP id 24992400D5;
	Fri, 16 Jun 2023 23:34:50 +0200 (CEST)
Received: from mail-yw1-f226.google.com (mail-yw1-f226.google.com
 [209.85.128.226])
 by mails.dpdk.org (Postfix) with ESMTP id 97639400D5
 for <test-report@dpdk.org>; Fri, 16 Jun 2023 23:34:49 +0200 (CEST)
Received: by mail-yw1-f226.google.com with SMTP id
 00721157ae682-570877f7838so1948387b3.0
 for <test-report@dpdk.org>; Fri, 16 Jun 2023 14:34:49 -0700 (PDT)
DKIM-Signature: v=1; a=rsa-sha256; c=relaxed/relaxed;
 d=iol.unh.edu; s=unh-iol; t=1686951289; x=1689543289;
 h=cc:to:from:subject:message-id:date:from:to:cc:subject:date
 :message-id:reply-to;
 bh=/Z7gVtJFAQ03iMHCBbMifTDx1J/+mOz24bjZiDpC9Gs=;
 b=DoYa2ZCukRY+GlDDGM4M+urgYLn4YNeoINCvxs3f4SR2yiD3WhhkqdxQEjNarlpeIW
 0WVOiZKhivagZOw6T7IsKm4CQ4xKHJOH3HudzJLVsMa2pw2znRHAFoHnM9LbNtnpLpVF
 TCPTp4Iywm8x7Ze9nCQ0a1PCNXz2MenPdGjbU=
X-Google-DKIM-Signature: v=1; a=rsa-sha256; c=relaxed/relaxed;
 d=1e100.net; s=20221208; t=1686951289; x=1689543289;
 h=cc:to:from:subject:message-id:date:x-gm-message-state:from:to:cc
 :subject:date:message-id:reply-to;
 bh=/Z7gVtJFAQ03iMHCBbMifTDx1J/+mOz24bjZiDpC9Gs=;
 b=cFtQFxqVop41Zu8z0MX+SMhipjjcGO++VD6s+Szig3t/asjKZSnU48ZvCFzwu61IB+
 phDzfHRMTbgv6mKnBvDTbz3I63Sit22ZEghKMyg1u8KCtQ1F+iBrnWIr9SoR+d+AFC+M
 Gp0z4T1rRYbYyQSTIwD0sqk1CXbgfV/9NF7SOqnGAjfVKaugkW+D4q8Zrh56nIdEvGm8
 SFxEjlbIrcnu28H6v7f/I/OM6IIHrZfGeF+K9OWBLuuJK3PlhqI5osVW3chFkiXchJiH
 GuFUD3L7T7vMLt/5gpl+8DxasanbHUYXErBjtQ714rjVffsBtH8QLlzdaOt0jqIiDZ6u
 BlJw==
X-Gm-Message-State: AC+VfDzESHP62XWrr/n6bDQLBedYOFhxSLQVMFvmTzGBFOYNSZApFCGI
 VmQVkmMAUlZg3+8eQyrryDnxq/62ar7QrckPhMzpUkGr/ACC9FRIn+4mxA==
X-Google-Smtp-Source: ACHHUZ5TLlr/59QUOxeJxC5Igi0spF8wqrDcDLzaOOu6O8OcHkq209eXjacpm6X1NQG7KQtNw+kKT03ORIEc
X-Received: by 2002:a81:6a82:0:b0:56c:e88e:de9a with SMTP id
 f124-20020a816a82000000b0056ce88ede9amr3292980ywc.39.1686951289058; 
 Fri, 16 Jun 2023 14:34:49 -0700 (PDT)
Received: from postal.iol.unh.edu (postal.iol.unh.edu. [132.177.123.84])
 by smtp-relay.gmail.com with ESMTPS id
 g4-20020a81fd04000000b0055a7c5ab6a0sm3350057ywn.15.2023.06.16.14.34.48
 (version=TLS1_2 cipher=ECDHE-ECDSA-AES128-GCM-SHA256 bits=128/128);
 Fri, 16 Jun 2023 14:34:49 -0700 (PDT)
X-Relaying-Domain: iol.unh.edu
Date: Fri, 16 Jun 2023 14:34:49 -0700 (PDT)
Message-ID: <648cd579.810a0220.9bc85.1304SMTPIN_ADDED_MISSING@mx.google.com>
Received: from [172.17.0.5] (unknown [172.18.0.34])
 by postal.iol.unh.edu (Postfix) with ESMTP id AFEE9605246B;
 Fri, 16 Jun 2023 17:34:48 -0400 (EDT)
Subject: |SUCCESS| pw128768 [PATCH] [v3] build: select optional libraries
From: dpdklab@iol.unh.edu
To: Test Report <test-report@dpdk.org>
Cc: dpdk-test-reports@iol.unh.edu
Content-Type: text/plain
X-BeenThere: test-report@dpdk.org
X-Mailman-Version: 2.1.29
Precedence: list
List-Id: automatic DPDK test reports <test-report.dpdk.org>
List-Unsubscribe: <https://mails.dpdk.org/options/test-report>,
 <mailto:test-report-request@dpdk.org?subject=unsubscribe>
List-Archive: <http://mails.dpdk.org/archives/test-report/>
List-Post: <mailto:test-report@dpdk.org>
List-Help: <mailto:test-report-request@dpdk.org?subject=help>
List-Subscribe: <https://mails.dpdk.org/listinfo/test-report>,
 <mailto:test-report-request@dpdk.org?subject=subscribe>
Errors-To: test-report-bounces@dpdk.org

Test-Label: iol-abi-testing
Test-Status: SUCCESS
http://dpdk.org/patch/128768

_Testing PASS_

Submitter: David Marchand <david.marchand@redhat.com>
Date: Friday, June 16 2023 07:14:50 
DPDK git baseline: Repo:dpdk
  Branch: master
  CommitID:7556a1a355fb377279508735f7afc1faf1d00158

128768 --> testing pass

Test environment and result as below:

+-----------------+----------+
|   Environment   | abi_test |
+=================+==========+
| Debian Bullseye | PASS     |
+-----------------+----------+
| Fedora 37       | PASS     |
+-----------------+----------+
| CentOS Stream 9 | PASS     |
+-----------------+----------+
| RHEL 7          | PASS     |
+-----------------+----------+
| Fedora 38       | PASS     |
+-----------------+----------+
| RHEL8           | PASS     |
+-----------------+----------+
| CentOS Stream 8 | PASS     |
+-----------------+----------+
| Debian Buster   | PASS     |
+-----------------+----------+


Debian Bullseye
	Kernel: 5.4.0-122-generic
	Compiler: gcc 10.2.1-6

Fedora 37
	Kernel: Depends on container host system
	Compiler: gcc 12.3.1

CentOS Stream 9
	Kernel: 4.18.0-240.10.1.el8_3.x86_64
	Compiler: gcc 11.3.1 20220421

RHEL 7
	Kernel: 4.18.0-240.10.1.el8_3.x86_64
	Compiler: gcc 4.8.5 20150623 (Red Hat 4.8.5-44)

Fedora 38
	Kernel: Depends on container host
	Compiler: clang 16.0.3

RHEL8
	Kernel: 4.18.0-240.10.1.el8_3.x86_64
	Compiler: gcc 8.3.1 20191121 (Red Hat 8.3.1-5)

CentOS Stream 8
	Kernel: 4.18.0-240.10.1.el8_3.x86_64
	Compiler: gcc 8.4.1 20200928

Debian Buster
	Kernel: 5.4.0-122-generic
	Compiler: gcc 8.3.0-6

To view detailed results, visit:
https://lab.dpdk.org/results/dashboard/patchsets/26720/

UNH-IOL DPDK Community Lab

To manage your email subscriptions, visit: 
https://lab.dpdk.org/results/dashboard/preferences/subscriptions/