From mboxrd@z Thu Jan  1 00:00:00 1970
Return-Path: <test-report-bounces@dpdk.org>
Received: from mails.dpdk.org (mails.dpdk.org [217.70.189.124])
	by inbox.dpdk.org (Postfix) with ESMTP id 4232142CDA
	for <public@inbox.dpdk.org>; Fri, 16 Jun 2023 23:35:00 +0200 (CEST)
Received: from mails.dpdk.org (localhost [127.0.0.1])
	by mails.dpdk.org (Postfix) with ESMTP id 3E2A9400D5;
	Fri, 16 Jun 2023 23:35:00 +0200 (CEST)
Received: from mail-yw1-f228.google.com (mail-yw1-f228.google.com
 [209.85.128.228])
 by mails.dpdk.org (Postfix) with ESMTP id EE746400D5
 for <test-report@dpdk.org>; Fri, 16 Jun 2023 23:34:53 +0200 (CEST)
Received: by mail-yw1-f228.google.com with SMTP id
 00721157ae682-570808d8ddeso4766527b3.0
 for <test-report@dpdk.org>; Fri, 16 Jun 2023 14:34:53 -0700 (PDT)
DKIM-Signature: v=1; a=rsa-sha256; c=relaxed/relaxed;
 d=iol.unh.edu; s=unh-iol; t=1686951293; x=1689543293;
 h=cc:to:from:subject:message-id:date:from:to:cc:subject:date
 :message-id:reply-to;
 bh=MB/ziCKmwUTpKfPygQQs+vYPGaV/FKgKbWbrbiZnkh8=;
 b=DQF4mUgridephfdzGxJAkM07VH9seY8FERUjQ4csWgaKtlOj4d1fUGwiHNnKFhjkAW
 8rtK5nDfNVg6waW0VPNt8qNIDmcC5TjxJ9pW7aVGuieAtJXoNHr2BCYr++6bUPaxNslr
 4GxgGpxrU0+SXm/YRnnXlIX2bh2DFp93jbSh0=
X-Google-DKIM-Signature: v=1; a=rsa-sha256; c=relaxed/relaxed;
 d=1e100.net; s=20221208; t=1686951293; x=1689543293;
 h=cc:to:from:subject:message-id:date:x-gm-message-state:from:to:cc
 :subject:date:message-id:reply-to;
 bh=MB/ziCKmwUTpKfPygQQs+vYPGaV/FKgKbWbrbiZnkh8=;
 b=h0xpRwnW+2MmMJUn5B1/H7ngRglsy9vCWdrGpcFZn0225wRhNc8vXiOP5ubbubmXc+
 kfOztMQWj0ErryiRsQTnVumAYTmGHYEb25JN4WQv5NxsM4CfkXGiqJDudXBHtNShfV/V
 Nj648E0OSUIPC91Ef4Knq0Hd6DzbtZU1stfGSjO9j9d2i3b29Y9qcQKLNt7zmwzdWJKq
 kkKo8S//WSxhqVrgk+8ZQHJyYaO8HEulPSvWp3mAPTa1rVYf+vdScv/A1V7HUZFLsHzu
 0FHFmN8VbylkfAgTa0eKab6OfC2lNvQ7Y4EDHQxf2MM1A0DTdREOlRsD2dltl8BOdgX9
 gYOQ==
X-Gm-Message-State: AC+VfDxWFz5kzE6s4XwuJg46g+4Js/nks2PuFpcPlQ6NcKBZ32d/nCEh
 iplU8zvyKQwALWGcND4g140xnI6shFZ8FZ/m79IVa/FY1rjXR60FFmfSSQ==
X-Google-Smtp-Source: ACHHUZ4Jrrokpmi+9ITKMBLx73DWLZFNpx/wYbIcZODKWIBWfNXlnatgRWxZuWdhPiLm3yzDKS4ZhCDSvn8W
X-Received: by 2002:a0d:c181:0:b0:570:81c1:46b3 with SMTP id
 c123-20020a0dc181000000b0057081c146b3mr725224ywd.23.1686951293492; 
 Fri, 16 Jun 2023 14:34:53 -0700 (PDT)
Received: from postal.iol.unh.edu (postal.iol.unh.edu. [132.177.123.84])
 by smtp-relay.gmail.com with ESMTPS id
 b64-20020a0dd943000000b005700b2a828fsm976596ywe.61.2023.06.16.14.34.53
 (version=TLS1_2 cipher=ECDHE-ECDSA-AES128-GCM-SHA256 bits=128/128);
 Fri, 16 Jun 2023 14:34:53 -0700 (PDT)
X-Relaying-Domain: iol.unh.edu
Date: Fri, 16 Jun 2023 14:34:53 -0700 (PDT)
Message-ID: <648cd57d.0d0a0220.e5626.b712SMTPIN_ADDED_MISSING@mx.google.com>
Received: from [172.17.0.4] (unknown [172.18.0.34])
 by postal.iol.unh.edu (Postfix) with ESMTP id 23DBE605246B;
 Fri, 16 Jun 2023 17:34:53 -0400 (EDT)
Subject: |SUCCESS| pw128768 [PATCH] [v3] build: select optional libraries
From: dpdklab@iol.unh.edu
To: Test Report <test-report@dpdk.org>
Cc: dpdk-test-reports@iol.unh.edu
Content-Type: text/plain
X-BeenThere: test-report@dpdk.org
X-Mailman-Version: 2.1.29
Precedence: list
List-Id: automatic DPDK test reports <test-report.dpdk.org>
List-Unsubscribe: <https://mails.dpdk.org/options/test-report>,
 <mailto:test-report-request@dpdk.org?subject=unsubscribe>
List-Archive: <http://mails.dpdk.org/archives/test-report/>
List-Post: <mailto:test-report@dpdk.org>
List-Help: <mailto:test-report-request@dpdk.org?subject=help>
List-Subscribe: <https://mails.dpdk.org/listinfo/test-report>,
 <mailto:test-report-request@dpdk.org?subject=subscribe>
Errors-To: test-report-bounces@dpdk.org

Test-Label: iol-unit-testing
Test-Status: SUCCESS
http://dpdk.org/patch/128768

_Testing PASS_

Submitter: David Marchand <david.marchand@redhat.com>
Date: Friday, June 16 2023 07:14:50 
DPDK git baseline: Repo:dpdk
  Branch: master
  CommitID:7556a1a355fb377279508735f7afc1faf1d00158

128768 --> testing pass

Test environment and result as below:

+--------------------------+----------------+
|       Environment        | dpdk_unit_test |
+==========================+================+
| Fedora 37 (ARM)          | PASS           |
+--------------------------+----------------+
| CentOS Stream 9 (ARM)    | PASS           |
+--------------------------+----------------+
| Fedora 38 (ARM)          | PASS           |
+--------------------------+----------------+
| Debian 11 (Buster) (ARM) | PASS           |
+--------------------------+----------------+
| Ubuntu 20.04 (ARM)       | PASS           |
+--------------------------+----------------+
| Fedora 38 (ARM Clang)    | PASS           |
+--------------------------+----------------+
| Fedora 38                | PASS           |
+--------------------------+----------------+
| CentOS Stream 8          | PASS           |
+--------------------------+----------------+
| CentOS Stream 9          | PASS           |
+--------------------------+----------------+
| openSUSE Leap 15         | PASS           |
+--------------------------+----------------+
| Fedora 37                | PASS           |
+--------------------------+----------------+
| Debian Buster            | PASS           |
+--------------------------+----------------+
| RHEL 7                   | PASS           |
+--------------------------+----------------+
| Ubuntu 22.04             | PASS           |
+--------------------------+----------------+
| Debian Bullseye          | PASS           |
+--------------------------+----------------+
| Ubuntu 20.04             | PASS           |
+--------------------------+----------------+
| RHEL8                    | PASS           |
+--------------------------+----------------+


Fedora 37 (ARM)
	Kernel: Depends on container host
	Compiler: gcc 12.3.1

CentOS Stream 9 (ARM)
	Kernel: Container Host Kernel
	Compiler: gcc 11.3.1

Fedora 38 (ARM)
	Kernel: Depends on container host
	Compiler: gcc 13.1.1

Debian 11 (Buster) (ARM)
	Kernel: Container Host Kernel
	Compiler: gcc 10.2.1

Ubuntu 20.04 (ARM)
	Kernel: Container Host Kernel
	Compiler: gcc 9.4.0

Fedora 38 (ARM Clang)
	Kernel: Depends on container host
	Compiler: clang 16.0.3

Fedora 38
	Kernel: Depends on container host
	Compiler: gcc 13.1.1

CentOS Stream 8
	Kernel: 4.18.0-240.10.1.el8_3.x86_64
	Compiler: gcc 8.4.1 20200928

CentOS Stream 9
	Kernel: 4.18.0-240.10.1.el8_3.x86_64
	Compiler: gcc 11.3.1 20220421

openSUSE Leap 15
	Kernel: 4.18.0-240.10.1.el8_3.x86_64
	Compiler: gcc 7.5.0

Fedora 37
	Kernel: Depends on container host system
	Compiler: gcc 12.3.1

Debian Buster
	Kernel: 5.4.0-122-generic
	Compiler: gcc 8.3.0-6

RHEL 7
	Kernel: 4.18.0-240.10.1.el8_3.x86_64
	Compiler: gcc 4.8.5 20150623 (Red Hat 4.8.5-44)

Ubuntu 22.04
	Kernel: 4.18.0-240.10.1.el8_3.x86_64
	Compiler: gcc 11.3.0

Debian Bullseye
	Kernel: 5.4.0-122-generic
	Compiler: gcc 10.2.1-6

Ubuntu 20.04
	Kernel: 4.18.0-240.10.1.el8_3.x86_64
	Compiler: gcc 9.3.0-17ubuntu1~20.04

RHEL8
	Kernel: 4.18.0-240.10.1.el8_3.x86_64
	Compiler: gcc 8.3.1 20191121 (Red Hat 8.3.1-5)

To view detailed results, visit:
https://lab.dpdk.org/results/dashboard/patchsets/26720/

UNH-IOL DPDK Community Lab

To manage your email subscriptions, visit: 
https://lab.dpdk.org/results/dashboard/preferences/subscriptions/