From mboxrd@z Thu Jan  1 00:00:00 1970
Return-Path: <test-report-bounces@dpdk.org>
Received: from mails.dpdk.org (mails.dpdk.org [217.70.189.124])
	by inbox.dpdk.org (Postfix) with ESMTP id B2E8E42CFE
	for <public@inbox.dpdk.org>; Mon, 19 Jun 2023 23:39:36 +0200 (CEST)
Received: from mails.dpdk.org (localhost [127.0.0.1])
	by mails.dpdk.org (Postfix) with ESMTP id AF69840DF8;
	Mon, 19 Jun 2023 23:39:36 +0200 (CEST)
Received: from mail-io1-f99.google.com (mail-io1-f99.google.com
 [209.85.166.99]) by mails.dpdk.org (Postfix) with ESMTP id D24F540DF8
 for <test-report@dpdk.org>; Mon, 19 Jun 2023 23:39:35 +0200 (CEST)
Received: by mail-io1-f99.google.com with SMTP id
 ca18e2360f4ac-77e23d463deso154517839f.3
 for <test-report@dpdk.org>; Mon, 19 Jun 2023 14:39:35 -0700 (PDT)
DKIM-Signature: v=1; a=rsa-sha256; c=relaxed/relaxed;
 d=iol.unh.edu; s=unh-iol; t=1687210775; x=1689802775;
 h=cc:to:from:subject:message-id:date:from:to:cc:subject:date
 :message-id:reply-to;
 bh=Cu07znOyPxQ3DALn0RX90EEPdIi9y/VOIc0lshK9/qM=;
 b=GLpqeFxxWtg/PG20TcHrnV++DpcBdR/NR2JZw0QWW3lX3OWYvefScpdHJst5gNl9P0
 YzJhjOPFnPeajkWo2QeB8sPdL2kJEhptFzvRZ2qFOwEchN+XSUzQqxT/gyO406xzn826
 TpLp7LbsxiN+RvaSwgbY0eC0eHGM20NHrMQlU=
X-Google-DKIM-Signature: v=1; a=rsa-sha256; c=relaxed/relaxed;
 d=1e100.net; s=20221208; t=1687210775; x=1689802775;
 h=cc:to:from:subject:message-id:date:x-gm-message-state:from:to:cc
 :subject:date:message-id:reply-to;
 bh=Cu07znOyPxQ3DALn0RX90EEPdIi9y/VOIc0lshK9/qM=;
 b=lKsztOckiU5OaSK6s0LR/nemwOEYIUa4SyB9MYEGaBivjtvnpSpPHz5X0yrJyqRwRG
 7/grZjhPFiSuof2cZ9Gp08p875IrfVjAlA4ulOuy1cx0uEEs14sqMijWRehGDB43Rcer
 z0o/MJY7ICE98pA8aWTY+3jF07m68eIZHMq8ZnfhwhD9Vr4WFRhow0E2GcPMHBZ4WEAd
 Z1FeAzYGWTHNcmStYCvx5+MuX38lyJd/OWI+gjdyD8/JiUJ8m+7Tnqvzonb0UplB76QI
 qey9DQt1xRrmRHqoy2PhCzWLlIFtjBgJmvI9prjang5gdPKqHjJhZTS7I+ODzIiBY/Tc
 mPKA==
X-Gm-Message-State: AC+VfDyrNHyZvcVI4hS/SgPBQC8WHl+1gM88Pk7MaTQtpEiC05pbPaS3
 l7M3u9NE1w7JbEyfEdY8uyeUctbeibWbvqKVzKvLOFciKvYeLbXOtJI/hhBO6OetXeMEkU/4vQ=
 =
X-Google-Smtp-Source: ACHHUZ78jmF5IW8ptF/4Hcr7MaDNiP9yT1tSq+bnc/E56xPjhY9UpUUifesCf/Mf9r6eee9khVUn0i7659E9
X-Received: by 2002:a05:6602:19:b0:774:7a6d:8753 with SMTP id
 b25-20020a056602001900b007747a6d8753mr10866209ioa.9.1687210775280; 
 Mon, 19 Jun 2023 14:39:35 -0700 (PDT)
Received: from postal.iol.unh.edu (postal.iol.unh.edu.
 [2606:4100:3880:1234::84]) by smtp-relay.gmail.com with ESMTPS id
 q11-20020a0566380ecb00b00420d32fd0cfsm118978jas.47.2023.06.19.14.39.35
 (version=TLS1_2 cipher=ECDHE-ECDSA-AES128-GCM-SHA256 bits=128/128);
 Mon, 19 Jun 2023 14:39:35 -0700 (PDT)
X-Relaying-Domain: iol.unh.edu
Date: Mon, 19 Jun 2023 14:39:35 -0700 (PDT)
Message-ID: <6490cb17.050a0220.6d57b.17a0SMTPIN_ADDED_MISSING@mx.google.com>
Received: from [172.17.0.3] (unknown [172.18.0.34])
 by postal.iol.unh.edu (Postfix) with ESMTP id CF849605246B;
 Mon, 19 Jun 2023 17:39:34 -0400 (EDT)
Subject: |SUCCESS| pw128802-128803 [PATCH] [2/2] lib: make graph optional
From: dpdklab@iol.unh.edu
To: Test Report <test-report@dpdk.org>
Cc: dpdk-test-reports@iol.unh.edu
Content-Type: text/plain
X-BeenThere: test-report@dpdk.org
X-Mailman-Version: 2.1.29
Precedence: list
List-Id: automatic DPDK test reports <test-report.dpdk.org>
List-Unsubscribe: <https://mails.dpdk.org/options/test-report>,
 <mailto:test-report-request@dpdk.org?subject=unsubscribe>
List-Archive: <http://mails.dpdk.org/archives/test-report/>
List-Post: <mailto:test-report@dpdk.org>
List-Help: <mailto:test-report-request@dpdk.org?subject=help>
List-Subscribe: <https://mails.dpdk.org/listinfo/test-report>,
 <mailto:test-report-request@dpdk.org?subject=subscribe>
Errors-To: test-report-bounces@dpdk.org

Test-Label: iol-abi-testing
Test-Status: SUCCESS
http://dpdk.org/patch/128803

_Testing PASS_

Submitter: David Marchand <david.marchand@redhat.com>
Date: Monday, June 19 2023 20:46:50 
DPDK git baseline: Repo:dpdk
  Branch: master
  CommitID:7556a1a355fb377279508735f7afc1faf1d00158

128802-128803 --> testing pass

Test environment and result as below:

+-----------------+----------+
|   Environment   | abi_test |
+=================+==========+
| CentOS Stream 8 | PASS     |
+-----------------+----------+
| RHEL 7          | PASS     |
+-----------------+----------+
| Ubuntu 22.04    | PASS     |
+-----------------+----------+
| Debian Buster   | PASS     |
+-----------------+----------+
| CentOS Stream 9 | PASS     |
+-----------------+----------+
| RHEL8           | PASS     |
+-----------------+----------+
| Fedora 37       | PASS     |
+-----------------+----------+
| Fedora 38       | PASS     |
+-----------------+----------+


CentOS Stream 8
	Kernel: 4.18.0-240.10.1.el8_3.x86_64
	Compiler: gcc 8.4.1 20200928

RHEL 7
	Kernel: 4.18.0-240.10.1.el8_3.x86_64
	Compiler: gcc 4.8.5 20150623 (Red Hat 4.8.5-44)

Ubuntu 22.04
	Kernel: 4.18.0-240.10.1.el8_3.x86_64
	Compiler: gcc 11.3.0

Debian Buster
	Kernel: 5.4.0-122-generic
	Compiler: gcc 8.3.0-6

CentOS Stream 9
	Kernel: 4.18.0-240.10.1.el8_3.x86_64
	Compiler: gcc 11.3.1 20220421

RHEL8
	Kernel: 4.18.0-240.10.1.el8_3.x86_64
	Compiler: gcc 8.3.1 20191121 (Red Hat 8.3.1-5)

Fedora 37
	Kernel: Depends on container host system
	Compiler: gcc 12.3.1

Fedora 38
	Kernel: Depends on container host
	Compiler: clang 16.0.3

To view detailed results, visit:
https://lab.dpdk.org/results/dashboard/patchsets/26734/

UNH-IOL DPDK Community Lab

To manage your email subscriptions, visit: 
https://lab.dpdk.org/results/dashboard/preferences/subscriptions/