From mboxrd@z Thu Jan  1 00:00:00 1970
Return-Path: <test-report-bounces@dpdk.org>
Received: from mails.dpdk.org (mails.dpdk.org [217.70.189.124])
	by inbox.dpdk.org (Postfix) with ESMTP id F177D42D14
	for <public@inbox.dpdk.org>; Wed, 21 Jun 2023 15:41:23 +0200 (CEST)
Received: from mails.dpdk.org (localhost [127.0.0.1])
	by mails.dpdk.org (Postfix) with ESMTP id EC43A4003C;
	Wed, 21 Jun 2023 15:41:23 +0200 (CEST)
Received: from mail-oo1-f99.google.com (mail-oo1-f99.google.com
 [209.85.161.99]) by mails.dpdk.org (Postfix) with ESMTP id 05BF74003C
 for <test-report@dpdk.org>; Wed, 21 Jun 2023 15:41:23 +0200 (CEST)
Received: by mail-oo1-f99.google.com with SMTP id
 006d021491bc7-55e4d40794cso2400441eaf.2
 for <test-report@dpdk.org>; Wed, 21 Jun 2023 06:41:22 -0700 (PDT)
DKIM-Signature: v=1; a=rsa-sha256; c=relaxed/relaxed;
 d=iol.unh.edu; s=unh-iol; t=1687354882; x=1689946882;
 h=cc:to:from:subject:message-id:date:from:to:cc:subject:date
 :message-id:reply-to;
 bh=KoiWb7V4er96qtlR1h3p3nGdKiVya4D0BnGoyxxwojk=;
 b=QsVbz222KSOKk0znkG2miTza5UDhq3maJY491oxUGzE3FM/Qy2sxE8IgC++8fv5YTH
 vYeNfC2GRaSUuFRmbglW5CLQzsvjr8tRTxc751DlagqWrPE6P9/TEbKE94VnasQkRU4H
 SmhXxkA7OlrOXzqINoWzSWsZG4BXUeTM+hLnM=
X-Google-DKIM-Signature: v=1; a=rsa-sha256; c=relaxed/relaxed;
 d=1e100.net; s=20221208; t=1687354882; x=1689946882;
 h=cc:to:from:subject:message-id:date:x-gm-message-state:from:to:cc
 :subject:date:message-id:reply-to;
 bh=KoiWb7V4er96qtlR1h3p3nGdKiVya4D0BnGoyxxwojk=;
 b=hAIfYq74NULEKrz02P9WIYUK5GXGYLGLc7b5LSHXRo8iPkmNyWnN8VMpwgHQqSkLn0
 IKsD/2pl9wfQOHt7BqLFNbI3XOAobbiY4zVxGSRdyabuguvAc0OG9p08oMQLKGJ5AfBB
 A6FVtX1aA8kg3LMe6nbWsPlTxeud87A1YRnv0jJk7efN4JNfFY5Kbk3hMZhx5H1e5x+a
 8I/IT7geL7h+fJH34sCcFfMYDbnOTfQBkCEW8ZytYG7RjW8Xh1GDP2TZIUI4R2EpszSF
 xYeeDVoc49GBdJc0KEJ7Myuji8G/ZHWPGQGlN8hkj/bfYitRXHuzlWQMqyBHq4FNklNt
 Rx0w==
X-Gm-Message-State: AC+VfDxP1Ox2ADwiWAX8YO8r5qkh4OhfUS0320BkrcjvqjE6GYDdUgvB
 xyVfTVIHh0aZel2C0sdnv5Y5sK35Lr6mwYjmGzT1KVlKX2zum5zCErIbanb6gZQ3EcrEHHR4pg=
 =
X-Google-Smtp-Source: ACHHUZ7IXlxZfssEEP/0CRdx18Yxz7Zjn3fa+CrE9oZmWBfRr2ndBLuWZKmgyRqRTfivnalplHWSlsefDYgv
X-Received: by 2002:a4a:be18:0:b0:55e:429c:f021 with SMTP id
 l24-20020a4abe18000000b0055e429cf021mr6189811oop.9.1687354882241; 
 Wed, 21 Jun 2023 06:41:22 -0700 (PDT)
Received: from postal.iol.unh.edu (postal.iol.unh.edu.
 [2606:4100:3880:1234::84]) by smtp-relay.gmail.com with ESMTPS id
 h1-20020a4adcc1000000b005556a62aaf7sm587482oou.20.2023.06.21.06.41.22
 (version=TLS1_2 cipher=ECDHE-ECDSA-AES128-GCM-SHA256 bits=128/128);
 Wed, 21 Jun 2023 06:41:22 -0700 (PDT)
X-Relaying-Domain: iol.unh.edu
Date: Wed, 21 Jun 2023 06:41:22 -0700 (PDT)
Message-ID: <6492fe02.4a0a0220.9bd1e.aad8SMTPIN_ADDED_MISSING@mx.google.com>
Received: from [172.17.0.3] (unknown [172.18.0.34])
 by postal.iol.unh.edu (Postfix) with ESMTP id BBC31605246B;
 Wed, 21 Jun 2023 09:41:21 -0400 (EDT)
Subject: |SUCCESS| pw128887 [PATCH] doc: fix link to AF XDP PMD in CNI howto
From: dpdklab@iol.unh.edu
To: Test Report <test-report@dpdk.org>
Cc: dpdk-test-reports@iol.unh.edu
Content-Type: text/plain
X-BeenThere: test-report@dpdk.org
X-Mailman-Version: 2.1.29
Precedence: list
List-Id: automatic DPDK test reports <test-report.dpdk.org>
List-Unsubscribe: <https://mails.dpdk.org/options/test-report>,
 <mailto:test-report-request@dpdk.org?subject=unsubscribe>
List-Archive: <http://mails.dpdk.org/archives/test-report/>
List-Post: <mailto:test-report@dpdk.org>
List-Help: <mailto:test-report-request@dpdk.org?subject=help>
List-Subscribe: <https://mails.dpdk.org/listinfo/test-report>,
 <mailto:test-report-request@dpdk.org?subject=subscribe>
Errors-To: test-report-bounces@dpdk.org

Test-Label: iol-abi-testing
Test-Status: SUCCESS
http://dpdk.org/patch/128887

_Testing PASS_

Submitter: David Marchand <david.marchand@redhat.com>
Date: Wednesday, June 21 2023 09:57:18 
DPDK git baseline: Repo:dpdk
  Branch: master
  CommitID:4645ed709d36bab64fbf2b8cff12054d39398af9

128887 --> testing pass

Test environment and result as below:

+------------------+----------+
|   Environment    | abi_test |
+==================+==========+
| Fedora 38        | PASS     |
+------------------+----------+
| Debian Bullseye  | PASS     |
+------------------+----------+
| CentOS Stream 8  | PASS     |
+------------------+----------+
| openSUSE Leap 15 | PASS     |
+------------------+----------+
| RHEL 7           | PASS     |
+------------------+----------+
| CentOS Stream 9  | PASS     |
+------------------+----------+
| Ubuntu 22.04     | PASS     |
+------------------+----------+
| Debian Buster    | PASS     |
+------------------+----------+
| Fedora 37        | PASS     |
+------------------+----------+
| RHEL8            | PASS     |
+------------------+----------+


Fedora 38
	Kernel: Depends on container host
	Compiler: gcc 13.1.1

Debian Bullseye
	Kernel: 5.4.0-122-generic
	Compiler: gcc 10.2.1-6

CentOS Stream 8
	Kernel: 4.18.0-240.10.1.el8_3.x86_64
	Compiler: gcc 8.4.1 20200928

openSUSE Leap 15
	Kernel: 4.18.0-240.10.1.el8_3.x86_64
	Compiler: gcc 7.5.0

RHEL 7
	Kernel: 4.18.0-240.10.1.el8_3.x86_64
	Compiler: gcc 4.8.5 20150623 (Red Hat 4.8.5-44)

CentOS Stream 9
	Kernel: 4.18.0-240.10.1.el8_3.x86_64
	Compiler: gcc 11.3.1 20220421

Ubuntu 22.04
	Kernel: 4.18.0-240.10.1.el8_3.x86_64
	Compiler: gcc 11.3.0

Debian Buster
	Kernel: 5.4.0-122-generic
	Compiler: gcc 8.3.0-6

Fedora 37
	Kernel: Depends on container host system
	Compiler: gcc 12.3.1

RHEL8
	Kernel: 4.18.0-240.10.1.el8_3.x86_64
	Compiler: gcc 8.3.1 20191121 (Red Hat 8.3.1-5)

To view detailed results, visit:
https://lab.dpdk.org/results/dashboard/patchsets/26766/

UNH-IOL DPDK Community Lab

To manage your email subscriptions, visit: 
https://lab.dpdk.org/results/dashboard/preferences/subscriptions/