From: dpdklab@iol.unh.edu
To: Test Report <test-report@dpdk.org>
Cc: Artemii Morozov <Artemii.Morozov@arknetworks.am>,
dpdk-test-reports@iol.unh.edu
Subject: |SUCCESS| pw128907-128910 [PATCH] [v6,4/4] net/sfc: support VLAN str
Date: Thu, 22 Jun 2023 13:26:43 -0700 (PDT) [thread overview]
Message-ID: <6494ae83.170a0220.317ed.163dSMTPIN_ADDED_MISSING@mx.google.com> (raw)
Test-Label: iol-aarch-unit-testing
Test-Status: SUCCESS
http://dpdk.org/patch/128910
_Testing PASS_
Submitter: Artemii Morozov <Artemii.Morozov@arknetworks.am>
Date: Thursday, June 22 2023 11:31:04
DPDK git baseline: Repo:dpdk
Branch: master
CommitID:841e87df43e4c3c60ab1b6361130b628afd156ec
128907-128910 --> testing pass
Test environment and result as below:
+-----------------------------+----------------+--------------+------------------------------+
| Environment | dpdk_unit_test | lpm_autotest | cryptodev_sw_snow3g_autotest |
+=============================+================+==============+==============================+
| (32-bit) ARM Ubuntu 20.04.4 | PASS | SKIPPED | SKIPPED |
+-----------------------------+----------------+--------------+------------------------------+
| Ubuntu 20.04 ARM SVE | SKIPPED | PASS | SKIPPED |
+-----------------------------+----------------+--------------+------------------------------+
| Debian 11 | SKIPPED | SKIPPED | PASS |
+-----------------------------+----------------+--------------+------------------------------+
(32-bit) ARM Ubuntu 20.04.4
Kernel: 5.4.0-148-generic aarch64
Compiler: gcc 9.4
Ubuntu 20.04 ARM SVE
Kernel: 5.4.0-80-generic
Compiler: gcc 10.3.0 (Ubuntu 10.3.0-1ubuntu1~20.04)
Debian 11
Kernel: Container Host Kernel
Compiler: gcc 10.2.1
To view detailed results, visit:
https://lab.dpdk.org/results/dashboard/patchsets/26777/
UNH-IOL DPDK Community Lab
To manage your email subscriptions, visit:
https://lab.dpdk.org/results/dashboard/preferences/subscriptions/
next reply other threads:[~2023-06-22 20:26 UTC|newest]
Thread overview: 28+ messages / expand[flat|nested] mbox.gz Atom feed top
2023-06-22 20:26 dpdklab [this message]
-- strict thread matches above, loose matches on Subject: below --
2023-06-23 0:32 dpdklab
2023-06-22 22:33 dpdklab
2023-06-22 20:46 dpdklab
2023-06-22 19:16 dpdklab
2023-06-22 19:16 dpdklab
2023-06-22 18:01 dpdklab
2023-06-22 17:41 dpdklab
2023-06-22 17:25 dpdklab
2023-06-22 17:20 dpdklab
2023-06-22 16:47 dpdklab
2023-06-22 16:29 dpdklab
2023-06-22 16:24 dpdklab
2023-06-22 16:15 dpdklab
2023-06-22 16:06 dpdklab
2023-06-22 16:05 dpdklab
2023-06-22 16:04 dpdklab
2023-06-22 16:03 dpdklab
2023-06-22 16:01 dpdklab
2023-06-22 16:00 dpdklab
2023-06-22 15:56 dpdklab
2023-06-22 15:55 dpdklab
2023-06-22 14:07 dpdklab
2023-06-22 13:54 dpdklab
2023-06-22 13:51 dpdklab
2023-06-22 13:49 dpdklab
2023-06-22 13:44 dpdklab
2023-06-22 13:42 dpdklab
Reply instructions:
You may reply publicly to this message via plain-text email
using any one of the following methods:
* Save the following mbox file, import it into your mail client,
and reply-to-all from there: mbox
Avoid top-posting and favor interleaved quoting:
https://en.wikipedia.org/wiki/Posting_style#Interleaved_style
* Reply using the --to, --cc, and --in-reply-to
switches of git-send-email(1):
git send-email \
--in-reply-to=6494ae83.170a0220.317ed.163dSMTPIN_ADDED_MISSING@mx.google.com \
--to=dpdklab@iol.unh.edu \
--cc=Artemii.Morozov@arknetworks.am \
--cc=dpdk-test-reports@iol.unh.edu \
--cc=test-report@dpdk.org \
/path/to/YOUR_REPLY
https://kernel.org/pub/software/scm/git/docs/git-send-email.html
* If your mail client supports setting the In-Reply-To header
via mailto: links, try the mailto: link
Be sure your reply has a Subject: header at the top and a blank line
before the message body.
This is a public inbox, see mirroring instructions
for how to clone and mirror all data and code used for this inbox;
as well as URLs for NNTP newsgroup(s).