From mboxrd@z Thu Jan  1 00:00:00 1970
Return-Path: <test-report-bounces@dpdk.org>
Received: from mails.dpdk.org (mails.dpdk.org [217.70.189.124])
	by inbox.dpdk.org (Postfix) with ESMTP id D693742D49
	for <public@inbox.dpdk.org>; Sun, 25 Jun 2023 12:06:40 +0200 (CEST)
Received: from mails.dpdk.org (localhost [127.0.0.1])
	by mails.dpdk.org (Postfix) with ESMTP id B6BA440A7F;
	Sun, 25 Jun 2023 12:06:40 +0200 (CEST)
Received: from mail-yw1-f227.google.com (mail-yw1-f227.google.com
 [209.85.128.227])
 by mails.dpdk.org (Postfix) with ESMTP id 080D340A7F
 for <test-report@dpdk.org>; Sun, 25 Jun 2023 12:06:40 +0200 (CEST)
Received: by mail-yw1-f227.google.com with SMTP id
 00721157ae682-5728df0a7d9so25283917b3.1
 for <test-report@dpdk.org>; Sun, 25 Jun 2023 03:06:39 -0700 (PDT)
DKIM-Signature: v=1; a=rsa-sha256; c=relaxed/relaxed;
 d=iol.unh.edu; s=unh-iol; t=1687687599; x=1690279599;
 h=cc:to:from:subject:message-id:date:from:to:cc:subject:date
 :message-id:reply-to;
 bh=o6hebR4HSxLlRbffEiEfPun4a/xUwo55AwcMMFSUfF0=;
 b=ZUWVFwNpfbWLEtfwV3pET1zX4ackxldACFrf0hif9dHSb6bUCdRN4Uph0oi7dqBrti
 6elRXfjSNGrt5fqtTTqVFJSdcUqBxQ1KocgVuKUMjf0GUKle7ulKCMg1FHJx5fAj46fW
 FLBGSB3bPzu180rdhLQtQH9aBvk1dojKkZZnk=
X-Google-DKIM-Signature: v=1; a=rsa-sha256; c=relaxed/relaxed;
 d=1e100.net; s=20221208; t=1687687599; x=1690279599;
 h=cc:to:from:subject:message-id:date:x-gm-message-state:from:to:cc
 :subject:date:message-id:reply-to;
 bh=o6hebR4HSxLlRbffEiEfPun4a/xUwo55AwcMMFSUfF0=;
 b=AH02A1WuCk/9EAZyCRX26v1vkdMvcG1C9tNO9DFGFEoRwun1DOxMpmk0N8KAYDdn3E
 250JqM71ZOy99F1tSZ4eNzoHq0bKI/sKYoH2Gn8hWTrKvZVdmVmuEmbYcWmV7MBFFwZ5
 J4wfCrZvZ+mn/Kaxr/RBTJeSIEj9MdQQmF1mtzWkBgjTNMErGsuG23YkrCkd2jCjxRWB
 XZuGdBlOvY7tNNrVGaOfX309YHzfcKdch2IQ+82nkuwfYsSO4QYKmlWRCzUDqUakIE57
 T0xzlXYIREnQMgyZirS5ef23+FzmfkilP67SE4d4e5zQ5IT4wMx3QLMz/WxjxoY5422g
 6L8g==
X-Gm-Message-State: AC+VfDx/UdBnhz5dQDrhihT9m6KFiJguc2fed1sP/ul9bThXd35maCO+
 uCmKYmGu7lZhSh/37SbW6y44f67kdr742FwYuUN/gUTiAzUy3H6KiVlgTg==
X-Google-Smtp-Source: ACHHUZ4IGxtnkpO2beEaJbnS449bKaEkhYdXly7XAHv8d0mUlu3nwtByolDXvomMpF4EWPg/VlNiWp9nh31s
X-Received: by 2002:a0d:dd88:0:b0:561:9d66:e1a with SMTP id
 g130-20020a0ddd88000000b005619d660e1amr30359717ywe.34.1687687599353; 
 Sun, 25 Jun 2023 03:06:39 -0700 (PDT)
Received: from postal.iol.unh.edu (postal.iol.unh.edu. [132.177.123.84])
 by smtp-relay.gmail.com with ESMTPS id
 k125-20020a819383000000b00576a6d3adb5sm135833ywg.52.2023.06.25.03.06.39
 (version=TLS1_2 cipher=ECDHE-ECDSA-AES128-GCM-SHA256 bits=128/128);
 Sun, 25 Jun 2023 03:06:39 -0700 (PDT)
X-Relaying-Domain: iol.unh.edu
Date: Sun, 25 Jun 2023 03:06:39 -0700 (PDT)
Message-ID: <649811af.810a0220.a0e16.b8f6SMTPIN_ADDED_MISSING@mx.google.com>
Received: from [172.17.0.3] (unknown [172.18.0.34])
 by postal.iol.unh.edu (Postfix) with ESMTP id 1325D605246B;
 Sun, 25 Jun 2023 06:06:38 -0400 (EDT)
Subject: |SUCCESS| pw128978 [PATCH] net/ice: fix VLAN mode parser
From: dpdklab@iol.unh.edu
To: Test Report <test-report@dpdk.org>
Cc: dpdk-test-reports@iol.unh.edu
Content-Type: text/plain
X-BeenThere: test-report@dpdk.org
X-Mailman-Version: 2.1.29
Precedence: list
List-Id: automatic DPDK test reports <test-report.dpdk.org>
List-Unsubscribe: <https://mails.dpdk.org/options/test-report>,
 <mailto:test-report-request@dpdk.org?subject=unsubscribe>
List-Archive: <http://mails.dpdk.org/archives/test-report/>
List-Post: <mailto:test-report@dpdk.org>
List-Help: <mailto:test-report-request@dpdk.org?subject=help>
List-Subscribe: <https://mails.dpdk.org/listinfo/test-report>,
 <mailto:test-report-request@dpdk.org?subject=subscribe>
Errors-To: test-report-bounces@dpdk.org

Test-Label: iol-unit-testing
Test-Status: SUCCESS
http://dpdk.org/patch/128978

_Testing PASS_

Submitter: Qiming Yang <qiming.yang@intel.com>
Date: Sunday, June 25 2023 08:23:08 
DPDK git baseline: Repo:dpdk
  Branch: master
  CommitID:132173c4169322487a9041a450b9d3860de0a434

128978 --> testing pass

Test environment and result as below:

+--------------------------+----------------+
|       Environment        | dpdk_unit_test |
+==========================+================+
| CentOS Stream 9 (ARM)    | PASS           |
+--------------------------+----------------+
| Fedora 38 (ARM)          | PASS           |
+--------------------------+----------------+
| Debian 11 (Buster) (ARM) | PASS           |
+--------------------------+----------------+
| Fedora 37 (ARM)          | PASS           |
+--------------------------+----------------+
| Ubuntu 20.04 (ARM)       | PASS           |
+--------------------------+----------------+
| CentOS Stream 8          | PASS           |
+--------------------------+----------------+
| Debian Buster            | PASS           |
+--------------------------+----------------+
| RHEL 7                   | PASS           |
+--------------------------+----------------+
| Fedora 37                | PASS           |
+--------------------------+----------------+
| CentOS Stream 9          | PASS           |
+--------------------------+----------------+
| RHEL8                    | PASS           |
+--------------------------+----------------+
| openSUSE Leap 15         | PASS           |
+--------------------------+----------------+
| Debian Bullseye          | PASS           |
+--------------------------+----------------+
| Fedora 38                | PASS           |
+--------------------------+----------------+
| Ubuntu 22.04             | PASS           |
+--------------------------+----------------+
| Ubuntu 20.04             | PASS           |
+--------------------------+----------------+
| Fedora 38 (ARM Clang)    | PASS           |
+--------------------------+----------------+


CentOS Stream 9 (ARM)
	Kernel: Container Host Kernel
	Compiler: gcc 11.3.1

Fedora 38 (ARM)
	Kernel: Depends on container host
	Compiler: gcc 13.1.1

Debian 11 (Buster) (ARM)
	Kernel: Container Host Kernel
	Compiler: gcc 10.2.1

Fedora 37 (ARM)
	Kernel: Depends on container host
	Compiler: gcc 12.3.1

Ubuntu 20.04 (ARM)
	Kernel: Container Host Kernel
	Compiler: gcc 9.4.0

CentOS Stream 8
	Kernel: 4.18.0-240.10.1.el8_3.x86_64
	Compiler: gcc 8.4.1 20200928

Debian Buster
	Kernel: 5.4.0-122-generic
	Compiler: gcc 8.3.0-6

RHEL 7
	Kernel: 4.18.0-240.10.1.el8_3.x86_64
	Compiler: gcc 4.8.5 20150623 (Red Hat 4.8.5-44)

Fedora 37
	Kernel: Depends on container host system
	Compiler: gcc 12.3.1

CentOS Stream 9
	Kernel: 4.18.0-240.10.1.el8_3.x86_64
	Compiler: gcc 11.3.1 20220421

RHEL8
	Kernel: 4.18.0-240.10.1.el8_3.x86_64
	Compiler: gcc 8.3.1 20191121 (Red Hat 8.3.1-5)

openSUSE Leap 15
	Kernel: 4.18.0-240.10.1.el8_3.x86_64
	Compiler: gcc 7.5.0

Debian Bullseye
	Kernel: 5.4.0-122-generic
	Compiler: gcc 10.2.1-6

Fedora 38
	Kernel: Depends on container host
	Compiler: gcc 13.1.1

Ubuntu 22.04
	Kernel: 4.18.0-240.10.1.el8_3.x86_64
	Compiler: gcc 11.3.0

Ubuntu 20.04
	Kernel: 4.18.0-240.10.1.el8_3.x86_64
	Compiler: gcc 9.3.0-17ubuntu1~20.04

Fedora 38 (ARM Clang)
	Kernel: Depends on container host
	Compiler: clang 16.0.3

To view detailed results, visit:
https://lab.dpdk.org/results/dashboard/patchsets/26796/

UNH-IOL DPDK Community Lab

To manage your email subscriptions, visit: 
https://lab.dpdk.org/results/dashboard/preferences/subscriptions/