From: dpdklab@iol.unh.edu
To: Test Report <test-report@dpdk.org>
Cc: dpdk-test-reports@iol.unh.edu
Subject: |SUCCESS| [GIT MASTER] 6c948396d7ebc7c0ffdac7df99f1ebf7b4ecb55f
Date: Sun, 25 Jun 2023 19:37:26 -0700 (PDT) [thread overview]
Message-ID: <6498f9e6.620a0220.52257.1bd1SMTPIN_ADDED_MISSING@mx.google.com> (raw)
_Testing PASS_
Branch: dpdk
6c948396d7ebc7c0ffdac7df99f1ebf7b4ecb55f --> testing pass
Test environment and result as below:
+--------------------------+----------------+
| Environment | dpdk_unit_test |
+==========================+================+
| CentOS Stream 9 (ARM) | PASS |
+--------------------------+----------------+
| Fedora 38 (ARM) | PASS |
+--------------------------+----------------+
| Debian 11 (Buster) (ARM) | PASS |
+--------------------------+----------------+
| Fedora 38 (ARM Clang) | PASS |
+--------------------------+----------------+
| Ubuntu 20.04 (ARM) | PASS |
+--------------------------+----------------+
| CentOS Stream 9 | PASS |
+--------------------------+----------------+
| CentOS Stream 8 | PASS |
+--------------------------+----------------+
| Arch Linux | PASS |
+--------------------------+----------------+
| Debian Buster | PASS |
+--------------------------+----------------+
| Fedora 37 (ARM) | PASS |
+--------------------------+----------------+
| Fedora 37 | PASS |
+--------------------------+----------------+
| Debian Bullseye | PASS |
+--------------------------+----------------+
| Fedora 38 | PASS |
+--------------------------+----------------+
| openSUSE Leap 15 | PASS |
+--------------------------+----------------+
| Ubuntu 22.04 | PASS |
+--------------------------+----------------+
| RHEL 7 | PASS |
+--------------------------+----------------+
| RHEL8 | PASS |
+--------------------------+----------------+
| Ubuntu 20.04 | PASS |
+--------------------------+----------------+
CentOS Stream 9 (ARM)
Kernel: Container Host Kernel
Compiler: gcc 11.3.1
Fedora 38 (ARM)
Kernel: Depends on container host
Compiler: gcc 13.1.1
Debian 11 (Buster) (ARM)
Kernel: Container Host Kernel
Compiler: gcc 10.2.1
Fedora 38 (ARM Clang)
Kernel: Depends on container host
Compiler: clang 16.0.3
Ubuntu 20.04 (ARM)
Kernel: Container Host Kernel
Compiler: gcc 9.4.0
CentOS Stream 9
Kernel: 4.18.0-240.10.1.el8_3.x86_64
Compiler: gcc 11.3.1 20220421
CentOS Stream 8
Kernel: 4.18.0-240.10.1.el8_3.x86_64
Compiler: gcc 8.4.1 20200928
Arch Linux
Kernel: 5.4.0-73-generic
Compiler: gcc 11.1.0
Debian Buster
Kernel: 5.4.0-122-generic
Compiler: gcc 8.3.0-6
Fedora 37 (ARM)
Kernel: Depends on container host
Compiler: gcc 12.3.1
Fedora 37
Kernel: Depends on container host system
Compiler: gcc 12.3.1
Debian Bullseye
Kernel: 5.4.0-122-generic
Compiler: gcc 10.2.1-6
Fedora 38
Kernel: Depends on container host
Compiler: clang 16.0.3
openSUSE Leap 15
Kernel: 4.18.0-240.10.1.el8_3.x86_64
Compiler: gcc 7.5.0
Ubuntu 22.04
Kernel: 4.18.0-240.10.1.el8_3.x86_64
Compiler: gcc 11.3.0
RHEL 7
Kernel: 4.18.0-240.10.1.el8_3.x86_64
Compiler: gcc 4.8.5 20150623 (Red Hat 4.8.5-44)
RHEL8
Kernel: 4.18.0-240.10.1.el8_3.x86_64
Compiler: gcc 8.3.1 20191121 (Red Hat 8.3.1-5)
Ubuntu 20.04
Kernel: 4.18.0-240.10.1.el8_3.x86_64
Compiler: gcc 9.3.0-17ubuntu1~20.04
To view detailed results, visit:
https://lab.dpdk.org/results/dashboard/tarballs/25160/
UNH-IOL DPDK Community Lab
To manage your email subscriptions, visit:
https://lab.dpdk.org/results/dashboard/preferences/subscriptions/
next reply other threads:[~2023-06-26 2:37 UTC|newest]
Thread overview: 47+ messages / expand[flat|nested] mbox.gz Atom feed top
2023-06-26 2:37 dpdklab [this message]
-- strict thread matches above, loose matches on Subject: below --
2023-06-27 17:46 dpdklab
2023-06-27 17:26 dpdklab
2023-06-26 23:24 dpdklab
2023-06-26 21:54 dpdklab
2023-06-26 21:50 dpdklab
2023-06-26 21:32 dpdklab
2023-06-26 21:29 dpdklab
2023-06-26 21:22 dpdklab
2023-06-26 20:02 dpdklab
2023-06-26 19:57 dpdklab
2023-06-26 18:42 dpdklab
2023-06-26 18:36 dpdklab
2023-06-26 18:10 dpdklab
2023-06-26 17:45 dpdklab
2023-06-26 17:32 dpdklab
2023-06-26 16:48 dpdklab
2023-06-26 16:24 dpdklab
2023-06-26 16:22 dpdklab
2023-06-26 16:19 dpdklab
2023-06-26 16:19 dpdklab
2023-06-26 16:17 dpdklab
2023-06-26 3:58 dpdklab
2023-06-26 2:32 dpdklab
2023-06-26 2:32 dpdklab
2023-06-26 2:15 dpdklab
2023-06-26 2:14 dpdklab
2023-06-26 2:11 dpdklab
2023-06-26 1:52 dpdklab
2023-06-26 1:48 dpdklab
2023-06-26 1:38 dpdklab
2023-06-26 1:29 dpdklab
2023-06-26 1:26 dpdklab
2023-06-26 1:25 dpdklab
2023-06-26 1:25 dpdklab
2023-06-26 1:21 dpdklab
2023-06-26 1:20 dpdklab
2023-06-26 1:19 dpdklab
2023-06-26 1:18 dpdklab
2023-06-26 1:11 dpdklab
2023-06-26 1:10 dpdklab
2023-06-26 1:08 dpdklab
2023-06-26 1:03 dpdklab
2023-06-26 1:02 dpdklab
2023-06-26 0:59 dpdklab
2023-06-26 0:58 dpdklab
2023-06-26 0:58 dpdklab
Reply instructions:
You may reply publicly to this message via plain-text email
using any one of the following methods:
* Save the following mbox file, import it into your mail client,
and reply-to-all from there: mbox
Avoid top-posting and favor interleaved quoting:
https://en.wikipedia.org/wiki/Posting_style#Interleaved_style
* Reply using the --to, --cc, and --in-reply-to
switches of git-send-email(1):
git send-email \
--in-reply-to=6498f9e6.620a0220.52257.1bd1SMTPIN_ADDED_MISSING@mx.google.com \
--to=dpdklab@iol.unh.edu \
--cc=dpdk-test-reports@iol.unh.edu \
--cc=test-report@dpdk.org \
/path/to/YOUR_REPLY
https://kernel.org/pub/software/scm/git/docs/git-send-email.html
* If your mail client supports setting the In-Reply-To header
via mailto: links, try the mailto: link
Be sure your reply has a Subject: header at the top and a blank line
before the message body.
This is a public inbox, see mirroring instructions
for how to clone and mirror all data and code used for this inbox;
as well as URLs for NNTP newsgroup(s).