From mboxrd@z Thu Jan  1 00:00:00 1970
Return-Path: <test-report-bounces@dpdk.org>
Received: from mails.dpdk.org (mails.dpdk.org [217.70.189.124])
	by inbox.dpdk.org (Postfix) with ESMTP id E18A342D5B
	for <public@inbox.dpdk.org>; Mon, 26 Jun 2023 16:20:51 +0200 (CEST)
Received: from mails.dpdk.org (localhost [127.0.0.1])
	by mails.dpdk.org (Postfix) with ESMTP id DC1284013F;
	Mon, 26 Jun 2023 16:20:51 +0200 (CEST)
Received: from mail-ot1-f98.google.com (mail-ot1-f98.google.com
 [209.85.210.98]) by mails.dpdk.org (Postfix) with ESMTP id 908BF40223
 for <test-report@dpdk.org>; Mon, 26 Jun 2023 16:20:50 +0200 (CEST)
Received: by mail-ot1-f98.google.com with SMTP id
 46e09a7af769-6b72329b63eso3271239a34.0
 for <test-report@dpdk.org>; Mon, 26 Jun 2023 07:20:50 -0700 (PDT)
DKIM-Signature: v=1; a=rsa-sha256; c=relaxed/relaxed;
 d=iol.unh.edu; s=unh-iol; t=1687789250; x=1690381250;
 h=cc:to:from:subject:message-id:date:from:to:cc:subject:date
 :message-id:reply-to;
 bh=gBCeYoEG/IYN8m2ZM8OTvJpHg15ziH+aqFH+e+iNTUU=;
 b=HTjLlrCSorPE4/CqEkPPuKSz8Pdly9RVxWfaxT8qYLu9860InlseI2adhCuMFGVgLs
 A0yBcoynLJZpJeWTTuy3QTb1ZdsdIuPUxt8X4FqnjNeOcQ67XSIzO8h9kF/g224QgqT7
 2XvdUARAppco9baC7sfi61onr0qoMJ5V7x7Wg=
X-Google-DKIM-Signature: v=1; a=rsa-sha256; c=relaxed/relaxed;
 d=1e100.net; s=20221208; t=1687789250; x=1690381250;
 h=cc:to:from:subject:message-id:date:x-gm-message-state:from:to:cc
 :subject:date:message-id:reply-to;
 bh=gBCeYoEG/IYN8m2ZM8OTvJpHg15ziH+aqFH+e+iNTUU=;
 b=DG5tlLtzB8Qw5eq2xsZjRpe4Y3gvx8KVnt4cYu5TD4qSlpiwCVv2i4lgsC1mjzsFMI
 KMdGtPA75Vi2YMMIY5bBCxLKreFfAWzg6YePYM+LCCnUWIzwC5hdd5+QLg0ZDPB0BdWv
 1uujUNaRtewyblhABh8hKePHJBFCsYKAwLkcigO+8SsgJBFsR5Bgji/Rr6dpuDc2CdwF
 0SCXU5+K54zXKix0JZuuze8UDOMfMqcaAQQoVFBVkaBfsmB92RJsoZuyL3wyrUMGIVuv
 VAXPGaJtJ1oo2jz+yfKbqAsKqsNsN+cNFrdAP9Z6vAWkzBHz9FPl2fFWe06fw92blWD8
 si9g==
X-Gm-Message-State: AC+VfDzcMvTkLAfJ6oRmXQTBefkOZk1YK1S9QEZbX+IQsMgqNGiOJXzH
 MLN4nT/7Lm8FsVXmmmK+FPm7vxKY4K3ZW+/dBI0uMJ2mFkTnEtVo9k3cntNFXjxJY5TsZ9jF4w=
 =
X-Google-Smtp-Source: ACHHUZ6Bg84o/AlDAjEu4p5JDG+T/LFpsu26AJUi1g/Di/7RwPyL2Zy/0R+3mIWMTtn/i4XZdYx4cY8JwuLK
X-Received: by 2002:a9d:7b45:0:b0:6b7:4116:719e with SMTP id
 f5-20020a9d7b45000000b006b74116719emr4344955oto.8.1687789249834; 
 Mon, 26 Jun 2023 07:20:49 -0700 (PDT)
Received: from postal.iol.unh.edu (postal.iol.unh.edu.
 [2606:4100:3880:1234::84]) by smtp-relay.gmail.com with ESMTPS id
 c11-20020a056830348b00b006b731c4e6b9sm285673otu.10.2023.06.26.07.20.49
 (version=TLS1_2 cipher=ECDHE-ECDSA-AES128-GCM-SHA256 bits=128/128);
 Mon, 26 Jun 2023 07:20:49 -0700 (PDT)
X-Relaying-Domain: iol.unh.edu
Date: Mon, 26 Jun 2023 07:20:49 -0700 (PDT)
Message-ID: <64999ec1.050a0220.ff470.2818SMTPIN_ADDED_MISSING@mx.google.com>
Received: from [172.17.0.3] (unknown [172.18.0.34])
 by postal.iol.unh.edu (Postfix) with ESMTP id 3BA72605246B;
 Mon, 26 Jun 2023 10:20:49 -0400 (EDT)
Subject: |SUCCESS| pw128983 [PATCH] net/idpf: optimize the code of IDPF PMD
From: dpdklab@iol.unh.edu
To: Test Report <test-report@dpdk.org>
Cc: dpdk-test-reports@iol.unh.edu
Content-Type: text/plain
X-BeenThere: test-report@dpdk.org
X-Mailman-Version: 2.1.29
Precedence: list
List-Id: automatic DPDK test reports <test-report.dpdk.org>
List-Unsubscribe: <https://mails.dpdk.org/options/test-report>,
 <mailto:test-report-request@dpdk.org?subject=unsubscribe>
List-Archive: <http://mails.dpdk.org/archives/test-report/>
List-Post: <mailto:test-report@dpdk.org>
List-Help: <mailto:test-report-request@dpdk.org?subject=help>
List-Subscribe: <https://mails.dpdk.org/listinfo/test-report>,
 <mailto:test-report-request@dpdk.org?subject=subscribe>
Errors-To: test-report-bounces@dpdk.org

Test-Label: iol-unit-testing
Test-Status: SUCCESS
http://dpdk.org/patch/128983

_Testing PASS_

Submitter: Mingxia Liu <mingxia.liu@intel.com>
Date: Monday, June 26 2023 14:05:31 
DPDK git baseline: Repo:dpdk
  Branch: master
  CommitID:6c948396d7ebc7c0ffdac7df99f1ebf7b4ecb55f

128983 --> testing pass

Test environment and result as below:

+--------------------------+----------------+
|       Environment        | dpdk_unit_test |
+==========================+================+
| Debian 11 (Buster) (ARM) | PASS           |
+--------------------------+----------------+
| Fedora 38 (ARM)          | PASS           |
+--------------------------+----------------+
| Ubuntu 20.04 (ARM)       | PASS           |
+--------------------------+----------------+
| Fedora 37 (ARM)          | PASS           |
+--------------------------+----------------+
| Debian Buster            | PASS           |
+--------------------------+----------------+
| CentOS Stream 9 (ARM)    | PASS           |
+--------------------------+----------------+
| CentOS Stream 8          | PASS           |
+--------------------------+----------------+
| CentOS Stream 9          | PASS           |
+--------------------------+----------------+
| Debian Bullseye          | PASS           |
+--------------------------+----------------+
| Fedora 37                | PASS           |
+--------------------------+----------------+
| Fedora 38                | PASS           |
+--------------------------+----------------+
| Ubuntu 22.04             | PASS           |
+--------------------------+----------------+
| openSUSE Leap 15         | PASS           |
+--------------------------+----------------+
| RHEL 7                   | PASS           |
+--------------------------+----------------+
| RHEL8                    | PASS           |
+--------------------------+----------------+
| Ubuntu 20.04             | PASS           |
+--------------------------+----------------+
| Fedora 38 (ARM Clang)    | PASS           |
+--------------------------+----------------+


Debian 11 (Buster) (ARM)
	Kernel: Container Host Kernel
	Compiler: gcc 10.2.1

Fedora 38 (ARM)
	Kernel: Depends on container host
	Compiler: gcc 13.1.1

Ubuntu 20.04 (ARM)
	Kernel: Container Host Kernel
	Compiler: gcc 9.4.0

Fedora 37 (ARM)
	Kernel: Depends on container host
	Compiler: gcc 12.3.1

Debian Buster
	Kernel: 5.4.0-122-generic
	Compiler: gcc 8.3.0-6

CentOS Stream 9 (ARM)
	Kernel: Container Host Kernel
	Compiler: gcc 11.3.1

CentOS Stream 8
	Kernel: 4.18.0-240.10.1.el8_3.x86_64
	Compiler: gcc 8.4.1 20200928

CentOS Stream 9
	Kernel: 4.18.0-240.10.1.el8_3.x86_64
	Compiler: gcc 11.3.1 20220421

Debian Bullseye
	Kernel: 5.4.0-122-generic
	Compiler: gcc 10.2.1-6

Fedora 37
	Kernel: Depends on container host system
	Compiler: gcc 12.3.1

Fedora 38
	Kernel: Depends on container host
	Compiler: clang 16.0.3

Ubuntu 22.04
	Kernel: 4.18.0-240.10.1.el8_3.x86_64
	Compiler: gcc 11.3.0

openSUSE Leap 15
	Kernel: 4.18.0-240.10.1.el8_3.x86_64
	Compiler: gcc 7.5.0

RHEL 7
	Kernel: 4.18.0-240.10.1.el8_3.x86_64
	Compiler: gcc 4.8.5 20150623 (Red Hat 4.8.5-44)

RHEL8
	Kernel: 4.18.0-240.10.1.el8_3.x86_64
	Compiler: gcc 8.3.1 20191121 (Red Hat 8.3.1-5)

Ubuntu 20.04
	Kernel: 4.18.0-240.10.1.el8_3.x86_64
	Compiler: gcc 9.3.0-17ubuntu1~20.04

Fedora 38 (ARM Clang)
	Kernel: Depends on container host
	Compiler: clang 16.0.3

To view detailed results, visit:
https://lab.dpdk.org/results/dashboard/patchsets/26800/

UNH-IOL DPDK Community Lab

To manage your email subscriptions, visit: 
https://lab.dpdk.org/results/dashboard/preferences/subscriptions/