From mboxrd@z Thu Jan  1 00:00:00 1970
Return-Path: <test-report-bounces@dpdk.org>
Received: from mails.dpdk.org (mails.dpdk.org [217.70.189.124])
	by inbox.dpdk.org (Postfix) with ESMTP id B8F9442D5B
	for <public@inbox.dpdk.org>; Mon, 26 Jun 2023 16:44:57 +0200 (CEST)
Received: from mails.dpdk.org (localhost [127.0.0.1])
	by mails.dpdk.org (Postfix) with ESMTP id B304C4013F;
	Mon, 26 Jun 2023 16:44:57 +0200 (CEST)
Received: from mail-yw1-f225.google.com (mail-yw1-f225.google.com
 [209.85.128.225])
 by mails.dpdk.org (Postfix) with ESMTP id E06F14013F
 for <test-report@dpdk.org>; Mon, 26 Jun 2023 16:44:56 +0200 (CEST)
Received: by mail-yw1-f225.google.com with SMTP id
 00721157ae682-57059626276so37789657b3.3
 for <test-report@dpdk.org>; Mon, 26 Jun 2023 07:44:56 -0700 (PDT)
DKIM-Signature: v=1; a=rsa-sha256; c=relaxed/relaxed;
 d=iol.unh.edu; s=unh-iol; t=1687790696; x=1690382696;
 h=cc:to:from:subject:message-id:date:from:to:cc:subject:date
 :message-id:reply-to;
 bh=NyT1BMaxosZoSRoOusm3AUSeVhrY7eT2K+sCBi3aZ3o=;
 b=fdSH2KAFhxfdvL14QlQkZpocqTmZb+bUYAeAt/zmG0e4f9SVf/7rmEEJrc+7u1SLJi
 wI04NZpnhULkfpOLf5PN/axp/dhnv38VaW0zm7hLBbG/VaxmzCvhXGoSdyqIUxrss5Dk
 gW0B90RRXPXq4C5MxIVOu+ISbuKRuOwP313C0=
X-Google-DKIM-Signature: v=1; a=rsa-sha256; c=relaxed/relaxed;
 d=1e100.net; s=20221208; t=1687790696; x=1690382696;
 h=cc:to:from:subject:message-id:date:x-gm-message-state:from:to:cc
 :subject:date:message-id:reply-to;
 bh=NyT1BMaxosZoSRoOusm3AUSeVhrY7eT2K+sCBi3aZ3o=;
 b=kgiofkkPFuZ56yjjCTnAR35TbcB1DFutrOyxoNehiSZMgU0trZFBM/kApdyu4NVlnZ
 kH70m0Q5LnUc/67IaOtHAroyqiFSk30OUfc8LSJj+2YHxv92GTOa36+W7caDpNt2oHyc
 qtNaGyoT2zQoB0vseAw14fqj9LtLOzqE5ZvyAm1yu5ydxuhl2N3Acq4PTCrGrhnVOPFv
 VTqi8f49CjR4uOXCGIs1ZzaVhICVJoNsJprgJi3i9Hx3d5xSjbwh+iiqhoaJPigbrxPE
 tF58BxrPqSVI00Cb4qbUVoCxrWxhKP1S296yy57rQrp0iejfhIy7uSf1u1k9s0VEPma+
 NiCA==
X-Gm-Message-State: AC+VfDx3FAPpU6tOpSt5qyYtexep9Y+lTiLe2VpK1LG3la/U1w9zBgNW
 g84soKh8f33F3g+8xyi6IwnxuRxbUOz9dT0mIAYKz4fgrH98NwC1g9bg9Nc8W3ZJDProyv4Z2w=
 =
X-Google-Smtp-Source: ACHHUZ4hbjLenCuN09xROBhJCy0jgCAfqorkyhjZgp5bgnoIPJA41KPAfxoVUdDWDaZ3xTNJuuJuippFgNwd
X-Received: by 2002:a81:6b8a:0:b0:56f:eaef:9d40 with SMTP id
 g132-20020a816b8a000000b0056feaef9d40mr36247986ywc.46.1687790696323; 
 Mon, 26 Jun 2023 07:44:56 -0700 (PDT)
Received: from postal.iol.unh.edu (postal.iol.unh.edu.
 [2606:4100:3880:1234::84]) by smtp-relay.gmail.com with ESMTPS id
 a124-20020a0df182000000b005700e0a1971sm392318ywf.70.2023.06.26.07.44.56
 (version=TLS1_2 cipher=ECDHE-ECDSA-AES128-GCM-SHA256 bits=128/128);
 Mon, 26 Jun 2023 07:44:56 -0700 (PDT)
X-Relaying-Domain: iol.unh.edu
Date: Mon, 26 Jun 2023 07:44:56 -0700 (PDT)
Message-ID: <6499a468.0d0a0220.2b41b.cd1aSMTPIN_ADDED_MISSING@mx.google.com>
Received: from [172.17.0.3] (unknown [172.18.0.34])
 by postal.iol.unh.edu (Postfix) with ESMTP id EFBDC605246B;
 Mon, 26 Jun 2023 10:44:55 -0400 (EDT)
Subject: |SUCCESS| pw128997 [PATCH] [v4] app/testpmd: add trace dump command
From: dpdklab@iol.unh.edu
To: Test Report <test-report@dpdk.org>
Cc: dpdk-test-reports@iol.unh.edu
Content-Type: text/plain
X-BeenThere: test-report@dpdk.org
X-Mailman-Version: 2.1.29
Precedence: list
List-Id: automatic DPDK test reports <test-report.dpdk.org>
List-Unsubscribe: <https://mails.dpdk.org/options/test-report>,
 <mailto:test-report-request@dpdk.org?subject=unsubscribe>
List-Archive: <http://mails.dpdk.org/archives/test-report/>
List-Post: <mailto:test-report@dpdk.org>
List-Help: <mailto:test-report-request@dpdk.org?subject=help>
List-Subscribe: <https://mails.dpdk.org/listinfo/test-report>,
 <mailto:test-report-request@dpdk.org?subject=subscribe>
Errors-To: test-report-bounces@dpdk.org

Test-Label: iol-abi-testing
Test-Status: SUCCESS
http://dpdk.org/patch/128997

_Testing PASS_

Submitter: Viacheslav Ovsiienko <viacheslavo@nvidia.com>
Date: Monday, June 26 2023 11:57:49 
DPDK git baseline: Repo:dpdk
  Branch: master
  CommitID:6c948396d7ebc7c0ffdac7df99f1ebf7b4ecb55f

128997 --> testing pass

Test environment and result as below:

+------------------+----------+
|   Environment    | abi_test |
+==================+==========+
| CentOS Stream 9  | PASS     |
+------------------+----------+
| CentOS Stream 8  | PASS     |
+------------------+----------+
| Fedora 37        | PASS     |
+------------------+----------+
| RHEL8            | PASS     |
+------------------+----------+
| Fedora 38        | PASS     |
+------------------+----------+
| openSUSE Leap 15 | PASS     |
+------------------+----------+
| Debian Bullseye  | PASS     |
+------------------+----------+
| RHEL 7           | PASS     |
+------------------+----------+


CentOS Stream 9
	Kernel: 4.18.0-240.10.1.el8_3.x86_64
	Compiler: gcc 11.3.1 20220421

CentOS Stream 8
	Kernel: 4.18.0-240.10.1.el8_3.x86_64
	Compiler: gcc 8.4.1 20200928

Fedora 37
	Kernel: Depends on container host system
	Compiler: gcc 12.3.1

RHEL8
	Kernel: 4.18.0-240.10.1.el8_3.x86_64
	Compiler: gcc 8.3.1 20191121 (Red Hat 8.3.1-5)

Fedora 38
	Kernel: Depends on container host
	Compiler: clang 16.0.3

openSUSE Leap 15
	Kernel: 4.18.0-240.10.1.el8_3.x86_64
	Compiler: gcc 7.5.0

Debian Bullseye
	Kernel: 5.4.0-122-generic
	Compiler: gcc 10.2.1-6

RHEL 7
	Kernel: 4.18.0-240.10.1.el8_3.x86_64
	Compiler: gcc 4.8.5 20150623 (Red Hat 4.8.5-44)

To view detailed results, visit:
https://lab.dpdk.org/results/dashboard/patchsets/26812/

UNH-IOL DPDK Community Lab

To manage your email subscriptions, visit: 
https://lab.dpdk.org/results/dashboard/preferences/subscriptions/