From mboxrd@z Thu Jan  1 00:00:00 1970
Return-Path: <test-report-bounces@dpdk.org>
Received: from mails.dpdk.org (mails.dpdk.org [217.70.189.124])
	by inbox.dpdk.org (Postfix) with ESMTP id 8877642D84
	for <public@inbox.dpdk.org>; Wed, 28 Jun 2023 23:31:32 +0200 (CEST)
Received: from mails.dpdk.org (localhost [127.0.0.1])
	by mails.dpdk.org (Postfix) with ESMTP id 82989406B3;
	Wed, 28 Jun 2023 23:31:32 +0200 (CEST)
Received: from mail-yb1-f225.google.com (mail-yb1-f225.google.com
 [209.85.219.225])
 by mails.dpdk.org (Postfix) with ESMTP id 969A8406B3
 for <test-report@dpdk.org>; Wed, 28 Jun 2023 23:31:31 +0200 (CEST)
Received: by mail-yb1-f225.google.com with SMTP id
 3f1490d57ef6-be30cbe88b3so200506276.1
 for <test-report@dpdk.org>; Wed, 28 Jun 2023 14:31:31 -0700 (PDT)
DKIM-Signature: v=1; a=rsa-sha256; c=relaxed/relaxed;
 d=iol.unh.edu; s=unh-iol; t=1687987891; x=1690579891;
 h=cc:to:from:subject:message-id:date:from:to:cc:subject:date
 :message-id:reply-to;
 bh=K+l73kkM7Gz1wt1Dgj6spG1OO6QDyYaamCofyaUxaVw=;
 b=GBXnXWAwCroIFam0YL7lc2ibxCehoqVPb/KfgVidqY1rMrjJgDMjHrKkjNfn68boCl
 du4i+bWk9OYDaIChwbR5/eKjEaLd9m/CUXYwF2ezGEtiV7S5fntZLJehTtUcybRObkNw
 Bszi6QCd7zSTjabn+3XSH7cCey3o0QmAxiStw=
X-Google-DKIM-Signature: v=1; a=rsa-sha256; c=relaxed/relaxed;
 d=1e100.net; s=20221208; t=1687987891; x=1690579891;
 h=cc:to:from:subject:message-id:date:x-gm-message-state:from:to:cc
 :subject:date:message-id:reply-to;
 bh=K+l73kkM7Gz1wt1Dgj6spG1OO6QDyYaamCofyaUxaVw=;
 b=HcM9XKovvwrzPNO18atZOQsYSWAZBjiS/gm5o1myJod5N0F9e6UcNcYgS787HSbjwI
 MoOIoHnBw9nz9rjqXEFFTcmIXbj0lvHZ79w2mkSbO8bYQY+wK/2Q5ltc8/FIzoA4nJPr
 1fXr9g3JZKR/+Wqr7eIVSoAa5TK4m0qaV2e6lxOlJQMRlWtsN4J2RgH7HbtVVElFgciL
 QPhkzh4lOqLk58pIOpIACIN5paHDmErA9IjRruFSpPPoB0230a029/546QAwdYHZfSxo
 Slc6Tgx4sR7l8xHuKu6OQpY4QRUolNSZbIElJ1MZ9MXRQKRzazWoCsZB/PocXQXMseVO
 U5YQ==
X-Gm-Message-State: AC+VfDwyxXa6wSyJjrWI7JxDPGZQOaLb2XQkVLtkn8IgHdaMUz7k9zSu
 STazdZZcuGhysm/ulC2+ddtkyRdSYySFQnkp93IhbHdoGbIebzI8bfBERg==
X-Google-Smtp-Source: ACHHUZ4WwZcO+r8hlGOJwriKxp5I/cP9dQyQr+CwcZZAV3A0NqwxYFRPrZ3tULVMrrpv6c3zkPjQAYMgtI4w
X-Received: by 2002:a25:2903:0:b0:bff:d530:f06 with SMTP id
 p3-20020a252903000000b00bffd5300f06mr20126175ybp.41.1687987891102; 
 Wed, 28 Jun 2023 14:31:31 -0700 (PDT)
Received: from postal.iol.unh.edu (postal.iol.unh.edu. [132.177.123.84])
 by smtp-relay.gmail.com with ESMTPS id
 j7-20020a253c07000000b00bed89587b60sm910170yba.32.2023.06.28.14.31.31
 (version=TLS1_2 cipher=ECDHE-ECDSA-AES128-GCM-SHA256 bits=128/128);
 Wed, 28 Jun 2023 14:31:31 -0700 (PDT)
X-Relaying-Domain: iol.unh.edu
Date: Wed, 28 Jun 2023 14:31:31 -0700 (PDT)
Message-ID: <649ca6b3.250a0220.8e4f9.75d3SMTPIN_ADDED_MISSING@mx.google.com>
Received: from [172.17.0.3] (unknown [172.18.0.34])
 by postal.iol.unh.edu (Postfix) with ESMTP id BA911605246B;
 Wed, 28 Jun 2023 17:31:30 -0400 (EDT)
Subject: |SUCCESS| pw129086 [PATCH] test/ipsec: fix TAP default MAC address
From: dpdklab@iol.unh.edu
To: Test Report <test-report@dpdk.org>
Cc: dpdk-test-reports@iol.unh.edu
Content-Type: text/plain
X-BeenThere: test-report@dpdk.org
X-Mailman-Version: 2.1.29
Precedence: list
List-Id: automatic DPDK test reports <test-report.dpdk.org>
List-Unsubscribe: <https://mails.dpdk.org/options/test-report>,
 <mailto:test-report-request@dpdk.org?subject=unsubscribe>
List-Archive: <http://mails.dpdk.org/archives/test-report/>
List-Post: <mailto:test-report@dpdk.org>
List-Help: <mailto:test-report-request@dpdk.org?subject=help>
List-Subscribe: <https://mails.dpdk.org/listinfo/test-report>,
 <mailto:test-report-request@dpdk.org?subject=subscribe>
Errors-To: test-report-bounces@dpdk.org

Test-Label: iol-abi-testing
Test-Status: SUCCESS
http://dpdk.org/patch/129086

_Testing PASS_

Submitter: Medvedkin, Vladimir <vladimir.medvedkin@intel.com>
Date: Wednesday, June 28 2023 19:12:35 
DPDK git baseline: Repo:dpdk
  Branch: master
  CommitID:93a4b3beba4ee611685148917981f846427cafb2

129086 --> testing pass

Test environment and result as below:

+------------------+----------+
|   Environment    | abi_test |
+==================+==========+
| CentOS Stream 9  | PASS     |
+------------------+----------+
| CentOS Stream 8  | PASS     |
+------------------+----------+
| RHEL 7           | PASS     |
+------------------+----------+
| openSUSE Leap 15 | PASS     |
+------------------+----------+
| RHEL8            | PASS     |
+------------------+----------+
| Ubuntu 22.04     | PASS     |
+------------------+----------+
| Fedora 38        | PASS     |
+------------------+----------+


CentOS Stream 9
	Kernel: 4.18.0-240.10.1.el8_3.x86_64
	Compiler: gcc 11.3.1 20220421

CentOS Stream 8
	Kernel: 4.18.0-240.10.1.el8_3.x86_64
	Compiler: gcc 8.4.1 20200928

RHEL 7
	Kernel: 4.18.0-240.10.1.el8_3.x86_64
	Compiler: gcc 4.8.5 20150623 (Red Hat 4.8.5-44)

openSUSE Leap 15
	Kernel: 4.18.0-240.10.1.el8_3.x86_64
	Compiler: gcc 7.5.0

RHEL8
	Kernel: 4.18.0-240.10.1.el8_3.x86_64
	Compiler: gcc 8.3.1 20191121 (Red Hat 8.3.1-5)

Ubuntu 22.04
	Kernel: 4.18.0-240.10.1.el8_3.x86_64
	Compiler: gcc 11.3.0

Fedora 38
	Kernel: Depends on container host
	Compiler: gcc 13.1.1

To view detailed results, visit:
https://lab.dpdk.org/results/dashboard/patchsets/26854/

UNH-IOL DPDK Community Lab

To manage your email subscriptions, visit: 
https://lab.dpdk.org/results/dashboard/preferences/subscriptions/