From mboxrd@z Thu Jan  1 00:00:00 1970
Return-Path: <test-report-bounces@dpdk.org>
Received: from mails.dpdk.org (mails.dpdk.org [217.70.189.124])
	by inbox.dpdk.org (Postfix) with ESMTP id 451FC42D84
	for <public@inbox.dpdk.org>; Thu, 29 Jun 2023 00:02:50 +0200 (CEST)
Received: from mails.dpdk.org (localhost [127.0.0.1])
	by mails.dpdk.org (Postfix) with ESMTP id 3EFDB40DF6;
	Thu, 29 Jun 2023 00:02:50 +0200 (CEST)
Received: from mail-pl1-f228.google.com (mail-pl1-f228.google.com
 [209.85.214.228])
 by mails.dpdk.org (Postfix) with ESMTP id 3660940DF6
 for <test-report@dpdk.org>; Thu, 29 Jun 2023 00:02:49 +0200 (CEST)
Received: by mail-pl1-f228.google.com with SMTP id
 d9443c01a7336-1b8033987baso209475ad.0
 for <test-report@dpdk.org>; Wed, 28 Jun 2023 15:02:49 -0700 (PDT)
DKIM-Signature: v=1; a=rsa-sha256; c=relaxed/relaxed;
 d=iol.unh.edu; s=unh-iol; t=1687989768; x=1690581768;
 h=cc:to:from:subject:message-id:date:from:to:cc:subject:date
 :message-id:reply-to;
 bh=cgAY7LyKPCUNx8AVXmx8v2A3M/tNV5JQwsObXjvBefI=;
 b=QyNSZFfdZB5xbYUL9aw/7O9TN4Loh4zXned1KO6ImVFvOctKkGG1M34I/BQwbwuAmH
 AfHNDEr4ExzYvgvHplZw2JFye6zsl9YK/rJFcT5uxAjmOB07mW5D/+NYXLT7rH/sAgAG
 V4rh1eC/7IyNRz0CPJCqC2E5uTIxGoVufZk3A=
X-Google-DKIM-Signature: v=1; a=rsa-sha256; c=relaxed/relaxed;
 d=1e100.net; s=20221208; t=1687989768; x=1690581768;
 h=cc:to:from:subject:message-id:date:x-gm-message-state:from:to:cc
 :subject:date:message-id:reply-to;
 bh=cgAY7LyKPCUNx8AVXmx8v2A3M/tNV5JQwsObXjvBefI=;
 b=iEjqbREaw8yLk1BblbViQgg8/758PJVQLb7XN+exEj3hstQlxJ8jMfKCiXh8hmDFzB
 BC83ZLK7WSViuN96NgJJz3efpND9/p/Wkz+mJqUU+o6ktRhGHcMK0LdvxzD+FFhKIn0p
 dS25xM3prQWX7+Q+J5/SfhQQaAZ/6VVpjNLvQqRf4KYaE6+avU4KwjC/tqxNuOjWa9h8
 iCoDt8S3fPWVo7V3ANXrecr1nDZdZPGbt7s7mvvHMRYL2IokwsTE289S2FUJb6YVxFrE
 SRjYxANZbl8YJ9Q95exIp7ev9dcjGgtdTVpRgvZwW+lPuPIasNZNmf+4rXqE3pynt2/5
 me0Q==
X-Gm-Message-State: AC+VfDyllYWIORzcxBKQ+UuYiqVwvCaBgh3yKHUqsSgYocaZGU+gjCf8
 /gRQixOfu/DRZ/pRFXICqr/cij40wskYGhLcIY7EMAE0czXtYgaI8OzbWg==
X-Google-Smtp-Source: ACHHUZ7U1P1k/w5w1Uu3hrHKk8wpxDixgeiHlyFyXsSSTpK0a92PFX33aeKia1DEmRTNVwC6Vt+OQ8k1Sr4k
X-Received: by 2002:a17:902:d50c:b0:1b8:224f:e823 with SMTP id
 b12-20020a170902d50c00b001b8224fe823mr3540114plg.7.1687989768437; 
 Wed, 28 Jun 2023 15:02:48 -0700 (PDT)
Received: from postal.iol.unh.edu (postal.iol.unh.edu. [132.177.123.84])
 by smtp-relay.gmail.com with ESMTPS id
 y17-20020a170902b49100b001b0499bee1csm350153plr.14.2023.06.28.15.02.48
 (version=TLS1_2 cipher=ECDHE-ECDSA-AES128-GCM-SHA256 bits=128/128);
 Wed, 28 Jun 2023 15:02:48 -0700 (PDT)
X-Relaying-Domain: iol.unh.edu
Date: Wed, 28 Jun 2023 15:02:48 -0700 (PDT)
Message-ID: <649cae08.170a0220.e80d.99edSMTPIN_ADDED_MISSING@mx.google.com>
Received: from [172.17.0.3] (unknown [172.18.0.34])
 by postal.iol.unh.edu (Postfix) with ESMTP id A321F605246B;
 Wed, 28 Jun 2023 18:02:47 -0400 (EDT)
Subject: |SUCCESS| pw129086 [PATCH] test/ipsec: fix TAP default MAC address
From: dpdklab@iol.unh.edu
To: Test Report <test-report@dpdk.org>
Cc: Medvedkin@dpdk.org, Vladimir <vladimir.medvedkin@intel.com>
Content-Type: text/plain
X-BeenThere: test-report@dpdk.org
X-Mailman-Version: 2.1.29
Precedence: list
List-Id: automatic DPDK test reports <test-report.dpdk.org>
List-Unsubscribe: <https://mails.dpdk.org/options/test-report>,
 <mailto:test-report-request@dpdk.org?subject=unsubscribe>
List-Archive: <http://mails.dpdk.org/archives/test-report/>
List-Post: <mailto:test-report@dpdk.org>
List-Help: <mailto:test-report-request@dpdk.org?subject=help>
List-Subscribe: <https://mails.dpdk.org/listinfo/test-report>,
 <mailto:test-report-request@dpdk.org?subject=subscribe>
Errors-To: test-report-bounces@dpdk.org

Test-Label: iol-abi-testing
Test-Status: SUCCESS
http://dpdk.org/patch/129086

_Testing PASS_

Submitter: Medvedkin, Vladimir <vladimir.medvedkin@intel.com>
Date: Wednesday, June 28 2023 19:12:35 
DPDK git baseline: Repo:dpdk
  Branch: master
  CommitID:93a4b3beba4ee611685148917981f846427cafb2

129086 --> testing pass

Test environment and result as below:

+------------------+----------+
|   Environment    | abi_test |
+==================+==========+
| CentOS Stream 9  | PASS     |
+------------------+----------+
| CentOS Stream 8  | PASS     |
+------------------+----------+
| RHEL 7           | PASS     |
+------------------+----------+
| openSUSE Leap 15 | PASS     |
+------------------+----------+
| RHEL8            | PASS     |
+------------------+----------+
| Ubuntu 22.04     | PASS     |
+------------------+----------+
| Fedora 38        | PASS     |
+------------------+----------+
| Fedora 37        | PASS     |
+------------------+----------+
| Debian Bullseye  | PASS     |
+------------------+----------+
| Debian Buster    | PASS     |
+------------------+----------+


CentOS Stream 9
	Kernel: 4.18.0-240.10.1.el8_3.x86_64
	Compiler: gcc 11.3.1 20220421

CentOS Stream 8
	Kernel: 4.18.0-240.10.1.el8_3.x86_64
	Compiler: gcc 8.4.1 20200928

RHEL 7
	Kernel: 4.18.0-240.10.1.el8_3.x86_64
	Compiler: gcc 4.8.5 20150623 (Red Hat 4.8.5-44)

openSUSE Leap 15
	Kernel: 4.18.0-240.10.1.el8_3.x86_64
	Compiler: gcc 7.5.0

RHEL8
	Kernel: 4.18.0-240.10.1.el8_3.x86_64
	Compiler: gcc 8.3.1 20191121 (Red Hat 8.3.1-5)

Ubuntu 22.04
	Kernel: 4.18.0-240.10.1.el8_3.x86_64
	Compiler: gcc 11.3.0

Fedora 38
	Kernel: Depends on container host
	Compiler: gcc 13.1.1

Fedora 37
	Kernel: Depends on container host system
	Compiler: gcc 12.3.1

Debian Bullseye
	Kernel: 5.4.0-122-generic
	Compiler: gcc 10.2.1-6

Debian Buster
	Kernel: 5.4.0-122-generic
	Compiler: gcc 8.3.0-6

To view detailed results, visit:
https://lab.dpdk.org/results/dashboard/patchsets/26854/

UNH-IOL DPDK Community Lab

To manage your email subscriptions, visit: 
https://lab.dpdk.org/results/dashboard/preferences/subscriptions/