From mboxrd@z Thu Jan  1 00:00:00 1970
Return-Path: <test-report-bounces@dpdk.org>
Received: from mails.dpdk.org (mails.dpdk.org [217.70.189.124])
	by inbox.dpdk.org (Postfix) with ESMTP id 1D7BA42D85
	for <public@inbox.dpdk.org>; Thu, 29 Jun 2023 03:57:29 +0200 (CEST)
Received: from mails.dpdk.org (localhost [127.0.0.1])
	by mails.dpdk.org (Postfix) with ESMTP id EB53A406B7;
	Thu, 29 Jun 2023 03:57:28 +0200 (CEST)
Received: from mail-qv1-f97.google.com (mail-qv1-f97.google.com
 [209.85.219.97]) by mails.dpdk.org (Postfix) with ESMTP id 337B3406B7
 for <test-report@dpdk.org>; Thu, 29 Jun 2023 03:57:28 +0200 (CEST)
Received: by mail-qv1-f97.google.com with SMTP id
 6a1803df08f44-635e3ceb152so1257576d6.2
 for <test-report@dpdk.org>; Wed, 28 Jun 2023 18:57:28 -0700 (PDT)
DKIM-Signature: v=1; a=rsa-sha256; c=relaxed/relaxed;
 d=iol.unh.edu; s=unh-iol; t=1688003847; x=1690595847;
 h=cc:to:from:subject:message-id:date:from:to:cc:subject:date
 :message-id:reply-to;
 bh=2pnrue1q/MME4aBSFa/ZNRTlUgZxNXh4a8JFrv/h1pQ=;
 b=gOAJcrUnqOltqxmffZvFhIX1jOAoMO5fDoGW+OCp2jwfBk5p76Fjg1lvLr1PT/p7uC
 xMupHMPJncY26X0JOzyTDwJjnbiXzSocMYZz+5NF6Vre4ntqzfvZ2n38Khs8U1ZAxJfR
 3HGiHuvn2RKfFAlpQKdYQh8S2p8QQsVPkJB6g=
X-Google-DKIM-Signature: v=1; a=rsa-sha256; c=relaxed/relaxed;
 d=1e100.net; s=20221208; t=1688003847; x=1690595847;
 h=cc:to:from:subject:message-id:date:x-gm-message-state:from:to:cc
 :subject:date:message-id:reply-to;
 bh=2pnrue1q/MME4aBSFa/ZNRTlUgZxNXh4a8JFrv/h1pQ=;
 b=Cqmwntb89mtXqAYqM+uQS/RVUXV0GlUxHJVx93czrQwbD8wuCPT0NtjbE8LL0Ru4Y1
 YqvZK/yV9sCUNK2xd2IReef/75fcC6jZlFNmx/yywh95UzzAcVPkWLCXmTKTgFzrkcYn
 ULvE+WibrGJDaimMmwF8a/QStBPBmn0pfgxoVC5raLHLH1t/q8djtUqFUgSKPSGHvTMG
 aiHfyiZkqTESz4iTPO3lSrNwDFUaqZlsQ1MQuncjEBr2YHGRXaii5TaOipV700NAO664
 lV7Rm/SLNzV/wSE2UC7Tx8ASX8pDID4fL+CgcFQc1G/DzgLL3mOfBHChFrSgevj2pjq6
 XvJA==
X-Gm-Message-State: AC+VfDyCYW4Fmmq+xwZe7sKlDtbwmJVAkMCHWqWAkfhKsShLG/FsoSsM
 QlRaCpbWvq3uleOdSw7xCLugCIJfNHIBtyetTPpGTTCkFHA+boVt6OIqFQ==
X-Google-Smtp-Source: ACHHUZ4mQ7yKJW1NOttvtqVIxb/4zcFgwQM7/RQzAJQvMrHlHsUDTD9OsOROznCP6uTc9QQEGUQ0EJYsQL2I
X-Received: by 2002:a05:6214:2488:b0:635:feb0:8443 with SMTP id
 gi8-20020a056214248800b00635feb08443mr3058209qvb.55.1688003847565; 
 Wed, 28 Jun 2023 18:57:27 -0700 (PDT)
Received: from postal.iol.unh.edu (postal.iol.unh.edu. [132.177.123.84])
 by smtp-relay.gmail.com with ESMTPS id
 g2-20020a0ce742000000b00632209f715esm548232qvn.71.2023.06.28.18.57.27
 (version=TLS1_2 cipher=ECDHE-ECDSA-AES128-GCM-SHA256 bits=128/128);
 Wed, 28 Jun 2023 18:57:27 -0700 (PDT)
X-Relaying-Domain: iol.unh.edu
Date: Wed, 28 Jun 2023 18:57:27 -0700 (PDT)
Message-ID: <649ce507.0c0a0220.66f79.4128SMTPIN_ADDED_MISSING@mx.google.com>
Received: from [172.17.0.3] (unknown [172.18.0.34])
 by postal.iol.unh.edu (Postfix) with ESMTP id 36945605246B;
 Wed, 28 Jun 2023 21:57:27 -0400 (EDT)
Subject: |SUCCESS| pw129087 [PATCH] net/netvsc: fix bogus sizeof calculation
From: dpdklab@iol.unh.edu
To: Test Report <test-report@dpdk.org>
Cc: dpdk-test-reports@iol.unh.edu
Content-Type: text/plain
X-BeenThere: test-report@dpdk.org
X-Mailman-Version: 2.1.29
Precedence: list
List-Id: automatic DPDK test reports <test-report.dpdk.org>
List-Unsubscribe: <https://mails.dpdk.org/options/test-report>,
 <mailto:test-report-request@dpdk.org?subject=unsubscribe>
List-Archive: <http://mails.dpdk.org/archives/test-report/>
List-Post: <mailto:test-report@dpdk.org>
List-Help: <mailto:test-report-request@dpdk.org?subject=help>
List-Subscribe: <https://mails.dpdk.org/listinfo/test-report>,
 <mailto:test-report-request@dpdk.org?subject=subscribe>
Errors-To: test-report-bounces@dpdk.org

Test-Label: iol-x86_64-compile-testing
Test-Status: SUCCESS
http://dpdk.org/patch/129087

_Testing PASS_

Submitter: Long Li <longli@linuxonhyperv.com>
Date: Thursday, June 29 2023 00:29:57 
DPDK git baseline: Repo:dpdk
  Branch: master
  CommitID:93a4b3beba4ee611685148917981f846427cafb2

129087 --> testing pass

Test environment and result as below:

+---------------------+--------------------+----------------------+
|     Environment     | dpdk_meson_compile | dpdk_mingw64_compile |
+=====================+====================+======================+
| FreeBSD 13          | PASS               | SKIPPED              |
+---------------------+--------------------+----------------------+
| Windows Server 2019 | PASS               | PASS                 |
+---------------------+--------------------+----------------------+
| CentOS Stream 9     | PASS               | SKIPPED              |
+---------------------+--------------------+----------------------+
| Debian Bullseye     | PASS               | SKIPPED              |
+---------------------+--------------------+----------------------+
| CentOS Stream 8     | PASS               | SKIPPED              |
+---------------------+--------------------+----------------------+
| Fedora 38           | PASS               | SKIPPED              |
+---------------------+--------------------+----------------------+
| Fedora 37           | PASS               | SKIPPED              |
+---------------------+--------------------+----------------------+
| RHEL 7              | PASS               | SKIPPED              |
+---------------------+--------------------+----------------------+
| RHEL8               | PASS               | SKIPPED              |
+---------------------+--------------------+----------------------+
| openSUSE Leap 15    | PASS               | SKIPPED              |
+---------------------+--------------------+----------------------+
| Ubuntu 20.04        | PASS               | SKIPPED              |
+---------------------+--------------------+----------------------+
| Debian Buster       | PASS               | SKIPPED              |
+---------------------+--------------------+----------------------+
| Ubuntu 22.04        | PASS               | SKIPPED              |
+---------------------+--------------------+----------------------+
| Alpine              | PASS               | SKIPPED              |
+---------------------+--------------------+----------------------+


FreeBSD 13
	Kernel: 13.0
	Compiler: clang 11.0.1

Windows Server 2019
	Kernel: 10.0
	Compiler: clang 14.0 and gcc 8.1.0 (MinGW)

CentOS Stream 9
	Kernel: 4.18.0-240.10.1.el8_3.x86_64
	Compiler: gcc 11.3.1 20220421

Debian Bullseye
	Kernel: 5.4.0-122-generic
	Compiler: gcc 10.2.1-6

CentOS Stream 8
	Kernel: 4.18.0-240.10.1.el8_3.x86_64
	Compiler: gcc 8.4.1 20200928

Fedora 38
	Kernel: Depends on container host
	Compiler: gcc 13.1.1

Fedora 37
	Kernel: Depends on container host system
	Compiler: gcc 12.3.1

RHEL 7
	Kernel: 4.18.0-240.10.1.el8_3.x86_64
	Compiler: gcc 4.8.5 20150623 (Red Hat 4.8.5-44)

RHEL8
	Kernel: 4.18.0-240.10.1.el8_3.x86_64
	Compiler: gcc 8.3.1 20191121 (Red Hat 8.3.1-5)

openSUSE Leap 15
	Kernel: 4.18.0-240.10.1.el8_3.x86_64
	Compiler: gcc 7.5.0

Ubuntu 20.04
	Kernel: 4.18.0-240.10.1.el8_3.x86_64
	Compiler: gcc 9.3.0-17ubuntu1~20.04

Debian Buster
	Kernel: 5.4.0-122-generic
	Compiler: gcc 8.3.0-6

Ubuntu 22.04
	Kernel: 4.18.0-240.10.1.el8_3.x86_64
	Compiler: gcc 11.3.0

Alpine
	Kernel: 5.4.0-73-generic
	Compiler: gcc (Alpine 10.3.1_git20210424) 10.3.1 20210424

To view detailed results, visit:
https://lab.dpdk.org/results/dashboard/patchsets/26855/

UNH-IOL DPDK Community Lab

To manage your email subscriptions, visit: 
https://lab.dpdk.org/results/dashboard/preferences/subscriptions/