From mboxrd@z Thu Jan  1 00:00:00 1970
Return-Path: <test-report-bounces@dpdk.org>
Received: from mails.dpdk.org (mails.dpdk.org [217.70.189.124])
	by inbox.dpdk.org (Postfix) with ESMTP id AEC1142D8F
	for <public@inbox.dpdk.org>; Thu, 29 Jun 2023 20:26:12 +0200 (CEST)
Received: from mails.dpdk.org (localhost [127.0.0.1])
	by mails.dpdk.org (Postfix) with ESMTP id AAE3D406B7;
	Thu, 29 Jun 2023 20:26:12 +0200 (CEST)
Received: from mail-ua1-f97.google.com (mail-ua1-f97.google.com
 [209.85.222.97]) by mails.dpdk.org (Postfix) with ESMTP id 090DD406B7
 for <test-report@dpdk.org>; Thu, 29 Jun 2023 20:26:12 +0200 (CEST)
Received: by mail-ua1-f97.google.com with SMTP id
 a1e0cc1a2514c-791b8525b59so379654241.1
 for <test-report@dpdk.org>; Thu, 29 Jun 2023 11:26:11 -0700 (PDT)
DKIM-Signature: v=1; a=rsa-sha256; c=relaxed/relaxed;
 d=iol.unh.edu; s=unh-iol; t=1688063171; x=1690655171;
 h=cc:to:from:subject:message-id:date:from:to:cc:subject:date
 :message-id:reply-to;
 bh=sxpDXAGrJazFH2e+NcQOwbs/BonMWLFvVo0XOBlkaI4=;
 b=EHIkGb2XvL6x2NO9gCWDXlzQB2326Ypa2kCPeor1ciLlCWi6u8bAkJhRCivPA4A094
 nTzC7gKwjbJNExB2LUeZS9YWvefm/JIB85Hn6yf3SlHyN4MgxlEnQ7RgWyssmTB0EdXv
 dpeYdiVtDFVPrcwWXmRqcR4fg3TZHXJ3KccQg=
X-Google-DKIM-Signature: v=1; a=rsa-sha256; c=relaxed/relaxed;
 d=1e100.net; s=20221208; t=1688063171; x=1690655171;
 h=cc:to:from:subject:message-id:date:x-gm-message-state:from:to:cc
 :subject:date:message-id:reply-to;
 bh=sxpDXAGrJazFH2e+NcQOwbs/BonMWLFvVo0XOBlkaI4=;
 b=gHVOBc3QEVUt3AyZ0CplF1hHHVsTERDZOO45DywWlKxoch6ikQsBs6lkuzCU1NGkJO
 zeDcTrxitwtIlssjYqC/enZWeMoJ4xAyI6/RlX7+wH8bIqP3ZPgi+Y3AkAVq/DO0OJl0
 20ZuZwzklFFGplcAccgy+2u9lHVRPfg5eyeyUvYXnlXpGauZ9/8fDuZ0V3Mr4SbWZQNO
 kS0/EkAJ0YoGXGZ1VHlxk9+6f91WRXCnU4PCqk7NNSBq7cnHOwJVMAeJvUqp1cC6S0Hf
 zqgDV0Jut7VDPY9qvdAdPBWslY+XMGPgQQi3p9zH5+ARoI9piXSg7EGZkd+J7koDhdGq
 rAzQ==
X-Gm-Message-State: ABy/qLaXwzQSaU7Q1mlkvOqTZISrdVvEiyWRbpfFKeeSIpcvWvVppynX
 hkVVPxVzQo3gvnuJOB6TDdkvprUehzk7Mn+In2ACyg1daaRfxogiKajLdA==
X-Google-Smtp-Source: APBJJlEDH4HdnTfOkU1lV8QpYGme+s5vVt9LfEEAaBJmAcTaGvGRiWaA+TMbVrfmJ0fz70obZt5l0LrtX1fI
X-Received: by 2002:a67:f981:0:b0:443:672c:2d8 with SMTP id
 b1-20020a67f981000000b00443672c02d8mr578843vsq.22.1688063171408; 
 Thu, 29 Jun 2023 11:26:11 -0700 (PDT)
Received: from postal.iol.unh.edu (postal.iol.unh.edu. [132.177.123.84])
 by smtp-relay.gmail.com with ESMTPS id
 s4-20020ab03ac4000000b0078a598ea5d9sm900761uaw.16.2023.06.29.11.26.11
 (version=TLS1_2 cipher=ECDHE-ECDSA-AES128-GCM-SHA256 bits=128/128);
 Thu, 29 Jun 2023 11:26:11 -0700 (PDT)
X-Relaying-Domain: iol.unh.edu
Date: Thu, 29 Jun 2023 11:26:11 -0700 (PDT)
Message-ID: <649dccc3.b00a0220.cbe97.4479SMTPIN_ADDED_MISSING@mx.google.com>
Received: from [172.17.0.4] (unknown [172.18.0.34])
 by postal.iol.unh.edu (Postfix) with ESMTP id 11FBE605246B;
 Thu, 29 Jun 2023 14:26:11 -0400 (EDT)
Subject: |SUCCESS| pw129116 [PATCH] ethdev: fix Tx queue mask endianness
From: dpdklab@iol.unh.edu
To: Test Report <test-report@dpdk.org>
Cc: dpdk-test-reports@iol.unh.edu
Content-Type: text/plain
X-BeenThere: test-report@dpdk.org
X-Mailman-Version: 2.1.29
Precedence: list
List-Id: automatic DPDK test reports <test-report.dpdk.org>
List-Unsubscribe: <https://mails.dpdk.org/options/test-report>,
 <mailto:test-report-request@dpdk.org?subject=unsubscribe>
List-Archive: <http://mails.dpdk.org/archives/test-report/>
List-Post: <mailto:test-report@dpdk.org>
List-Help: <mailto:test-report-request@dpdk.org?subject=help>
List-Subscribe: <https://mails.dpdk.org/listinfo/test-report>,
 <mailto:test-report-request@dpdk.org?subject=subscribe>
Errors-To: test-report-bounces@dpdk.org

Test-Label: iol-unit-testing
Test-Status: SUCCESS
http://dpdk.org/patch/129116

_Testing PASS_

Submitter: David Marchand <david.marchand@redhat.com>
Date: Thursday, June 29 2023 13:58:39 
DPDK git baseline: Repo:dpdk
  Branch: master
  CommitID:93a4b3beba4ee611685148917981f846427cafb2

129116 --> testing pass

Test environment and result as below:

+--------------------------+----------------+
|       Environment        | dpdk_unit_test |
+==========================+================+
| CentOS Stream 9 (ARM)    | PASS           |
+--------------------------+----------------+
| Fedora 38 (ARM)          | PASS           |
+--------------------------+----------------+
| Debian 11 (Buster) (ARM) | PASS           |
+--------------------------+----------------+
| CentOS Stream 8          | PASS           |
+--------------------------+----------------+
| CentOS Stream 9          | PASS           |
+--------------------------+----------------+
| Ubuntu 20.04 (ARM)       | PASS           |
+--------------------------+----------------+
| Debian Bullseye          | PASS           |
+--------------------------+----------------+
| Fedora 37 (ARM)          | PASS           |
+--------------------------+----------------+
| Fedora 37                | PASS           |
+--------------------------+----------------+
| Debian Buster            | PASS           |
+--------------------------+----------------+
| Fedora 38                | PASS           |
+--------------------------+----------------+
| openSUSE Leap 15         | PASS           |
+--------------------------+----------------+
| RHEL 7                   | PASS           |
+--------------------------+----------------+
| RHEL8                    | PASS           |
+--------------------------+----------------+
| Ubuntu 22.04             | PASS           |
+--------------------------+----------------+
| Ubuntu 20.04             | PASS           |
+--------------------------+----------------+
| Fedora 38 (ARM Clang)    | PASS           |
+--------------------------+----------------+


CentOS Stream 9 (ARM)
	Kernel: Container Host Kernel
	Compiler: gcc 11.3.1

Fedora 38 (ARM)
	Kernel: Depends on container host
	Compiler: gcc 13.1.1

Debian 11 (Buster) (ARM)
	Kernel: Container Host Kernel
	Compiler: gcc 10.2.1

CentOS Stream 8
	Kernel: 4.18.0-240.10.1.el8_3.x86_64
	Compiler: gcc 8.4.1 20200928

CentOS Stream 9
	Kernel: 4.18.0-240.10.1.el8_3.x86_64
	Compiler: gcc 11.3.1 20220421

Ubuntu 20.04 (ARM)
	Kernel: Container Host Kernel
	Compiler: gcc 9.4.0

Debian Bullseye
	Kernel: 5.4.0-122-generic
	Compiler: gcc 10.2.1-6

Fedora 37 (ARM)
	Kernel: Depends on container host
	Compiler: gcc 12.3.1

Fedora 37
	Kernel: Depends on container host system
	Compiler: gcc 12.3.1

Debian Buster
	Kernel: 5.4.0-122-generic
	Compiler: gcc 8.3.0-6

Fedora 38
	Kernel: Depends on container host
	Compiler: gcc 13.1.1

openSUSE Leap 15
	Kernel: 4.18.0-240.10.1.el8_3.x86_64
	Compiler: gcc 7.5.0

RHEL 7
	Kernel: 4.18.0-240.10.1.el8_3.x86_64
	Compiler: gcc 4.8.5 20150623 (Red Hat 4.8.5-44)

RHEL8
	Kernel: 4.18.0-240.10.1.el8_3.x86_64
	Compiler: gcc 8.3.1 20191121 (Red Hat 8.3.1-5)

Ubuntu 22.04
	Kernel: 4.18.0-240.10.1.el8_3.x86_64
	Compiler: gcc 11.3.0

Ubuntu 20.04
	Kernel: 4.18.0-240.10.1.el8_3.x86_64
	Compiler: gcc 9.3.0-17ubuntu1~20.04

Fedora 38 (ARM Clang)
	Kernel: Depends on container host
	Compiler: clang 16.0.3

To view detailed results, visit:
https://lab.dpdk.org/results/dashboard/patchsets/26867/

UNH-IOL DPDK Community Lab

To manage your email subscriptions, visit: 
https://lab.dpdk.org/results/dashboard/preferences/subscriptions/