From mboxrd@z Thu Jan  1 00:00:00 1970
Return-Path: <test-report-bounces@dpdk.org>
Received: from mails.dpdk.org (mails.dpdk.org [217.70.189.124])
	by inbox.dpdk.org (Postfix) with ESMTP id D1AAB42D8F
	for <public@inbox.dpdk.org>; Thu, 29 Jun 2023 21:04:30 +0200 (CEST)
Received: from mails.dpdk.org (localhost [127.0.0.1])
	by mails.dpdk.org (Postfix) with ESMTP id CB41F406B7;
	Thu, 29 Jun 2023 21:04:30 +0200 (CEST)
Received: from mail-io1-f100.google.com (mail-io1-f100.google.com
 [209.85.166.100])
 by mails.dpdk.org (Postfix) with ESMTP id 7AC6D406B7
 for <test-report@dpdk.org>; Thu, 29 Jun 2023 21:04:30 +0200 (CEST)
Received: by mail-io1-f100.google.com with SMTP id
 ca18e2360f4ac-78358268d1bso45812739f.3
 for <test-report@dpdk.org>; Thu, 29 Jun 2023 12:04:30 -0700 (PDT)
DKIM-Signature: v=1; a=rsa-sha256; c=relaxed/relaxed;
 d=iol.unh.edu; s=unh-iol; t=1688065470; x=1690657470;
 h=cc:to:from:subject:message-id:date:from:to:cc:subject:date
 :message-id:reply-to;
 bh=lpxBpeFBWaTrOfbrCwyWXFuftdezPZ2bdHztzDUMMF8=;
 b=IPm3+oJSxigbAntAAl8dyHqo9G0jLDRDMWriEwjajSEL4gdwnB9XiZMJTEMt4sQvnu
 3HrPsdUVwFhj9TDvuAJv1n70YciJqc7FZ/f89+SE3Jj5auZSTQAe8aYeFTbrYbplob7R
 RJX/mJbg3UEHZGKSBZEdGZvuWw2UOZpouyY7k=
X-Google-DKIM-Signature: v=1; a=rsa-sha256; c=relaxed/relaxed;
 d=1e100.net; s=20221208; t=1688065470; x=1690657470;
 h=cc:to:from:subject:message-id:date:x-gm-message-state:from:to:cc
 :subject:date:message-id:reply-to;
 bh=lpxBpeFBWaTrOfbrCwyWXFuftdezPZ2bdHztzDUMMF8=;
 b=it4sHr2sqtSd8iCZ33elQItfg5XE7Q7/m2gcdBA0FycjLLOZKpUQsLKFWczWxHuafq
 ZicVcRSu/zYOcqX6kjjhAi+8ld8OsHL97lHPklhhHj4VxlfH9IH1krwtDQQXEB/cuz//
 146/KyAbrMzah8dc5NwXr6lWgW+o1gdLvLzieQ3205YMVroJc7D+S+jIk6NF20f3vLBk
 wNNdEZ0TRCbyaaB6GSq/4wyL4hLxYnHPLvegUk0lL221N0cp+d65RQtRQDniY8TDfEmp
 1PjNYmbVY4VxCrbkrKQ1zcjUxZB5XImphIvpa3i5gGVYLbOyLyBukNIgCpPvxfp1I0WP
 V5mQ==
X-Gm-Message-State: AC+VfDwbddSKT7kI5CX5dR4vKUM5hYBjN40dMtaQmXRcxNZDp+ZAHsNi
 laOsifetImNI9TVTaoTb8WRKdKxVTUeJ9cd5VeAOIuq9Mu2eLx2p3WNyWg==
X-Google-Smtp-Source: ACHHUZ4uxlxigDleFoW3SKuJVukOpke3fvNgfKB4mxyO02OFVGGqh+J0YbytdKSGD4Fuy2Lu3esa8CSdqlYo
X-Received: by 2002:a5d:9c8e:0:b0:783:4e11:76ce with SMTP id
 p14-20020a5d9c8e000000b007834e1176cemr476084iop.15.1688065469949; 
 Thu, 29 Jun 2023 12:04:29 -0700 (PDT)
Received: from postal.iol.unh.edu (postal.iol.unh.edu. [132.177.123.84])
 by smtp-relay.gmail.com with ESMTPS id
 h12-20020a0566380f8c00b0042b00f3ad47sm145806jal.80.2023.06.29.12.04.29
 (version=TLS1_2 cipher=ECDHE-ECDSA-AES128-GCM-SHA256 bits=128/128);
 Thu, 29 Jun 2023 12:04:29 -0700 (PDT)
X-Relaying-Domain: iol.unh.edu
Date: Thu, 29 Jun 2023 12:04:29 -0700 (PDT)
Message-ID: <649dd5bd.050a0220.dea4.41a0SMTPIN_ADDED_MISSING@mx.google.com>
Received: from [172.17.0.3] (unknown [172.18.0.34])
 by postal.iol.unh.edu (Postfix) with ESMTP id 980F7605246B;
 Thu, 29 Jun 2023 15:04:29 -0400 (EDT)
Subject: |SUCCESS| pw129125 [PATCH] net/mlx5: share QUOTA indirect action
From: dpdklab@iol.unh.edu
To: Test Report <test-report@dpdk.org>
Cc: dpdk-test-reports@iol.unh.edu
Content-Type: text/plain
X-BeenThere: test-report@dpdk.org
X-Mailman-Version: 2.1.29
Precedence: list
List-Id: automatic DPDK test reports <test-report.dpdk.org>
List-Unsubscribe: <https://mails.dpdk.org/options/test-report>,
 <mailto:test-report-request@dpdk.org?subject=unsubscribe>
List-Archive: <http://mails.dpdk.org/archives/test-report/>
List-Post: <mailto:test-report@dpdk.org>
List-Help: <mailto:test-report-request@dpdk.org?subject=help>
List-Subscribe: <https://mails.dpdk.org/listinfo/test-report>,
 <mailto:test-report-request@dpdk.org?subject=subscribe>
Errors-To: test-report-bounces@dpdk.org

Test-Label: iol-abi-testing
Test-Status: SUCCESS
http://dpdk.org/patch/129125

_Testing PASS_

Submitter: Gregory Etelson <getelson@nvidia.com>
Date: Thursday, June 29 2023 16:48:14 
DPDK git baseline: Repo:dpdk
  Branch: master
  CommitID:93a4b3beba4ee611685148917981f846427cafb2

129125 --> testing pass

Test environment and result as below:

+-----------------+----------+
|   Environment   | abi_test |
+=================+==========+
| CentOS Stream 8 | PASS     |
+-----------------+----------+
| Debian Bullseye | PASS     |
+-----------------+----------+
| Fedora 38       | PASS     |
+-----------------+----------+


CentOS Stream 8
	Kernel: 4.18.0-240.10.1.el8_3.x86_64
	Compiler: gcc 8.4.1 20200928

Debian Bullseye
	Kernel: 5.4.0-122-generic
	Compiler: gcc 10.2.1-6

Fedora 38
	Kernel: Depends on container host
	Compiler: gcc 13.1.1

To view detailed results, visit:
https://lab.dpdk.org/results/dashboard/patchsets/26870/

UNH-IOL DPDK Community Lab

To manage your email subscriptions, visit: 
https://lab.dpdk.org/results/dashboard/preferences/subscriptions/