From mboxrd@z Thu Jan  1 00:00:00 1970
Return-Path: <test-report-bounces@dpdk.org>
Received: from mails.dpdk.org (mails.dpdk.org [217.70.189.124])
	by inbox.dpdk.org (Postfix) with ESMTP id 68EE242D8F
	for <public@inbox.dpdk.org>; Thu, 29 Jun 2023 21:18:18 +0200 (CEST)
Received: from mails.dpdk.org (localhost [127.0.0.1])
	by mails.dpdk.org (Postfix) with ESMTP id 643BE406B7;
	Thu, 29 Jun 2023 21:18:18 +0200 (CEST)
Received: from mail-yw1-f227.google.com (mail-yw1-f227.google.com
 [209.85.128.227])
 by mails.dpdk.org (Postfix) with ESMTP id 5975F406B7
 for <test-report@dpdk.org>; Thu, 29 Jun 2023 21:18:17 +0200 (CEST)
Received: by mail-yw1-f227.google.com with SMTP id
 00721157ae682-57012b2973eso10601937b3.2
 for <test-report@dpdk.org>; Thu, 29 Jun 2023 12:18:17 -0700 (PDT)
DKIM-Signature: v=1; a=rsa-sha256; c=relaxed/relaxed;
 d=iol.unh.edu; s=unh-iol; t=1688066297; x=1690658297;
 h=cc:to:from:subject:message-id:date:from:to:cc:subject:date
 :message-id:reply-to;
 bh=lV79ZUpbSkbgezO5pvjRRDWDRuVLCQ287QSZaQo84qA=;
 b=O+vBMYoAXY0ndoHlYd434cdoX9dAqVKzz7mBo3SfhX8rovwnrSBdk59XTDBJLcZiK1
 EAi4m1ErNTkGC8sKNM3DBNgXmY4MzWrX04MoRJQlkKQBryvRoCm/uNBuyyfQucUsctbO
 34Pm23TpvpxVsRSOqVAM1qkj4qx05MtHaBpaQ=
X-Google-DKIM-Signature: v=1; a=rsa-sha256; c=relaxed/relaxed;
 d=1e100.net; s=20221208; t=1688066297; x=1690658297;
 h=cc:to:from:subject:message-id:date:x-gm-message-state:from:to:cc
 :subject:date:message-id:reply-to;
 bh=lV79ZUpbSkbgezO5pvjRRDWDRuVLCQ287QSZaQo84qA=;
 b=Iw6O1F1P5YpCwtw7UzJ+kIyMCgYjoi5c8Vsm3GgjoiGpZtsCmQVfWT/v+gn3Jv/ARl
 vaSTuslPOtWp6rleklfuKY2E/7W6+uJ2ZZANGKfjmNmBqW+7SpNbcBN0omR0SZCcG3oJ
 9ayIvqztFzMlSIf6CmRPClRQpjQWnLrJ6aXF1DorQD9VTU0lw1t+sO86ZWenMOJt02aH
 xZjGf0A8LwEB9T8eRndgnWyattzBMkVH9qTUgGgo3Ze1q/5HBM1Ui/tqFb5b3h5Uhcj2
 tKUiVzARToetBBPMtlzCKvkwZObL7haTq0Sv/Hdyco3I9tt9TvW9MQmyqh5y2QZ2AWab
 otOw==
X-Gm-Message-State: ABy/qLbGzMSVQyyhBNmYSIGpBi89cnES4nJt8rFai2sJtJItAqbL1g2M
 nnKszyxz3DC4sqkOOBB9TGStarORiLSXQmA8zTnOLUJqp9eewyyyVHNdDA==
X-Google-Smtp-Source: APBJJlHvD+NdDA1DSzyxjIsrZ5M2lmSxmziDchhNEtsvtCrpu/ksEPdoGkjvaTwMg/oLii3C9Tx2T/Nnnh3G
X-Received: by 2002:a25:f605:0:b0:c23:7c91:7567 with SMTP id
 t5-20020a25f605000000b00c237c917567mr666864ybd.8.1688066296834; 
 Thu, 29 Jun 2023 12:18:16 -0700 (PDT)
Received: from postal.iol.unh.edu (postal.iol.unh.edu. [132.177.123.84])
 by smtp-relay.gmail.com with ESMTPS id
 w127-20020a254985000000b00ba31cf05555sm1097303yba.13.2023.06.29.12.18.16
 (version=TLS1_2 cipher=ECDHE-ECDSA-AES128-GCM-SHA256 bits=128/128);
 Thu, 29 Jun 2023 12:18:16 -0700 (PDT)
X-Relaying-Domain: iol.unh.edu
Date: Thu, 29 Jun 2023 12:18:16 -0700 (PDT)
Message-ID: <649dd8f8.250a0220.afbdc.e20dSMTPIN_ADDED_MISSING@mx.google.com>
Received: from [172.17.0.3] (unknown [172.18.0.34])
 by postal.iol.unh.edu (Postfix) with ESMTP id 899CC605246B;
 Thu, 29 Jun 2023 15:18:16 -0400 (EDT)
Subject: |SUCCESS| pw129125 [PATCH] net/mlx5: share QUOTA indirect action
From: dpdklab@iol.unh.edu
To: Test Report <test-report@dpdk.org>
Cc: dpdk-test-reports@iol.unh.edu
Content-Type: text/plain
X-BeenThere: test-report@dpdk.org
X-Mailman-Version: 2.1.29
Precedence: list
List-Id: automatic DPDK test reports <test-report.dpdk.org>
List-Unsubscribe: <https://mails.dpdk.org/options/test-report>,
 <mailto:test-report-request@dpdk.org?subject=unsubscribe>
List-Archive: <http://mails.dpdk.org/archives/test-report/>
List-Post: <mailto:test-report@dpdk.org>
List-Help: <mailto:test-report-request@dpdk.org?subject=help>
List-Subscribe: <https://mails.dpdk.org/listinfo/test-report>,
 <mailto:test-report-request@dpdk.org?subject=subscribe>
Errors-To: test-report-bounces@dpdk.org

Test-Label: iol-abi-testing
Test-Status: SUCCESS
http://dpdk.org/patch/129125

_Testing PASS_

Submitter: Gregory Etelson <getelson@nvidia.com>
Date: Thursday, June 29 2023 16:48:14 
DPDK git baseline: Repo:dpdk
  Branch: master
  CommitID:93a4b3beba4ee611685148917981f846427cafb2

129125 --> testing pass

Test environment and result as below:

+-----------------+----------+
|   Environment   | abi_test |
+=================+==========+
| CentOS Stream 8 | PASS     |
+-----------------+----------+
| Debian Bullseye | PASS     |
+-----------------+----------+
| Fedora 38       | PASS     |
+-----------------+----------+
| Debian Buster   | PASS     |
+-----------------+----------+
| Fedora 37       | PASS     |
+-----------------+----------+


CentOS Stream 8
	Kernel: 4.18.0-240.10.1.el8_3.x86_64
	Compiler: gcc 8.4.1 20200928

Debian Bullseye
	Kernel: 5.4.0-122-generic
	Compiler: gcc 10.2.1-6

Fedora 38
	Kernel: Depends on container host
	Compiler: gcc 13.1.1

Debian Buster
	Kernel: 5.4.0-122-generic
	Compiler: gcc 8.3.0-6

Fedora 37
	Kernel: Depends on container host system
	Compiler: gcc 12.3.1

To view detailed results, visit:
https://lab.dpdk.org/results/dashboard/patchsets/26870/

UNH-IOL DPDK Community Lab

To manage your email subscriptions, visit: 
https://lab.dpdk.org/results/dashboard/preferences/subscriptions/